BEGIN:VCALENDAR
VERSION:2.0
PRODID:-//Diplo US - ECPv6.15.20//NONSGML v1.0//EN
CALSCALE:GREGORIAN
METHOD:PUBLISH
X-WR-CALNAME:Diplo US
X-ORIGINAL-URL:https://diplo.us
X-WR-CALDESC:Events for Diplo US
REFRESH-INTERVAL;VALUE=DURATION:PT1H
X-Robots-Tag:noindex
X-PUBLISHED-TTL:PT1H
BEGIN:VTIMEZONE
TZID:America/New_York
BEGIN:DAYLIGHT
TZOFFSETFROM:-0500
TZOFFSETTO:-0400
TZNAME:EDT
DTSTART:20190310T070000
END:DAYLIGHT
BEGIN:STANDARD
TZOFFSETFROM:-0400
TZOFFSETTO:-0500
TZNAME:EST
DTSTART:20191103T060000
END:STANDARD
BEGIN:DAYLIGHT
TZOFFSETFROM:-0500
TZOFFSETTO:-0400
TZNAME:EDT
DTSTART:20200308T070000
END:DAYLIGHT
BEGIN:STANDARD
TZOFFSETFROM:-0400
TZOFFSETTO:-0500
TZNAME:EST
DTSTART:20201101T060000
END:STANDARD
BEGIN:DAYLIGHT
TZOFFSETFROM:-0500
TZOFFSETTO:-0400
TZNAME:EDT
DTSTART:20210314T070000
END:DAYLIGHT
BEGIN:STANDARD
TZOFFSETFROM:-0400
TZOFFSETTO:-0500
TZNAME:EST
DTSTART:20211107T060000
END:STANDARD
END:VTIMEZONE
BEGIN:VEVENT
DTSTART;TZID=America/New_York:20200511T120000
DTEND;TZID=America/New_York:20200511T130000
DTSTAMP:20260425T071552
CREATED:20200509T225832Z
LAST-MODIFIED:20200509T225832Z
UID:640-1589198400-1589202000@diplo.us
SUMMARY:#SciDipTalks | Technology at the service of global health crises: Threats and opportunities
DESCRIPTION:SciTech DiploHub has partnered with other organisations to put forward 5 online sessions with leading world experts (#SciDipTalks) that will explore the role of international cooperation in the current crisis; the European response to COVID-19; the impact of cities\, and particularly Barcelona\, in global mitigation efforts; the responses to pandemics in Iberoamerica; and\, the threats and opportunities of new technologies. This is the fifth event of the #SciDipTalks series. DiploFoundation’s Katharina Höne will be among the speakers. \nAbout this webinar\nTechnology and data-driven solutions have been at the forefront of successful national responses to the current COVID-19 crisis. Furthermore\, social media platforms have been instrumental in informing\, and sometimes misinforming\, the general public about the pandemic. This session will address the role of technology in advancing global health\, with in-depth discussions about the potential impact of digital strategies on data privacy and human rights. It will also reflect upon the role technology plays during health crises\, and the responsibility of digital platforms. \nThe event will take place on Monday\, 11th May 2020 at 12:00 EDT\, online. \nSpeakers for this event include: \n\nKathleen Carley (Professor in the School of Computer Science at Carnegie Mellon University)\nXavier Ferràs (Associate Professor at ESADE Business School)\nKatharina Höne (Senior Researcher in diplomacy and new technology at DiploFoundation)\nElizabeth M. Renieris (Fellow at the Berkman Klein Center for Internet & Society at Harvard University)\nModerator: Esther Paniagua (Science and Technology Journalist)\n\nFor more information about the event and to register\, visit the dedicated webpage.
URL:https://diplo.us/event/scidiptalks-technology-at-the-service-of-global-health-crises-threats-and-opportunities/
LOCATION:Online
ATTACH;FMTTYPE=image/png:https://diplo.us/wp-content/uploads/2020/05/SciDipTalks.png
END:VEVENT
END:VCALENDAR