BEGIN:VCALENDAR
VERSION:2.0
PRODID:-//Diplo US - ECPv6.15.20//NONSGML v1.0//EN
CALSCALE:GREGORIAN
METHOD:PUBLISH
X-ORIGINAL-URL:https://diplo.us
X-WR-CALDESC:Events for Diplo US
REFRESH-INTERVAL;VALUE=DURATION:PT1H
X-Robots-Tag:noindex
X-PUBLISHED-TTL:PT1H
BEGIN:VTIMEZONE
TZID:America/New_York
BEGIN:DAYLIGHT
TZOFFSETFROM:-0500
TZOFFSETTO:-0400
TZNAME:EDT
DTSTART:20190310T070000
END:DAYLIGHT
BEGIN:STANDARD
TZOFFSETFROM:-0400
TZOFFSETTO:-0500
TZNAME:EST
DTSTART:20191103T060000
END:STANDARD
BEGIN:DAYLIGHT
TZOFFSETFROM:-0500
TZOFFSETTO:-0400
TZNAME:EDT
DTSTART:20200308T070000
END:DAYLIGHT
BEGIN:STANDARD
TZOFFSETFROM:-0400
TZOFFSETTO:-0500
TZNAME:EST
DTSTART:20201101T060000
END:STANDARD
BEGIN:DAYLIGHT
TZOFFSETFROM:-0500
TZOFFSETTO:-0400
TZNAME:EDT
DTSTART:20210314T070000
END:DAYLIGHT
BEGIN:STANDARD
TZOFFSETFROM:-0400
TZOFFSETTO:-0500
TZNAME:EST
DTSTART:20211107T060000
END:STANDARD
END:VTIMEZONE
BEGIN:VEVENT
DTSTART;TZID=America/New_York:20201125T090000
DTEND;TZID=America/New_York:20201125T103000
DTSTAMP:20260424T215204
CREATED:20201210T111019Z
LAST-MODIFIED:20201210T111909Z
UID:703-1606294800-1606300200@diplo.us
SUMMARY:RightOn #14: Our Future\, Our Voice
DESCRIPTION:[Update] The registrations for this event are closed. You can follow the event via Facebook or on YouTube live streams. \nThe struggle for climate justice and for environmental protection and conservation is a struggle for human rights. This point\, together with the reverse point – that the full enjoyment of human rights supports more effective and sustainable environmental and climate policies – has been repeatedly recognised in Human Rights Council resolutions and international environmental/climate agreements. Nevertheless\, around the world\, 93% of children live in environments where air pollution exceeds WHO guidelines. According to the UN\, the deaths of 1.7 million children under the age of five each year are due to environmental factors – notably air and water pollution and exposure to toxic substances. The impacts of environmental harm fall particularly hard on the youngest children\, as well as on indigenous children and those from low-income and marginalised communities. \n\nIn order to raise awareness on climate change\, environmental degradation and biodiversity loss\, and thereby to protect their own rights and those of their communities\, young people in particular have been at the forefront of the worldwide movements: marching peacefully and persistently; engaging in strategic litigation; helping to devise climate solutions; overturning obstacles and overcoming threats. \nTo find out more about children’s rights in the context of environment\, international efforts and youth engagement tune in on Wednesday 25 November at 14 UTC (15 CET).
URL:https://diplo.us/event/righton-14-our-future-our-voice/
LOCATION:Online
ATTACH;FMTTYPE=image/jpeg:https://diplo.us/wp-content/uploads/2020/12/Right-on-banner-IV-2-1200x675px.jpg
END:VEVENT
END:VCALENDAR