BEGIN:VCALENDAR
VERSION:2.0
PRODID:-//Diplo US - ECPv6.15.20//NONSGML v1.0//EN
CALSCALE:GREGORIAN
METHOD:PUBLISH
X-ORIGINAL-URL:https://diplo.us
X-WR-CALDESC:Events for Diplo US
REFRESH-INTERVAL;VALUE=DURATION:PT1H
X-Robots-Tag:noindex
X-PUBLISHED-TTL:PT1H
BEGIN:VTIMEZONE
TZID:America/New_York
BEGIN:DAYLIGHT
TZOFFSETFROM:-0500
TZOFFSETTO:-0400
TZNAME:EDT
DTSTART:20190310T070000
END:DAYLIGHT
BEGIN:STANDARD
TZOFFSETFROM:-0400
TZOFFSETTO:-0500
TZNAME:EST
DTSTART:20191103T060000
END:STANDARD
BEGIN:DAYLIGHT
TZOFFSETFROM:-0500
TZOFFSETTO:-0400
TZNAME:EDT
DTSTART:20200308T070000
END:DAYLIGHT
BEGIN:STANDARD
TZOFFSETFROM:-0400
TZOFFSETTO:-0500
TZNAME:EST
DTSTART:20201101T060000
END:STANDARD
BEGIN:DAYLIGHT
TZOFFSETFROM:-0500
TZOFFSETTO:-0400
TZNAME:EDT
DTSTART:20210314T070000
END:DAYLIGHT
BEGIN:STANDARD
TZOFFSETFROM:-0400
TZOFFSETTO:-0500
TZNAME:EST
DTSTART:20211107T060000
END:STANDARD
END:VTIMEZONE
BEGIN:VEVENT
DTSTART;TZID=America/New_York:20201207T110000
DTEND;TZID=America/New_York:20201207T120000
DTSTAMP:20260424T201824
CREATED:20201210T233347Z
LAST-MODIFIED:20201210T233347Z
UID:723-1607338800-1607342400@diplo.us
SUMMARY:#MeetingTomorrow: Digital Geneva 2040
DESCRIPTION:Geneva has been at the center stage of the global debate on internet governance ever since the invention of the World Wide Web at CERN in 1989. Today\, the city hosts a wide range of international organizations\, academic institutions\, and non-profit initiatives pushing the needle on critical digital issues\, as shown by a number of recent studies\, including Geneva Digital Atlas and a report by the Graduate Institute. \n\nHow can Geneva not only maintain but increase its relevance on the digital stage in the years to come? What steps does it need to take today to keep attracting stakeholders\, conferences\, and initiatives tomorrow? How can it work with other science and technology hubs around the world? \nTo kick off this conversation\, join us for a panel discussion with three leading figures in the fields of internet governance and technology policy: \n\nJovan Kurbalija\, Founding Director of DiploFoundation and Head of the Geneva Internet Platform\nMicheal Nelson\, Carnegie Endowment for International Peace and Georgetown University\nDavid Eaves\, Lecturer on Technology and Government at the Harvard Kennedy School\n\nJointly presented by swissnex Boston and DiploFoundation\, this event is part of the swissnex Network’s 20th-anniversary campaign nex20 to imagine the future of Switzerland.  \nFor more information and to register\, go to the official event page.
URL:https://diplo.us/event/meetingtomorrow-digital-geneva-2040/
LOCATION:Online
END:VEVENT
END:VCALENDAR