BEGIN:VCALENDAR
VERSION:2.0
PRODID:-//Diplo US - ECPv6.15.20//NONSGML v1.0//EN
CALSCALE:GREGORIAN
METHOD:PUBLISH
X-WR-CALNAME:Diplo US
X-ORIGINAL-URL:https://diplo.us
X-WR-CALDESC:Events for Diplo US
REFRESH-INTERVAL;VALUE=DURATION:PT1H
X-Robots-Tag:noindex
X-PUBLISHED-TTL:PT1H
BEGIN:VTIMEZONE
TZID:America/New_York
BEGIN:DAYLIGHT
TZOFFSETFROM:-0500
TZOFFSETTO:-0400
TZNAME:EDT
DTSTART:20200308T070000
END:DAYLIGHT
BEGIN:STANDARD
TZOFFSETFROM:-0400
TZOFFSETTO:-0500
TZNAME:EST
DTSTART:20201101T060000
END:STANDARD
BEGIN:DAYLIGHT
TZOFFSETFROM:-0500
TZOFFSETTO:-0400
TZNAME:EDT
DTSTART:20210314T070000
END:DAYLIGHT
BEGIN:STANDARD
TZOFFSETFROM:-0400
TZOFFSETTO:-0500
TZNAME:EST
DTSTART:20211107T060000
END:STANDARD
BEGIN:DAYLIGHT
TZOFFSETFROM:-0500
TZOFFSETTO:-0400
TZNAME:EDT
DTSTART:20220313T070000
END:DAYLIGHT
BEGIN:STANDARD
TZOFFSETFROM:-0400
TZOFFSETTO:-0500
TZNAME:EST
DTSTART:20221106T060000
END:STANDARD
END:VTIMEZONE
BEGIN:VEVENT
DTSTART;TZID=America/New_York:20210330T080000
DTEND;TZID=America/New_York:20210330T090000
DTSTAMP:20260424T140447
CREATED:20210224T135106Z
LAST-MODIFIED:20210224T135325Z
UID:765-1617091200-1617094800@diplo.us
SUMMARY:[Briefing #73] Internet governance in March 2021
DESCRIPTION:What were the main Internet governance updates in March 2021? How will recent updates influence the developments in upcoming months? Join us for our next monthly briefing on Tuesday\, 30th March\, at 8 am EDT\, for a round-up of the major global IG and digital policy developments. \nRegistrations are open \nRegister×\nYou receive hundreds of pieces of information on digital politics.\nWe receive them\, too.\nWe decode\, contextualise\, and analyse them.\nThen we summarise them for you. \nEvery last Tuesday of the month\, the Internet governance briefings provide a ‘zoomed-out’ update of the major global IG and digital policy developments. \nThe Internet governance in March 2021 briefing takes place on Tuesday\, 30th March\, at 8 am EDT. Join us online; fill in the registration form below to reserve your place. \nThe monthly Internet governance briefings are organised by the Geneva Internet Platform (GIP)\, a Swiss initiative run by DiploFoundation. Learn more about our monthly briefings and local hubs. To keep up-to-date with GIP events\, subscribe to our mailing list. More information at gip@diplomacy.edu. \n\nRegister
URL:https://diplo.us/event/briefing-73-internet-governance-in-march-2021/
LOCATION:Online
END:VEVENT
END:VCALENDAR