BEGIN:VCALENDAR
VERSION:2.0
PRODID:-//Diplo US - ECPv6.15.20//NONSGML v1.0//EN
CALSCALE:GREGORIAN
METHOD:PUBLISH
X-ORIGINAL-URL:https://diplo.us
X-WR-CALDESC:Events for Diplo US
REFRESH-INTERVAL;VALUE=DURATION:PT1H
X-Robots-Tag:noindex
X-PUBLISHED-TTL:PT1H
BEGIN:VTIMEZONE
TZID:America/New_York
BEGIN:DAYLIGHT
TZOFFSETFROM:-0500
TZOFFSETTO:-0400
TZNAME:EDT
DTSTART:20200308T070000
END:DAYLIGHT
BEGIN:STANDARD
TZOFFSETFROM:-0400
TZOFFSETTO:-0500
TZNAME:EST
DTSTART:20201101T060000
END:STANDARD
BEGIN:DAYLIGHT
TZOFFSETFROM:-0500
TZOFFSETTO:-0400
TZNAME:EDT
DTSTART:20210314T070000
END:DAYLIGHT
BEGIN:STANDARD
TZOFFSETFROM:-0400
TZOFFSETTO:-0500
TZNAME:EST
DTSTART:20211107T060000
END:STANDARD
BEGIN:DAYLIGHT
TZOFFSETFROM:-0500
TZOFFSETTO:-0400
TZNAME:EDT
DTSTART:20220313T070000
END:DAYLIGHT
BEGIN:STANDARD
TZOFFSETFROM:-0400
TZOFFSETTO:-0500
TZNAME:EST
DTSTART:20221106T060000
END:STANDARD
END:VTIMEZONE
BEGIN:VEVENT
DTSTART;TZID=America/New_York:20211026T080000
DTEND;TZID=America/New_York:20211026T090000
DTSTAMP:20260424T061327
CREATED:20211006T085811Z
LAST-MODIFIED:20211006T085811Z
UID:837-1635235200-1635238800@diplo.us
SUMMARY:[Briefing #79] Internet governance in October 2021
DESCRIPTION:Join us for this month’s Digital Watch Internet Governance Briefing on Tuesday\, 26th October\, at 12.00 UTC (14.00 CEST). Catch up on the major internet governance and digital policy updates from all around the globe and join our experts as they analyse the existing and emerging policy trends. \nRegistrations are open \nRegister×Catch up on the major internet governance and digital policy updates from all around the globe and join our experts as they analyse the existing and emerging policy trends. \nRegister and join the Digital Watch Internet Governance Briefing on Zoom for an interactive experience or watch our live streams on YouTube and Facebook on the last Tuesday of each month. \nFor the latest developments\, we encourage you to visit the updates page\, and register for the Digital Watch weekly newsletter which is sent by email every Friday. \nThe monthly Digital Watch Internet Governance Briefing is organised by the Geneva Internet Platform (GIP)’s Digital Watch Observatory\, a Diplo initiative. Keep up with the most recent \, in-time reports from major global digital policy events\, existing and emerging policy trends and much more! Subscribe to the Digital Watch Observatory newsletter here to receive in-time and in-depth analysis on digital policy. \nRegister
URL:https://diplo.us/event/briefing-79-internet-governance-in-october-2021/
LOCATION:Online
END:VEVENT
END:VCALENDAR