BEGIN:VCALENDAR
VERSION:2.0
PRODID:-//Diplo US - ECPv6.15.20//NONSGML v1.0//EN
CALSCALE:GREGORIAN
METHOD:PUBLISH
X-WR-CALNAME:Diplo US
X-ORIGINAL-URL:https://diplo.us
X-WR-CALDESC:Events for Diplo US
REFRESH-INTERVAL;VALUE=DURATION:PT1H
X-Robots-Tag:noindex
X-PUBLISHED-TTL:PT1H
BEGIN:VTIMEZONE
TZID:America/New_York
BEGIN:DAYLIGHT
TZOFFSETFROM:-0500
TZOFFSETTO:-0400
TZNAME:EDT
DTSTART:20200308T070000
END:DAYLIGHT
BEGIN:STANDARD
TZOFFSETFROM:-0400
TZOFFSETTO:-0500
TZNAME:EST
DTSTART:20201101T060000
END:STANDARD
BEGIN:DAYLIGHT
TZOFFSETFROM:-0500
TZOFFSETTO:-0400
TZNAME:EDT
DTSTART:20210314T070000
END:DAYLIGHT
BEGIN:STANDARD
TZOFFSETFROM:-0400
TZOFFSETTO:-0500
TZNAME:EST
DTSTART:20211107T060000
END:STANDARD
BEGIN:DAYLIGHT
TZOFFSETFROM:-0500
TZOFFSETTO:-0400
TZNAME:EDT
DTSTART:20220313T070000
END:DAYLIGHT
BEGIN:STANDARD
TZOFFSETFROM:-0400
TZOFFSETTO:-0500
TZNAME:EST
DTSTART:20221106T060000
END:STANDARD
END:VTIMEZONE
BEGIN:VEVENT
DTSTART;TZID=America/New_York:20211109T100000
DTEND;TZID=America/New_York:20211109T110000
DTSTAMP:20260424T045400
CREATED:20211108T120054Z
LAST-MODIFIED:20211108T120054Z
UID:850-1636452000-1636455600@diplo.us
SUMMARY:EAVI Conversations 2021
DESCRIPTION:The EAVI Conversations 2021 series aims to cover a wide array of contemporary themes related to media literacy\, disinformation\, democracy\, and citizenship both with experts and policymakers\, but also Youtubers and activists. \nAt the first event in the series\, EAVI Founder and Secretary General Paolo Celot will be talking to Mr Lee Hibbard (Senior Fellow\, Diplo; Administrator\, Bioethics Unit\, Council of Europe) about technology and people. \nRegistrations are open \nRegister×
URL:https://diplo.us/event/eavi-conversations-2021/
LOCATION:Online
ATTACH;FMTTYPE=image/png:https://diplo.us/wp-content/uploads/2021/11/Lee-Hibbard-Speaker-announcement-visual-6.png
END:VEVENT
END:VCALENDAR