BEGIN:VCALENDAR
VERSION:2.0
PRODID:-//Diplo US - ECPv6.15.20//NONSGML v1.0//EN
CALSCALE:GREGORIAN
METHOD:PUBLISH
X-WR-CALNAME:Diplo US
X-ORIGINAL-URL:https://diplo.us
X-WR-CALDESC:Events for Diplo US
REFRESH-INTERVAL;VALUE=DURATION:PT1H
X-Robots-Tag:noindex
X-PUBLISHED-TTL:PT1H
BEGIN:VTIMEZONE
TZID:America/New_York
BEGIN:DAYLIGHT
TZOFFSETFROM:-0500
TZOFFSETTO:-0400
TZNAME:EDT
DTSTART:20200308T070000
END:DAYLIGHT
BEGIN:STANDARD
TZOFFSETFROM:-0400
TZOFFSETTO:-0500
TZNAME:EST
DTSTART:20201101T060000
END:STANDARD
BEGIN:DAYLIGHT
TZOFFSETFROM:-0500
TZOFFSETTO:-0400
TZNAME:EDT
DTSTART:20210314T070000
END:DAYLIGHT
BEGIN:STANDARD
TZOFFSETFROM:-0400
TZOFFSETTO:-0500
TZNAME:EST
DTSTART:20211107T060000
END:STANDARD
BEGIN:DAYLIGHT
TZOFFSETFROM:-0500
TZOFFSETTO:-0400
TZNAME:EDT
DTSTART:20220313T070000
END:DAYLIGHT
BEGIN:STANDARD
TZOFFSETFROM:-0400
TZOFFSETTO:-0500
TZNAME:EST
DTSTART:20221106T060000
END:STANDARD
END:VTIMEZONE
BEGIN:VEVENT
DTSTART;TZID=America/New_York:20211130T080000
DTEND;TZID=America/New_York:20211130T090000
DTSTAMP:20260424T032314
CREATED:20211108T121818Z
LAST-MODIFIED:20211108T121818Z
UID:856-1638259200-1638262800@diplo.us
SUMMARY:Monthly Internet Governance Briefing – November 2021
DESCRIPTION:Join us for this month’s Digital Watch Internet Governance Briefing on Tuesday\, 30th November\, at 8.00 EST. Catch up on the major internet governance and digital policy updates from all around the globe and join our experts as they analyse the existing and emerging policy trends. \nCatch up on the major internet governance and digital policy updates from all around the globe and join our experts as they analyse the existing and emerging policy trends. \nRegister and join the Digital Watch Internet Governance Briefing on Zoom for an interactive experience or watch our live streams on YouTube and Facebook on the last Tuesday of each month. \nRegistrations are open \nRegister×
URL:https://diplo.us/event/monthly-internet-governance-briefing-november-2021/
LOCATION:Online
END:VEVENT
END:VCALENDAR