BEGIN:VCALENDAR
VERSION:2.0
PRODID:-//Diplo US - ECPv6.15.20//NONSGML v1.0//EN
CALSCALE:GREGORIAN
METHOD:PUBLISH
X-ORIGINAL-URL:https://diplo.us
X-WR-CALDESC:Events for Diplo US
REFRESH-INTERVAL;VALUE=DURATION:PT1H
X-Robots-Tag:noindex
X-PUBLISHED-TTL:PT1H
BEGIN:VTIMEZONE
TZID:America/New_York
BEGIN:DAYLIGHT
TZOFFSETFROM:-0500
TZOFFSETTO:-0400
TZNAME:EDT
DTSTART:20200308T070000
END:DAYLIGHT
BEGIN:STANDARD
TZOFFSETFROM:-0400
TZOFFSETTO:-0500
TZNAME:EST
DTSTART:20201101T060000
END:STANDARD
BEGIN:DAYLIGHT
TZOFFSETFROM:-0500
TZOFFSETTO:-0400
TZNAME:EDT
DTSTART:20210314T070000
END:DAYLIGHT
BEGIN:STANDARD
TZOFFSETFROM:-0400
TZOFFSETTO:-0500
TZNAME:EST
DTSTART:20211107T060000
END:STANDARD
BEGIN:DAYLIGHT
TZOFFSETFROM:-0500
TZOFFSETTO:-0400
TZNAME:EDT
DTSTART:20220313T070000
END:DAYLIGHT
BEGIN:STANDARD
TZOFFSETFROM:-0400
TZOFFSETTO:-0500
TZNAME:EST
DTSTART:20221106T060000
END:STANDARD
END:VTIMEZONE
BEGIN:VEVENT
DTSTART;TZID=America/New_York:20211214T070000
DTEND;TZID=America/New_York:20211214T080000
DTSTAMP:20260424T032344
CREATED:20211206T085551Z
LAST-MODIFIED:20211206T090708Z
UID:870-1639465200-1639468800@diplo.us
SUMMARY:Digital standards\, China\, and geopolitics: What is at stake?
DESCRIPTION:Event date: Tuesday\, 14th December\, 07:00–08:00 EST\n \nOur world is made up of standards\, sets of rules that tell us how to do something. They exist in every field\, including healthcare\, aerospace\, construction\, measurement\, and technology and the Internet\, where they are called digital standards. \nChina has recently shown increased participation in standard developing organisations (SDOs)\, which can be understood as a natural consequence of the country’s rapid technological development\, and an indication that Chinese actors prefer to engage in organisations that underpin international order. \nOn the one hand\, there is hope that Chinese involvement may strengthen the adoption of international standards within China. On the other hand\, there are growing concerns that China’s increased participation may be guided by goals of national political and economic projection – of the state and its private actors – that would trump goals of technical efficiency. \nTwo specific proposals put forward by Chinese actors at the International Telecommunication Union (ITU) that have attracted significant media attention will be covered in our discussion: a proposal for ITU-T to take up work on designing a new protocol (the ‘New IP’ proposal) and a proposal for standardising facial recognition systems in visual surveillance. \nThe Geneva office of the Konrad Adenauer Foundation commissioned a study assessing the role of China in SDOs\, with a specific focus on Geneva-based organisations. The report\, which also looks at the broader digital standardisation ecosystem\, will be available for download\, free of charge\, at the event. \nRegistrations are open \nRegister×\nSpeakers:\n\nMr Olaf Wientzek\, Director\, Geneva office of the Konrad Adenauer Foundation\nDr Jovan Kurbalija\, Director\, Diplo\, and Head\, Geneva Internet Platform\nMs Sorina Teleanu\, Senior Researcher and lead author of the presented study\, Diplo\n\nThe event will be fully virtual. \nBackground reading:\n\nDigital Standards\nDigital Standardisation Tour of Geneva \n\n\nRegister
URL:https://diplo.us/event/digital-standards-china-and-geopolitics-what-is-at-stake/
LOCATION:Online
END:VEVENT
END:VCALENDAR