BEGIN:VCALENDAR
VERSION:2.0
PRODID:-//Diplo US - ECPv6.15.20//NONSGML v1.0//EN
CALSCALE:GREGORIAN
METHOD:PUBLISH
X-WR-CALNAME:Diplo US
X-ORIGINAL-URL:https://diplo.us
X-WR-CALDESC:Events for Diplo US
REFRESH-INTERVAL;VALUE=DURATION:PT1H
X-Robots-Tag:noindex
X-PUBLISHED-TTL:PT1H
BEGIN:VTIMEZONE
TZID:America/New_York
BEGIN:DAYLIGHT
TZOFFSETFROM:-0500
TZOFFSETTO:-0400
TZNAME:EDT
DTSTART:20210314T070000
END:DAYLIGHT
BEGIN:STANDARD
TZOFFSETFROM:-0400
TZOFFSETTO:-0500
TZNAME:EST
DTSTART:20211107T060000
END:STANDARD
BEGIN:DAYLIGHT
TZOFFSETFROM:-0500
TZOFFSETTO:-0400
TZNAME:EDT
DTSTART:20220313T070000
END:DAYLIGHT
BEGIN:STANDARD
TZOFFSETFROM:-0400
TZOFFSETTO:-0500
TZNAME:EST
DTSTART:20221106T060000
END:STANDARD
BEGIN:DAYLIGHT
TZOFFSETFROM:-0500
TZOFFSETTO:-0400
TZNAME:EDT
DTSTART:20230312T070000
END:DAYLIGHT
BEGIN:STANDARD
TZOFFSETFROM:-0400
TZOFFSETTO:-0500
TZNAME:EST
DTSTART:20231105T060000
END:STANDARD
END:VTIMEZONE
BEGIN:VEVENT
DTSTART;TZID=America/New_York:20220107T043000
DTEND;TZID=America/New_York:20220117T053000
DTSTAMP:20260424T014029
CREATED:20220101T133542Z
LAST-MODIFIED:20220131T134453Z
UID:891-1641529800-1642397400@diplo.us
SUMMARY:Digital Diplomacy in 2022: Capacity Development for Namibian Diplomacy
DESCRIPTION:AI\, Data\, and Social Media in Geopolitics\, Foreign Policy\, and Negotiations\nCapacity Development for Namibia’s Diplomacy\n7 – 17 January 2022 \nThe rising interest in digital diplomacy reflects the importance of digitisation for the future of nations around the world. Countries seek to shape their destiny as technology affects every aspect of our lives\, from war and peace\, through lifestyle and work to our very survival. The COVID-19 crisis has vividly demonstrated the critical relevance of digital infrastructure for modern society. \nDigital diplomacy will be discussed from three perspectives during capacity development: \n\nhow countries can advance their interest in digital geopolitics and geoeconomics\nhow diplomatic services can negotiate new digital topics such as cybersecurity and e-commerce in multilateral and bilateral negotiations\nhow ministries of foreign affairs can make use of new digital tools such as social media\, online conferencing\, data\, and artificial intelligence.\n\n\nProgramme\n\n7 January (9:30 – 10:30 – Malta | 10:30 – 11:30 – Namibia)\nHigh-level event for ambassadors and leadership of the Namibian diplomatic service \nWelcome statements by \n\nHon. Netumbo Nandi-Ndaitwah\, Deputy Prime Minister and Minister of International Relations and Cooperation of Namibia\nHon. Evarist Bartolo\, Minister of Foreign and European Affairs of Malta\nHon. Peya Mushelenga\, Minister of Information and Communication of Namibia\n\n\nPresentation by\nProf. Jovan Kurbalija\, Director of DiploFoundation\n\n\n11 – 14 January\nJust-in-time course on digital diplomacy for Namibian diplomats focusing on: \n\ndigital geopolitics and geoeconomics\nnew digital topics on the diplomatic agenda\nnew digital tools for diplomatic activities\n\nParticipants will consult course materials online with daily online consultations via Zoom (14:00 – 15:00 – Malta | 15:00 – 16:00 – Namibia time). Participants can register here https://forms.gle/ZViVLrq2CwmcTeM27. \n17 January (14:00 – 15:00 CET – Malta | 15:00 – 16:00 – Namibia)\nConcluding and certification session \nOrganised by \nDiploFoundation \nIn partnership with \nMinistry of Foreign and European Affairs of Malta \nMinistry of International Relations and Cooperation of Namibia
URL:https://diplo.us/event/digital-diplomacy-in-2022-capacity-development-for-namibian-diplomacy/
LOCATION:Online
END:VEVENT
END:VCALENDAR