BEGIN:VCALENDAR
VERSION:2.0
PRODID:-//Diplo US - ECPv6.15.20//NONSGML v1.0//EN
CALSCALE:GREGORIAN
METHOD:PUBLISH
X-WR-CALNAME:Diplo US
X-ORIGINAL-URL:https://diplo.us
X-WR-CALDESC:Events for Diplo US
REFRESH-INTERVAL;VALUE=DURATION:PT1H
X-Robots-Tag:noindex
X-PUBLISHED-TTL:PT1H
BEGIN:VTIMEZONE
TZID:America/New_York
BEGIN:DAYLIGHT
TZOFFSETFROM:-0500
TZOFFSETTO:-0400
TZNAME:EDT
DTSTART:20210314T070000
END:DAYLIGHT
BEGIN:STANDARD
TZOFFSETFROM:-0400
TZOFFSETTO:-0500
TZNAME:EST
DTSTART:20211107T060000
END:STANDARD
BEGIN:DAYLIGHT
TZOFFSETFROM:-0500
TZOFFSETTO:-0400
TZNAME:EDT
DTSTART:20220313T070000
END:DAYLIGHT
BEGIN:STANDARD
TZOFFSETFROM:-0400
TZOFFSETTO:-0500
TZNAME:EST
DTSTART:20221106T060000
END:STANDARD
BEGIN:DAYLIGHT
TZOFFSETFROM:-0500
TZOFFSETTO:-0400
TZNAME:EDT
DTSTART:20230312T070000
END:DAYLIGHT
BEGIN:STANDARD
TZOFFSETFROM:-0400
TZOFFSETTO:-0500
TZNAME:EST
DTSTART:20231105T060000
END:STANDARD
END:VTIMEZONE
BEGIN:VEVENT
DTSTART;TZID=America/New_York:20220125T080000
DTEND;TZID=America/New_York:20220125T090000
DTSTAMP:20260424T014029
CREATED:20220105T135259Z
LAST-MODIFIED:20220131T135312Z
UID:893-1643097600-1643101200@diplo.us
SUMMARY:[Briefing #81] What’s in store for digital policy in 2022?
DESCRIPTION:Join us for the next IG Briefing\, on Tuesday\, 22nd February\, at 13.00 UTC (14.00 CET). Register \nRead the article: 10 Digital Diplomacy and Governance Trends for 2022 \n\nEvent description\nAs is now tradition\, our first briefing of the year will focus on predictions for the year ahead of us. What lies in store for 2022? What are the top trends to keep an eye on? \nCatch up on the major internet governance and digital policy updates and join our experts as they analyse the existing and emerging policy trends\, on Tuesday\, 25th January\, at 8 am (14.00 CET). \nRegister and join the Digital Watch Internet Governance Briefing on Zoom for an interactive experience or watch our live streams on YouTube and Facebook on the last Tuesday of each month. \nFor the latest developments in digital policy\, we encourage you to visit the updates page on our observatory\, and register for the Digital Watch weekly newsletter which is sent by email every Friday. \nThe monthly Digital Watch Internet Governance Briefing is organised by the Geneva Internet Platform (GIP)’s Digital Watch Observatory\, a Diplo initiative.
URL:https://diplo.us/event/briefing-81-whats-in-store-for-digital-policy-in-2022/
LOCATION:Online
END:VEVENT
END:VCALENDAR