BEGIN:VCALENDAR
VERSION:2.0
PRODID:-//Diplo US - ECPv6.15.20//NONSGML v1.0//EN
CALSCALE:GREGORIAN
METHOD:PUBLISH
X-ORIGINAL-URL:https://diplo.us
X-WR-CALDESC:Events for Diplo US
REFRESH-INTERVAL;VALUE=DURATION:PT1H
X-Robots-Tag:noindex
X-PUBLISHED-TTL:PT1H
BEGIN:VTIMEZONE
TZID:America/New_York
BEGIN:DAYLIGHT
TZOFFSETFROM:-0500
TZOFFSETTO:-0400
TZNAME:EDT
DTSTART:20210314T070000
END:DAYLIGHT
BEGIN:STANDARD
TZOFFSETFROM:-0400
TZOFFSETTO:-0500
TZNAME:EST
DTSTART:20211107T060000
END:STANDARD
BEGIN:DAYLIGHT
TZOFFSETFROM:-0500
TZOFFSETTO:-0400
TZNAME:EDT
DTSTART:20220313T070000
END:DAYLIGHT
BEGIN:STANDARD
TZOFFSETFROM:-0400
TZOFFSETTO:-0500
TZNAME:EST
DTSTART:20221106T060000
END:STANDARD
BEGIN:DAYLIGHT
TZOFFSETFROM:-0500
TZOFFSETTO:-0400
TZNAME:EDT
DTSTART:20230312T070000
END:DAYLIGHT
BEGIN:STANDARD
TZOFFSETFROM:-0400
TZOFFSETTO:-0500
TZNAME:EST
DTSTART:20231105T060000
END:STANDARD
END:VTIMEZONE
BEGIN:VEVENT
DTSTART;TZID=America/New_York:20220201T070000
DTEND;TZID=America/New_York:20220201T203000
DTSTAMP:20260424T001003
CREATED:20220114T070214Z
LAST-MODIFIED:20220131T070401Z
UID:883-1643698800-1643747400@diplo.us
SUMMARY:7th Geneva Engage Awards – What is Geneva’s digital footprint?
DESCRIPTION:The annual Geneva Engage Awards recognise International Geneva actors in their social media outreach and online engagement. Geneva Engage examines Geneva’s global footprint by looking at social media engagement of Geneva-based organisations\, and Geneva’s web relevance and online meetings. \nUltimately\, Geneva Engage examines the links between International Geneva and communities from around the world that are affected by the policies discussed and negotiated in Geneva in areas such as development\, human rights\, and digital issues. \nThe three categories of the Geneva Engage Awards are: \n\nInternational Organisations\nNon-Governmental Organisations and Associations\nPermanent Representations to the UN in Geneva\n\nThe 2022 Geneva Engage award for Non-Governmental Organisations and Associations will be dedicated to the memory of internet pioneer Ian Peter (1948–2021). This is particularly relevant and important in recognition of Ian’s lifelong commitment to civil society engagement in use of the internet for communication in support of marginalised and vulnerable groups. For more information about Ian\, see: \nIn Memoriam: Ian Peter (9/6/1948 – 26/12/2021) \nIn memory of Ian Peter\, internet pioneer and visionary thinker… \nFarewell to visionary\, Ian Peter \nIan Peter’s weblog \nIn 2020\, a new award was introduced for online meetings. \nJoin us on Tuesday\, 1st February 2022\, 7 am –8:30 am (12:00–13:30 UTC). \nFor more information\, visit the dedicated page.
URL:https://diplo.us/event/7th-geneva-engage-awards-what-is-genevas-digital-footprint/
LOCATION:Online
ATTACH;FMTTYPE=image/jpeg:https://diplo.us/wp-content/uploads/2022/01/Geneva-Engage-awards-2022-banner-1200x675px.jpg
END:VEVENT
END:VCALENDAR