BEGIN:VCALENDAR
VERSION:2.0
PRODID:-//Diplo US - ECPv6.15.20//NONSGML v1.0//EN
CALSCALE:GREGORIAN
METHOD:PUBLISH
X-WR-CALNAME:Diplo US
X-ORIGINAL-URL:https://diplo.us
X-WR-CALDESC:Events for Diplo US
REFRESH-INTERVAL;VALUE=DURATION:PT1H
X-Robots-Tag:noindex
X-PUBLISHED-TTL:PT1H
BEGIN:VTIMEZONE
TZID:America/New_York
BEGIN:DAYLIGHT
TZOFFSETFROM:-0500
TZOFFSETTO:-0400
TZNAME:EDT
DTSTART:20210314T070000
END:DAYLIGHT
BEGIN:STANDARD
TZOFFSETFROM:-0400
TZOFFSETTO:-0500
TZNAME:EST
DTSTART:20211107T060000
END:STANDARD
BEGIN:DAYLIGHT
TZOFFSETFROM:-0500
TZOFFSETTO:-0400
TZNAME:EDT
DTSTART:20220313T070000
END:DAYLIGHT
BEGIN:STANDARD
TZOFFSETFROM:-0400
TZOFFSETTO:-0500
TZNAME:EST
DTSTART:20221106T060000
END:STANDARD
BEGIN:DAYLIGHT
TZOFFSETFROM:-0500
TZOFFSETTO:-0400
TZNAME:EDT
DTSTART:20230312T070000
END:DAYLIGHT
BEGIN:STANDARD
TZOFFSETFROM:-0400
TZOFFSETTO:-0500
TZNAME:EST
DTSTART:20231105T060000
END:STANDARD
END:VTIMEZONE
BEGIN:VEVENT
DTSTART;TZID=America/New_York:20220426T040000
DTEND;TZID=America/New_York:20220426T050000
DTSTAMP:20260423T202714
CREATED:20220426T064701Z
LAST-MODIFIED:20220426T064701Z
UID:952-1650945600-1650949200@diplo.us
SUMMARY:‘Promoting inclusive data policy through capacity building’ – UNCTAD eCommerce Week 2022
DESCRIPTION:Trade negotiations contribute significantly to shaping the norms that will govern cross-border data flows. These norms are being designed by only a few countries that function as normative hubs. Active engagement in negotiations is of the utmost importance for developing countries and least-developed countries\, so they can voice their development-oriented priorities. \nThis session will bring together a diverse group of experts to reflect upon the ways in which capacity building can empower developing actors in the context of policy discussions on data flows. It will be guided by questions that aim to distil concrete action points to be taken on board by providers of capacity building. Click here for more details on this session \n\nDiplo is also co-organising a session with CUTS International and the UN Industrial Development Organization (UNIDO) on Whether ‘data localisation’ and ‘national champion’ approach would lead to an inclusive digital economy. The session will be held  on Wednesday\, 27th April\, 10:00–11:00 CEST. Marilia Maciel (Head – Digital Commerce and Internet Policy\, Diplo) will participate as a speaker. Read more about this session. \nThese sessions are part of the UNCTAD eCommerce Week 2022. \n\nThe Geneva Internet Platform is once again partnering with UNCTAD to deliver coverage on a selection of thematic sessions from this year’s eCommerce Week. Reports will be uploaded on the dedicated page when available. \nRegister
URL:https://diplo.us/event/promoting-inclusive-data-policy-through-capacity-building-unctad-ecommerce-week-2022/
LOCATION:Online
END:VEVENT
BEGIN:VEVENT
DTSTART;TZID=America/New_York:20220426T080000
DTEND;TZID=America/New_York:20220426T090000
DTSTAMP:20260423T202714
CREATED:20220405T061944Z
LAST-MODIFIED:20220426T064922Z
UID:949-1650960000-1650963600@diplo.us
SUMMARY:[Briefing #84] Internet governance in April 2022
DESCRIPTION:As April is coming to an end\, we look back at the main digital policy highlights of the past weeks. \nThe UN Open-Ended Working Group (OEWG) held its second substantive session\, discussing the responsible behaviour of states in cyberspace. However\, the discussions on substantive issues were overshadowed by disagreements over possible models for multistakeholder engagement. \nA week after the OEWG meeting\, US and Russia cyber relations took a hit as the USA pulled out of bilateral cyber talks\, putting a stop to a period of cyber detente. \nThis month’s Internet Governance Briefing offers a broad perspective and a deeper analysis. As always\, the event will include our Digital Policy Barometer shaped by other updates in April. \nRegister to join us at the Digital Watch Internet Governance Briefing on Tuesday\, 26th April\, at 12.00 UTC (14.00 CEST). \n\nWant to learn more about the UN OEWG’s second substantive session? Visit our dedicated page \nRegister
URL:https://diplo.us/event/briefing-84-internet-governance-in-april-2022/
LOCATION:Online
ATTACH;FMTTYPE=image/jpeg:https://diplo.us/wp-content/uploads/2022/01/5d16798f-adbe-423b-a123-317afba70e1e.jpg
END:VEVENT
END:VCALENDAR