BEGIN:VCALENDAR
VERSION:2.0
PRODID:-//Diplo US - ECPv6.15.20//NONSGML v1.0//EN
CALSCALE:GREGORIAN
METHOD:PUBLISH
X-ORIGINAL-URL:https://diplo.us
X-WR-CALDESC:Events for Diplo US
REFRESH-INTERVAL;VALUE=DURATION:PT1H
X-Robots-Tag:noindex
X-PUBLISHED-TTL:PT1H
BEGIN:VTIMEZONE
TZID:America/New_York
BEGIN:DAYLIGHT
TZOFFSETFROM:-0500
TZOFFSETTO:-0400
TZNAME:EDT
DTSTART:20210314T070000
END:DAYLIGHT
BEGIN:STANDARD
TZOFFSETFROM:-0400
TZOFFSETTO:-0500
TZNAME:EST
DTSTART:20211107T060000
END:STANDARD
BEGIN:DAYLIGHT
TZOFFSETFROM:-0500
TZOFFSETTO:-0400
TZNAME:EDT
DTSTART:20220313T070000
END:DAYLIGHT
BEGIN:STANDARD
TZOFFSETFROM:-0400
TZOFFSETTO:-0500
TZNAME:EST
DTSTART:20221106T060000
END:STANDARD
BEGIN:DAYLIGHT
TZOFFSETFROM:-0500
TZOFFSETTO:-0400
TZNAME:EDT
DTSTART:20230312T070000
END:DAYLIGHT
BEGIN:STANDARD
TZOFFSETFROM:-0400
TZOFFSETTO:-0500
TZNAME:EST
DTSTART:20231105T060000
END:STANDARD
END:VTIMEZONE
BEGIN:VEVENT
DTSTART;TZID=America/New_York:20220531T080000
DTEND;TZID=America/New_York:20220531T090000
DTSTAMP:20260423T190309
CREATED:20220426T104234Z
LAST-MODIFIED:20220426T104300Z
UID:955-1653984000-1653987600@diplo.us
SUMMARY:[Briefing #85] Internet governance in May 2022
DESCRIPTION:​​Join us for May’s Digital Watch Internet Governance Briefing on Tuesday\, 31st May\, at 8.00 EDT (14.00 CEST). \nCatch up on the major internet governance and digital policy updates from all around the globe and join our experts as they analyse the existing and emerging policy trends. \nRegister and join the Digital Watch Internet Governance Briefing on Zoom for an interactive experience or watch our live streams on YouTube and Facebook on the last Tuesday of each month. \nRegister
URL:https://diplo.us/event/briefing-85-internet-governance-in-may-2022/
LOCATION:Online
ATTACH;FMTTYPE=image/jpeg:https://diplo.us/wp-content/uploads/2022/01/5d16798f-adbe-423b-a123-317afba70e1e.jpg
END:VEVENT
END:VCALENDAR