BEGIN:VCALENDAR
VERSION:2.0
PRODID:-//Diplo US - ECPv6.15.18//NONSGML v1.0//EN
CALSCALE:GREGORIAN
METHOD:PUBLISH
X-WR-CALNAME:Diplo US
X-ORIGINAL-URL:https://diplo.us
X-WR-CALDESC:Events for Diplo US
REFRESH-INTERVAL;VALUE=DURATION:PT1H
X-Robots-Tag:noindex
X-PUBLISHED-TTL:PT1H
BEGIN:VTIMEZONE
TZID:America/New_York
BEGIN:DAYLIGHT
TZOFFSETFROM:-0500
TZOFFSETTO:-0400
TZNAME:EDT
DTSTART:20210314T070000
END:DAYLIGHT
BEGIN:STANDARD
TZOFFSETFROM:-0400
TZOFFSETTO:-0500
TZNAME:EST
DTSTART:20211107T060000
END:STANDARD
BEGIN:DAYLIGHT
TZOFFSETFROM:-0500
TZOFFSETTO:-0400
TZNAME:EDT
DTSTART:20220313T070000
END:DAYLIGHT
BEGIN:STANDARD
TZOFFSETFROM:-0400
TZOFFSETTO:-0500
TZNAME:EST
DTSTART:20221106T060000
END:STANDARD
BEGIN:DAYLIGHT
TZOFFSETFROM:-0500
TZOFFSETTO:-0400
TZNAME:EDT
DTSTART:20230312T070000
END:DAYLIGHT
BEGIN:STANDARD
TZOFFSETFROM:-0400
TZOFFSETTO:-0500
TZNAME:EST
DTSTART:20231105T060000
END:STANDARD
END:VTIMEZONE
BEGIN:VEVENT
DTSTART;TZID=America/New_York:20221007T040000
DTEND;TZID=America/New_York:20221007T130000
DTSTAMP:20260423T121347
CREATED:20221007T121808Z
LAST-MODIFIED:20221007T121808Z
UID:1001-1665115200-1665147600@diplo.us
SUMMARY:Summit on Digital Diplomacy and Governance
DESCRIPTION:Technology is having a profound impact on the core functions of diplomacy. The role of diplomacy in the digital era is changing: from geopolitical and societal changes in the environment where diplomacy operates\, to new issues on diplomatic agendas\, to new digital tools aiding the work of diplomats. \nThe Summit on Digital Diplomacy and Governance\, organised by DiploFoundation in cooperation with Malta’s Ministry for Foreign and European Affairs and Trade and the Swiss Federal Department of Foreign Affairs\, will look ahead at the future of diplomacy by reflecting on the past decades\, marked by the use of technology in and for diplomacy. \nRegistrations are open \nRegister×\nDiplomats\, academics\, technologists\, and NGO representatives will also discuss digital diplomacy and governance\, AI\, e-commerce\, cybersecurity\, and other issues that shape our digital future\, as well as policy processes including ongoing negotiations on the proposed Global Digital Compact. \nThe Summit\, which will also mark 20 years of DiploFoundation and 30 years of internet and diplomacy research and training in Malta\, will take place in Malta on Friday 18th November and Saturday 19th November 2022\, and will be preceded by a pre-event on Thursday\, 17th November 2022. \nVisit the Summit website to learn more and to participate. Visit also the Diploversary page to find out more about Diplo’s history. For queries and press contacts\, write to us at malta@diplomacy.edu \n\nRegister
URL:https://diplo.us/event/summit-on-digital-diplomacy-and-governance/
LOCATION:Online
ATTACH;FMTTYPE=image/jpeg:https://diplo.us/wp-content/uploads/2022/10/Summit-on-Digital-Diplomacy-MALTA_banner-1920x1080px_header-banner-1.jpg
END:VEVENT
END:VCALENDAR