BEGIN:VCALENDAR
VERSION:2.0
PRODID:-//Diplo US - ECPv6.15.18//NONSGML v1.0//EN
CALSCALE:GREGORIAN
METHOD:PUBLISH
X-ORIGINAL-URL:https://diplo.us
X-WR-CALDESC:Events for Diplo US
REFRESH-INTERVAL;VALUE=DURATION:PT1H
X-Robots-Tag:noindex
X-PUBLISHED-TTL:PT1H
BEGIN:VTIMEZONE
TZID:America/New_York
BEGIN:DAYLIGHT
TZOFFSETFROM:-0500
TZOFFSETTO:-0400
TZNAME:EDT
DTSTART:20210314T070000
END:DAYLIGHT
BEGIN:STANDARD
TZOFFSETFROM:-0400
TZOFFSETTO:-0500
TZNAME:EST
DTSTART:20211107T060000
END:STANDARD
BEGIN:DAYLIGHT
TZOFFSETFROM:-0500
TZOFFSETTO:-0400
TZNAME:EDT
DTSTART:20220313T070000
END:DAYLIGHT
BEGIN:STANDARD
TZOFFSETFROM:-0400
TZOFFSETTO:-0500
TZNAME:EST
DTSTART:20221106T060000
END:STANDARD
BEGIN:DAYLIGHT
TZOFFSETFROM:-0500
TZOFFSETTO:-0400
TZNAME:EDT
DTSTART:20230312T070000
END:DAYLIGHT
BEGIN:STANDARD
TZOFFSETFROM:-0400
TZOFFSETTO:-0500
TZNAME:EST
DTSTART:20231105T060000
END:STANDARD
END:VTIMEZONE
BEGIN:VEVENT
DTSTART;VALUE=DATE:20221009
DTEND;VALUE=DATE:20221014
DTSTAMP:20260423T120906
CREATED:20221007T085604Z
LAST-MODIFIED:20221007T120914Z
UID:998-1665345600-1665691199@diplo.us
SUMMARY:AI Policy Summit 2022
DESCRIPTION:RegHorizon and ETH Zurich’s Center for Law and Economics have partnered since 2019 to create an unbiased platform for a timely multi-stakeholder discussion among policy makers\, academia\, business and society focussing on challenges that AI technologies pose and exploring relevant policy solutions to address them. \nThe 3rd AI Policy Conference continues the multistakeholder dialogue started last year with leading experts to explore the use of public policy and societal engagement to capture the benefits of artificial intelligence\, minimize its risks and enhance its adoption. \nThe Conference offers a unique opportunity for a truly multi-stakeholder exchange among high level policymakers\, business leaders\, civil society\, and academia to discuss and co-create the future of AI policies and build AI Policy together for a better world! \nRegister
URL:https://diplo.us/event/ai-policy-summit-2022/
LOCATION:Online
ATTACH;FMTTYPE=image/jpeg:https://diplo.us/wp-content/uploads/2022/10/AI-Policy-Summit-2022.jpg
END:VEVENT
END:VCALENDAR