BEGIN:VCALENDAR
VERSION:2.0
PRODID:-//Diplo US - ECPv6.15.18//NONSGML v1.0//EN
CALSCALE:GREGORIAN
METHOD:PUBLISH
X-ORIGINAL-URL:https://diplo.us
X-WR-CALDESC:Events for Diplo US
REFRESH-INTERVAL;VALUE=DURATION:PT1H
X-Robots-Tag:noindex
X-PUBLISHED-TTL:PT1H
BEGIN:VTIMEZONE
TZID:America/New_York
BEGIN:DAYLIGHT
TZOFFSETFROM:-0500
TZOFFSETTO:-0400
TZNAME:EDT
DTSTART:20210314T070000
END:DAYLIGHT
BEGIN:STANDARD
TZOFFSETFROM:-0400
TZOFFSETTO:-0500
TZNAME:EST
DTSTART:20211107T060000
END:STANDARD
BEGIN:DAYLIGHT
TZOFFSETFROM:-0500
TZOFFSETTO:-0400
TZNAME:EDT
DTSTART:20220313T070000
END:DAYLIGHT
BEGIN:STANDARD
TZOFFSETFROM:-0400
TZOFFSETTO:-0500
TZNAME:EST
DTSTART:20221106T060000
END:STANDARD
BEGIN:DAYLIGHT
TZOFFSETFROM:-0500
TZOFFSETTO:-0400
TZNAME:EDT
DTSTART:20230312T070000
END:DAYLIGHT
BEGIN:STANDARD
TZOFFSETFROM:-0400
TZOFFSETTO:-0500
TZNAME:EST
DTSTART:20231105T060000
END:STANDARD
END:VTIMEZONE
BEGIN:VEVENT
DTSTART;TZID=America/New_York:20221107T030000
DTEND;TZID=America/New_York:20221111T063000
DTSTAMP:20260423T110045
CREATED:20221031T094947Z
LAST-MODIFIED:20221031T095105Z
UID:1009-1667790000-1668148200@diplo.us
SUMMARY:Diplo Week in Geneva
DESCRIPTION:Event description\nWere celebrating our 20th anniversary with Diplo Week in Geneva! \nThroughout Diplo Week\, therell be a series of open-door events where you can learn all about the latest AI applications and data analysis\, how to use them in online meetings\, and brand new online teaching methods! \nLets go on a journey through Diplos ideas\, tools\, and services where you can discover how Diplo blends technology\, arts\, and diplomacy. \nMore info about Event and Registration \nRegister×Register
URL:https://diplo.us/event/diplo-week-in-geneva/
ATTACH;FMTTYPE=image/webp:https://diplo.us/wp-content/uploads/2022/10/DIPLO-20-years-banner-landing-page-blanco-1-scaled-1.webp
END:VEVENT
END:VCALENDAR