BEGIN:VCALENDAR
VERSION:2.0
PRODID:-//Diplo US - ECPv6.15.18//NONSGML v1.0//EN
CALSCALE:GREGORIAN
METHOD:PUBLISH
X-WR-CALNAME:Diplo US
X-ORIGINAL-URL:https://diplo.us
X-WR-CALDESC:Events for Diplo US
REFRESH-INTERVAL;VALUE=DURATION:PT1H
X-Robots-Tag:noindex
X-PUBLISHED-TTL:PT1H
BEGIN:VTIMEZONE
TZID:America/New_York
BEGIN:DAYLIGHT
TZOFFSETFROM:-0500
TZOFFSETTO:-0400
TZNAME:EDT
DTSTART:20220313T070000
END:DAYLIGHT
BEGIN:STANDARD
TZOFFSETFROM:-0400
TZOFFSETTO:-0500
TZNAME:EST
DTSTART:20221106T060000
END:STANDARD
BEGIN:DAYLIGHT
TZOFFSETFROM:-0500
TZOFFSETTO:-0400
TZNAME:EDT
DTSTART:20230312T070000
END:DAYLIGHT
BEGIN:STANDARD
TZOFFSETFROM:-0400
TZOFFSETTO:-0500
TZNAME:EST
DTSTART:20231105T060000
END:STANDARD
BEGIN:DAYLIGHT
TZOFFSETFROM:-0500
TZOFFSETTO:-0400
TZNAME:EDT
DTSTART:20240310T070000
END:DAYLIGHT
BEGIN:STANDARD
TZOFFSETFROM:-0400
TZOFFSETTO:-0500
TZNAME:EST
DTSTART:20241103T060000
END:STANDARD
END:VTIMEZONE
BEGIN:VEVENT
DTSTART;TZID=America/New_York:20230201T070000
DTEND;TZID=America/New_York:20230201T083000
DTSTAMP:20260423T065549
CREATED:20221226T123547Z
LAST-MODIFIED:20221226T123702Z
UID:1018-1675234800-1675240200@diplo.us
SUMMARY:8th Geneva Engage Awards
DESCRIPTION:Join us on Wednesday\, 1 February 2023\, 7 am – 8:30 am EST (12:00–13:30 UTC)\, for another edition of the Geneva Engage Awards ceremony. \nThe annual Geneva Engage Awards recognise International Geneva actors in their social media outreach and online engagement. Geneva Engage examines International Geneva’s global footprint by looking at the social media engagement of Geneva-based organisations and Geneva’s web relevance. This year\, we are also examining the links between different actors in International Geneva through connections\, mentions and interactions on social media. \nThe 8th Geneva Engage Awards will introduce a new Accessibility Award to recognise efforts to enhance website accessibility performance. \nRegistrations are open \nRegister×\nThe three categories of the Geneva Engage Awards are: \n\nInternational Organisations\nNon-Governmental Organisations and Associations\nPermanent Representations to the UN in Geneva\n\nThe Geneva Engage initiative was launched by the Geneva Internet Platform (GIP) in 2016 with the support of the Republic and Canton of Geneva and DiploFoundation. Visit the Geneva Engage Awards page for more information on methodology and to see the list of winners of the 7th Geneva Engage Awards. \n\nRegister
URL:https://diplo.us/event/8th-geneva-engage-awards/
LOCATION:Online
ATTACH;FMTTYPE=image/webp:https://diplo.us/wp-content/uploads/2022/12/8th-Geneva-Engage-Awards_banner_1920x300px_generic.webp
END:VEVENT
END:VCALENDAR