BEGIN:VCALENDAR
VERSION:2.0
PRODID:-//Diplo US - ECPv6.15.18//NONSGML v1.0//EN
CALSCALE:GREGORIAN
METHOD:PUBLISH
X-ORIGINAL-URL:https://diplo.us
X-WR-CALDESC:Events for Diplo US
REFRESH-INTERVAL;VALUE=DURATION:PT1H
X-Robots-Tag:noindex
X-PUBLISHED-TTL:PT1H
BEGIN:VTIMEZONE
TZID:America/New_York
BEGIN:DAYLIGHT
TZOFFSETFROM:-0500
TZOFFSETTO:-0400
TZNAME:EDT
DTSTART:20220313T070000
END:DAYLIGHT
BEGIN:STANDARD
TZOFFSETFROM:-0400
TZOFFSETTO:-0500
TZNAME:EST
DTSTART:20221106T060000
END:STANDARD
BEGIN:DAYLIGHT
TZOFFSETFROM:-0500
TZOFFSETTO:-0400
TZNAME:EDT
DTSTART:20230312T070000
END:DAYLIGHT
BEGIN:STANDARD
TZOFFSETFROM:-0400
TZOFFSETTO:-0500
TZNAME:EST
DTSTART:20231105T060000
END:STANDARD
BEGIN:DAYLIGHT
TZOFFSETFROM:-0500
TZOFFSETTO:-0400
TZNAME:EDT
DTSTART:20240310T070000
END:DAYLIGHT
BEGIN:STANDARD
TZOFFSETFROM:-0400
TZOFFSETTO:-0500
TZNAME:EST
DTSTART:20241103T060000
END:STANDARD
END:VTIMEZONE
BEGIN:VEVENT
DTSTART;TZID=America/New_York:20230221T030000
DTEND;TZID=America/New_York:20230221T123000
DTSTAMP:20260423T065716
CREATED:20230222T121954Z
LAST-MODIFIED:20230222T122046Z
UID:1067-1676948400-1676982600@diplo.us
SUMMARY:Information as a public good: Which platform regulation for a troubled digital era?
DESCRIPTION:Event description\nDiplo’s Dr Stephanie Borg Psaila (Director for Digital Policy) will be speaking during a side event to UNESCO’s Internet for Trust conference\, titled Information as a public good: Which platform regulation for a troubled digital era? \nThe side event\, organised by #Leplusimportant\, Académie des sciences morales et politiques\, and RadicalxChange\, will discuss the implementation of UNESCO’s guidance for regulating digital platforms\, which UNESCO has just published in draft format. \nThe event will take place on Tuesday\, 21 February. The side event will run from 3 am to 12:30 pm EST\, with Dr Borg Psaila’s roundtable scheduled for 10:20 am – 12:00 pm EST. \nRegister
URL:https://diplo.us/event/information-as-a-public-good-which-platform-regulation-for-a-troubled-digital-era/
LOCATION:Online
END:VEVENT
END:VCALENDAR