BEGIN:VCALENDAR
VERSION:2.0
PRODID:-//Diplo US - ECPv6.15.18//NONSGML v1.0//EN
CALSCALE:GREGORIAN
METHOD:PUBLISH
X-WR-CALNAME:Diplo US
X-ORIGINAL-URL:https://diplo.us
X-WR-CALDESC:Events for Diplo US
REFRESH-INTERVAL;VALUE=DURATION:PT1H
X-Robots-Tag:noindex
X-PUBLISHED-TTL:PT1H
BEGIN:VTIMEZONE
TZID:America/New_York
BEGIN:DAYLIGHT
TZOFFSETFROM:-0500
TZOFFSETTO:-0400
TZNAME:EDT
DTSTART:20220313T070000
END:DAYLIGHT
BEGIN:STANDARD
TZOFFSETFROM:-0400
TZOFFSETTO:-0500
TZNAME:EST
DTSTART:20221106T060000
END:STANDARD
BEGIN:DAYLIGHT
TZOFFSETFROM:-0500
TZOFFSETTO:-0400
TZNAME:EDT
DTSTART:20230312T070000
END:DAYLIGHT
BEGIN:STANDARD
TZOFFSETFROM:-0400
TZOFFSETTO:-0500
TZNAME:EST
DTSTART:20231105T060000
END:STANDARD
BEGIN:DAYLIGHT
TZOFFSETFROM:-0500
TZOFFSETTO:-0400
TZNAME:EDT
DTSTART:20240310T070000
END:DAYLIGHT
BEGIN:STANDARD
TZOFFSETFROM:-0400
TZOFFSETTO:-0500
TZNAME:EST
DTSTART:20241103T060000
END:STANDARD
END:VTIMEZONE
BEGIN:VEVENT
DTSTART;VALUE=DATE:20230317
DTEND;VALUE=DATE:20230318
DTSTAMP:20260423T053820
CREATED:20230303T123527Z
LAST-MODIFIED:20230303T123940Z
UID:1072-1679011200-1679097599@diplo.us
SUMMARY:Strengthening Africa’s voices in global digital processes
DESCRIPTION:Event description\nThis session is co-organised by DiploFoundation and the Geneva Internet Platform with the Permanent Missions of Djibouti\, Kenya and Namibia. The event is taking place during the World Summit on Information Society (WSIS) Forum. \nAs Africa’s digital dynamism grows\, its participation in global digital governance must increase. The continent’s involvement in global policy-making needs to more accurately reflect the dynamism of its digital transformation processes\, with growing internet penetration rates\, expanding digital economies\, and fast-evolving start-up ecosystems. \nThe digital realm cannot be developed into an enabling\, secure engine for human prosperity without Africa’s active involvement in digital diplomacy. African countries and continental and regional organisations need to mobilise human and institutional resources to enable their meaningful and long-lasting engagement in digital foreign policy and diplomacy. While most African countries are in the early stages of their digital diplomacy journey\, there are many policies\, initiatives and practices across the continent that could drive a faster take-off of digital diplomacy in Africa. \nThe session will look into how to strengthen African digital voices globally\, by leveraging what already exists\, while developing digital foreign policies for countries\, regions\, and the overall continent. \nIt will start by exploring the digital policy priorities of African countries and institutions and their involvement in global digital governance processes. After looking at the current situation\, the discussion will provide practical insights and suggestions on why and how to broaden African digital diplomacy footprint in international processes\, with a focus on those dealing with access and infrastructure\, cybersecurity\, AI and data governance. \nIn brief\, the session will outline the picture of Africa’s involvement in international policy processes in the digital realm by identifying existing building blocks and missing pieces for African digital diplomacy. It will then propose practical steps for the development of African digital diplomacy by strengthening the voices of national and regional actors in global digital diplomacy. \nRelevant WSIS Action Lines: 1.The role of governments and all stakeholders in the promotion of ICTs for development | 4. Capacity building | 6. Enabling environment | 11. International and regional cooperation \nRegister
URL:https://diplo.us/event/strengthening-africas-voices-in-global-digital-processes/
END:VEVENT
END:VCALENDAR