BEGIN:VCALENDAR
VERSION:2.0
PRODID:-//Diplo US - ECPv6.15.18//NONSGML v1.0//EN
CALSCALE:GREGORIAN
METHOD:PUBLISH
X-ORIGINAL-URL:https://diplo.us
X-WR-CALDESC:Events for Diplo US
REFRESH-INTERVAL;VALUE=DURATION:PT1H
X-Robots-Tag:noindex
X-PUBLISHED-TTL:PT1H
BEGIN:VTIMEZONE
TZID:America/New_York
BEGIN:DAYLIGHT
TZOFFSETFROM:-0500
TZOFFSETTO:-0400
TZNAME:EDT
DTSTART:20220313T070000
END:DAYLIGHT
BEGIN:STANDARD
TZOFFSETFROM:-0400
TZOFFSETTO:-0500
TZNAME:EST
DTSTART:20221106T060000
END:STANDARD
BEGIN:DAYLIGHT
TZOFFSETFROM:-0500
TZOFFSETTO:-0400
TZNAME:EDT
DTSTART:20230312T070000
END:DAYLIGHT
BEGIN:STANDARD
TZOFFSETFROM:-0400
TZOFFSETTO:-0500
TZNAME:EST
DTSTART:20231105T060000
END:STANDARD
BEGIN:DAYLIGHT
TZOFFSETFROM:-0500
TZOFFSETTO:-0400
TZNAME:EDT
DTSTART:20240310T070000
END:DAYLIGHT
BEGIN:STANDARD
TZOFFSETFROM:-0400
TZOFFSETTO:-0500
TZNAME:EST
DTSTART:20241103T060000
END:STANDARD
END:VTIMEZONE
BEGIN:VEVENT
DTSTART;TZID=America/New_York:20230329T090000
DTEND;TZID=America/New_York:20230329T100000
DTSTAMP:20260423T042259
CREATED:20230315T083022Z
LAST-MODIFIED:20230315T083155Z
UID:1080-1680080400-1680084000@diplo.us
SUMMARY:Vulnerabilities in Digital Products: How Does This Impact the World Around Us?
DESCRIPTION:Event description\nWednesday\, 29 March 2023\n9:00–10:00 EDT (13:00–14:00 UTC)\, online\nWhat do the SolarWinds hack\, the use of Pegasus spyware\, and the Colonial Pipeline ransomware attack have in common? Even though they have different targets\, threat actors\, and impacts\, they all exploit software vulnerabilities. \nVulnerabilities in digital products remain an almost indispensable component of cyber attacks\, especially high-impact ones. \nIn this Geneva Dialogue webinar\, together with expert panellists\, we will discuss: \n\nHow do vulnerabilities emerge\, how are they exploited\, and to what end?\nWhat can we learn from these exploitations?\nWhat role do software vulnerabilities play in today’s digitalised society?\n\nRegistrations are open \nRegister×About the Geneva Dialogue\nThe Geneva Dialogue on Responsible Behaviour in Cyberspace is led by the Swiss Federal Department of Foreign Affairs (FDFA) and implemented by Diplo. It aims to map the roles and responsibilities of actors (states\, the business sector\, civil society\, and the academic and tech communities ) in contributing to greater security and stability in cyberspace in the context of international peace and security\, identify good practices and possible gaps in existing efforts\, and\, ideally\, put forward recommendations for overcoming such gaps. \nRegister
URL:https://diplo.us/event/vulnerabilities-in-digital-products-how-does-this-impact-the-world-around-us/
LOCATION:Online
ATTACH;FMTTYPE=image/webp:https://diplo.us/wp-content/uploads/2023/03/Geneva-Dialogue-29Mar2023-web-banner-1920x300px.webp
END:VEVENT
END:VCALENDAR