BEGIN:VCALENDAR
VERSION:2.0
PRODID:-//Diplo US - ECPv6.15.18//NONSGML v1.0//EN
CALSCALE:GREGORIAN
METHOD:PUBLISH
X-ORIGINAL-URL:https://diplo.us
X-WR-CALDESC:Events for Diplo US
REFRESH-INTERVAL;VALUE=DURATION:PT1H
X-Robots-Tag:noindex
X-PUBLISHED-TTL:PT1H
BEGIN:VTIMEZONE
TZID:America/New_York
BEGIN:DAYLIGHT
TZOFFSETFROM:-0500
TZOFFSETTO:-0400
TZNAME:EDT
DTSTART:20220313T070000
END:DAYLIGHT
BEGIN:STANDARD
TZOFFSETFROM:-0400
TZOFFSETTO:-0500
TZNAME:EST
DTSTART:20221106T060000
END:STANDARD
BEGIN:DAYLIGHT
TZOFFSETFROM:-0500
TZOFFSETTO:-0400
TZNAME:EDT
DTSTART:20230312T070000
END:DAYLIGHT
BEGIN:STANDARD
TZOFFSETFROM:-0400
TZOFFSETTO:-0500
TZNAME:EST
DTSTART:20231105T060000
END:STANDARD
BEGIN:DAYLIGHT
TZOFFSETFROM:-0500
TZOFFSETTO:-0400
TZNAME:EDT
DTSTART:20240310T070000
END:DAYLIGHT
BEGIN:STANDARD
TZOFFSETFROM:-0400
TZOFFSETTO:-0500
TZNAME:EST
DTSTART:20241103T060000
END:STANDARD
END:VTIMEZONE
BEGIN:VEVENT
DTSTART;TZID=America/New_York:20230425T040000
DTEND;TZID=America/New_York:20230425T100000
DTSTAMP:20260423T042300
CREATED:20230413T163704Z
LAST-MODIFIED:20230413T163740Z
UID:1103-1682395200-1682416800@diplo.us
SUMMARY:Workshop: The Power of the Unsaid – Diplomatic Communication in the AI Era
DESCRIPTION:Event description\nSo far in our history we have only been able to communicate with other humans using language but with the technological advancements and the rise of ChatGPT we can now converse with an AI chatbot. More surprisingly still\, that bot may even speak and write more fluently than we do\, outperforming us in speed\, scope\, and variety. This new era raises all sorts of questions regarding the changing dynamics between humans and AI\, from authorship to manipulation\, and from job redundancy to ethics. \nHow will ChatGPT impact diplomatic communication? This workshop provides an overview of how AI outperforms humans\, and then focuses on the shortfalls of AI next to human linguistic abilities: lack of subtlety\, lack of figurative thinking\, lack of humour and compassion\, and an inability to decipher implicit meaning. Given the speed and scope of AI\, it also fails to use pauses and other time-factors strategically. Since all these skills are essential to diplomatic communication\, we might ask whether AI can serve any purpose beyond report writing and data gathering. \nIn this workshop\, we will explore the ways in which we can combine AI performance with the unique human skills by looking at the finer details of language and communication. If AI tends to be literal-minded whereas humans excel at implicit communication\, we can then identify the different types of loaded language and show which parts AI could master with a bit of training. If AI cannot pick up on moral overtones\, we investigate how these judgments are coded into communication and show how some areas might be taught to AI. In other words\, we avoid sweeping generalisations about AI and delve into the details of language instead\, exploring which grassroot components AI has already mastered and which ones it will with training. Finally\, we ask whether there are any aspects of language which AI will not be able to master. \nThe workshop is exercise-driven and requires active participation. Although the workshop is run in English\, the lessons learned are applicable to all languages. \nAll participants who complete the workshop will receive a certificate issued by DiploFoundation. \nRegistrations are open \nRegister×Workshop facilitator\nDr Biljana Scott was trained as a linguist (BA in Chinese\, M.Phil and D.Phil in Linguistics\, University of Oxford). Dr Scott is a senior fellow at DiploFoundation and an associate of the China Centre\, University of Oxford\, where she taught for 25 years. She lectures and workshops internationally. \nDetails\n\nDate: Tuesday\, 25 April\, 10:00–16:00 CEST\nVenue: Diplo Centar\, Braničevska 12a\, Belgrade\, Serbia\nFee: 950 EUR\nA limited number of full scholarships are available for applicants from developing countries.\nDiscounts are available for more than one participant from the same institution.\nDue to the limited number of places (maximum 20 participants)\, applications will be assessed on a ‘first come\, first served’ basis.\n\nFor further information\, please contact Mr Andrej Škrinjarić at andrejs@diplomacy.edu. \nRegister
URL:https://diplo.us/event/workshop-the-power-of-the-unsaid-diplomatic-communication-in-the-ai-era/
LOCATION:Diplo Centar Belgrade\, Braničevska 12a\, Belgrade\, 11000\, Serbia
ATTACH;FMTTYPE=image/webp:https://diplo.us/wp-content/uploads/2023/04/Diplo_Biljana-Scott_workshop-1920x300px.webp
END:VEVENT
END:VCALENDAR