BEGIN:VCALENDAR
VERSION:2.0
PRODID:-//Diplo US - ECPv6.15.18//NONSGML v1.0//EN
CALSCALE:GREGORIAN
METHOD:PUBLISH
X-ORIGINAL-URL:https://diplo.us
X-WR-CALDESC:Events for Diplo US
REFRESH-INTERVAL;VALUE=DURATION:PT1H
X-Robots-Tag:noindex
X-PUBLISHED-TTL:PT1H
BEGIN:VTIMEZONE
TZID:America/New_York
BEGIN:DAYLIGHT
TZOFFSETFROM:-0500
TZOFFSETTO:-0400
TZNAME:EDT
DTSTART:20220313T070000
END:DAYLIGHT
BEGIN:STANDARD
TZOFFSETFROM:-0400
TZOFFSETTO:-0500
TZNAME:EST
DTSTART:20221106T060000
END:STANDARD
BEGIN:DAYLIGHT
TZOFFSETFROM:-0500
TZOFFSETTO:-0400
TZNAME:EDT
DTSTART:20230312T070000
END:DAYLIGHT
BEGIN:STANDARD
TZOFFSETFROM:-0400
TZOFFSETTO:-0500
TZNAME:EST
DTSTART:20231105T060000
END:STANDARD
BEGIN:DAYLIGHT
TZOFFSETFROM:-0500
TZOFFSETTO:-0400
TZNAME:EDT
DTSTART:20240310T070000
END:DAYLIGHT
BEGIN:STANDARD
TZOFFSETFROM:-0400
TZOFFSETTO:-0500
TZNAME:EST
DTSTART:20241103T060000
END:STANDARD
END:VTIMEZONE
BEGIN:VEVENT
DTSTART;VALUE=DATE:20230508
DTEND;VALUE=DATE:20230513
DTSTAMP:20260423T030204
CREATED:20230203T070012Z
LAST-MODIFIED:20230203T071726Z
UID:1048-1683504000-1683935999@diplo.us
SUMMARY:Science Diplomacy Week
DESCRIPTION:Event description\nFrom 8-12 May 2023\, the Geneva Coalition on Anticipatory Science and Diplomacy organises the second edition of the Science Diplomacy Week in International Geneva to promote anticipatory Science and Diplomacy as an effective tool for renewed multilateralism. \nScience Diplomacy Week features an Immersion Program and an Open Forum for exchange\, capacity development and mutual learning between the diplomatic and scientific communities. The call for expressions of interest to participate in the Immersion Program is now open until 28 February 2023. \nYou can find more information about the programme and registration here. \nDiplo is proud to be part of the Geneva Coalition on Anticipatory Science and Diplomacy and a program partner for Science Diplomacy Week 2023. \n\n\nApply now
URL:https://diplo.us/event/science-diplomacy-week/
ATTACH;FMTTYPE=image/jpeg:https://diplo.us/wp-content/uploads/2023/02/Participating-institutions.jpg
ORGANIZER;CN="Geneva Science and Diplomacy Anticipator":MAILTO:info@gesda.global
END:VEVENT
END:VCALENDAR