BEGIN:VCALENDAR
VERSION:2.0
PRODID:-//Diplo US - ECPv6.15.18//NONSGML v1.0//EN
CALSCALE:GREGORIAN
METHOD:PUBLISH
X-ORIGINAL-URL:https://diplo.us
X-WR-CALDESC:Events for Diplo US
REFRESH-INTERVAL;VALUE=DURATION:PT1H
X-Robots-Tag:noindex
X-PUBLISHED-TTL:PT1H
BEGIN:VTIMEZONE
TZID:America/New_York
BEGIN:DAYLIGHT
TZOFFSETFROM:-0500
TZOFFSETTO:-0400
TZNAME:EDT
DTSTART:20220313T070000
END:DAYLIGHT
BEGIN:STANDARD
TZOFFSETFROM:-0400
TZOFFSETTO:-0500
TZNAME:EST
DTSTART:20221106T060000
END:STANDARD
BEGIN:DAYLIGHT
TZOFFSETFROM:-0500
TZOFFSETTO:-0400
TZNAME:EDT
DTSTART:20230312T070000
END:DAYLIGHT
BEGIN:STANDARD
TZOFFSETFROM:-0400
TZOFFSETTO:-0500
TZNAME:EST
DTSTART:20231105T060000
END:STANDARD
BEGIN:DAYLIGHT
TZOFFSETFROM:-0500
TZOFFSETTO:-0400
TZNAME:EDT
DTSTART:20240310T070000
END:DAYLIGHT
BEGIN:STANDARD
TZOFFSETFROM:-0400
TZOFFSETTO:-0500
TZNAME:EST
DTSTART:20241103T060000
END:STANDARD
END:VTIMEZONE
BEGIN:VEVENT
DTSTART;TZID=America/New_York:20230705T090000
DTEND;TZID=America/New_York:20230705T100000
DTSTAMP:20260423T003841
CREATED:20230615T083538Z
LAST-MODIFIED:20230615T083642Z
UID:1152-1688547600-1688551200@diplo.us
SUMMARY:Empowering African Digital Diplomacy
DESCRIPTION:Event description\nToday’s diplomacy is greatly impacted by digital technology\, particularly during the COVID-19 pandemic. Digital technologies multiply and amplify the number of voices and accelerate the pace of dissemination of information in international policymaking and diplomacy. In addition\, these technologies enable faster and more cost-effective delivery of traditional diplomatic services. It is\, therefore\, imperative that stakeholders discuss the issues arising from the interaction of technologies and diplomacy. \nThe webinar will explore digital technologies and their impact on the African diplomatic space and will discuss the following: \n\nDigital priorities in foreign policies and international relations\,\nSpecific international digital governance processes\,\nWays to strengthen the participation of African stakeholders in International Geneva\,\nEconomic and development considerations in bilateral and multilateral relations\,\nStrengthening of the whole-of-government approach\,\nFacilitation of the whole-of-society approach\,\nWays to foster coordinated positions in international digital governance\, and\nLong-term approaches for building the next generation of diplomats and policymakers’ academic\, research and digital policy capacities.\n\nThis event will bring together Diplo alumni and stakeholders from government\, civil society\, the private sector\, donor agencies\, and academia. \n\nRegister
URL:https://diplo.us/event/empowering-african-digital-diplomacy/
LOCATION:Online
ATTACH;FMTTYPE=image/webp:https://diplo.us/wp-content/uploads/2023/03/eventheader.webp
END:VEVENT
END:VCALENDAR