BEGIN:VCALENDAR
VERSION:2.0
PRODID:-//Diplo US - ECPv6.15.18//NONSGML v1.0//EN
CALSCALE:GREGORIAN
METHOD:PUBLISH
X-ORIGINAL-URL:https://diplo.us
X-WR-CALDESC:Events for Diplo US
REFRESH-INTERVAL;VALUE=DURATION:PT1H
X-Robots-Tag:noindex
X-PUBLISHED-TTL:PT1H
BEGIN:VTIMEZONE
TZID:America/New_York
BEGIN:DAYLIGHT
TZOFFSETFROM:-0500
TZOFFSETTO:-0400
TZNAME:EDT
DTSTART:20220313T070000
END:DAYLIGHT
BEGIN:STANDARD
TZOFFSETFROM:-0400
TZOFFSETTO:-0500
TZNAME:EST
DTSTART:20221106T060000
END:STANDARD
BEGIN:DAYLIGHT
TZOFFSETFROM:-0500
TZOFFSETTO:-0400
TZNAME:EDT
DTSTART:20230312T070000
END:DAYLIGHT
BEGIN:STANDARD
TZOFFSETFROM:-0400
TZOFFSETTO:-0500
TZNAME:EST
DTSTART:20231105T060000
END:STANDARD
BEGIN:DAYLIGHT
TZOFFSETFROM:-0500
TZOFFSETTO:-0400
TZNAME:EDT
DTSTART:20240310T070000
END:DAYLIGHT
BEGIN:STANDARD
TZOFFSETFROM:-0400
TZOFFSETTO:-0500
TZNAME:EST
DTSTART:20241103T060000
END:STANDARD
END:VTIMEZONE
BEGIN:VEVENT
DTSTART;TZID=America/New_York:20230720T104000
DTEND;TZID=America/New_York:20230720T121000
DTSTAMP:20260423T003841
CREATED:20230714T110610Z
LAST-MODIFIED:20230714T110610Z
UID:1158-1689849600-1689855000@diplo.us
SUMMARY:Data Transfers and eCommerce: Towards International Cooperation
DESCRIPTION:Event description\nThursday\, 20 July 202311:40-13:10 (GMT-3)10:40am – 12:10pm EDTRio de Janeiro\, Brazil \nThe session Data Transfers and eCommerce: Towards International Cooperation\, organised by Diplo and Women Inside Trade\, is part of the CPDP LatAm 2023 which will be organised in Rio de Janeiro on 19 and 20 July 2023. The event is hosted by the Center for Technology and Society of the Getulio Vargas Foundation (CTS/FGV). \nThe theme of the CPDP LatAm 2023 conference is Data Protection\, Cooperation and Innovation in Latin America. \nFor more information\, visit  \nVisit the official website×
URL:https://diplo.us/event/data-transfers-and-ecommerce-towards-international-cooperation/
ATTACH;FMTTYPE=image/webp:https://diplo.us/wp-content/uploads/2023/03/eventheader.webp
END:VEVENT
END:VCALENDAR