BEGIN:VCALENDAR
VERSION:2.0
PRODID:-//Diplo US - ECPv6.15.18//NONSGML v1.0//EN
CALSCALE:GREGORIAN
METHOD:PUBLISH
X-WR-CALNAME:Diplo US
X-ORIGINAL-URL:https://diplo.us
X-WR-CALDESC:Events for Diplo US
REFRESH-INTERVAL;VALUE=DURATION:PT1H
X-Robots-Tag:noindex
X-PUBLISHED-TTL:PT1H
BEGIN:VTIMEZONE
TZID:America/New_York
BEGIN:DAYLIGHT
TZOFFSETFROM:-0500
TZOFFSETTO:-0400
TZNAME:EDT
DTSTART:20220313T070000
END:DAYLIGHT
BEGIN:STANDARD
TZOFFSETFROM:-0400
TZOFFSETTO:-0500
TZNAME:EST
DTSTART:20221106T060000
END:STANDARD
BEGIN:DAYLIGHT
TZOFFSETFROM:-0500
TZOFFSETTO:-0400
TZNAME:EDT
DTSTART:20230312T070000
END:DAYLIGHT
BEGIN:STANDARD
TZOFFSETFROM:-0400
TZOFFSETTO:-0500
TZNAME:EST
DTSTART:20231105T060000
END:STANDARD
BEGIN:DAYLIGHT
TZOFFSETFROM:-0500
TZOFFSETTO:-0400
TZNAME:EDT
DTSTART:20240310T070000
END:DAYLIGHT
BEGIN:STANDARD
TZOFFSETFROM:-0400
TZOFFSETTO:-0500
TZNAME:EST
DTSTART:20241103T060000
END:STANDARD
END:VTIMEZONE
BEGIN:VEVENT
DTSTART;VALUE=DATE:20231106
DTEND;VALUE=DATE:20231108
DTSTAMP:20260422T204906
CREATED:20231101T071716Z
LAST-MODIFIED:20231108T081739Z
UID:1217-1699228800-1699401599@diplo.us
SUMMARY:SEEDIG 8
DESCRIPTION:Event description\nThe 8th Annual Meeting of the South Eastern European Dialogue on Internet Governance (SEEDIG) is scheduled to take place on 6-7 November 2023 in Zagreb\, Croatia​. \nUnder the theme ‘Digital Beyond Borders: Regional Synergy for Community Advancement\,’ SEEDIG 8 has chosen this theme to underscore its dedication to fostering community growth and strengthening partnerships across the region. It emphasizes the idea that in our increasingly interconnected digital world\, the boundaries that traditionally defined countries are transcended by opportunities for collaboration and growth. \nThe event will showcase keynote speeches\, panel discussions\, and sessions hosted by various organizations. \nFor more details about the event program and registration\, please visit the official SEEDIG 8 \nwebsite×
URL:https://diplo.us/event/seedig-8/
END:VEVENT
END:VCALENDAR