BEGIN:VCALENDAR
VERSION:2.0
PRODID:-//Diplo US - ECPv6.15.18//NONSGML v1.0//EN
CALSCALE:GREGORIAN
METHOD:PUBLISH
X-WR-CALNAME:Diplo US
X-ORIGINAL-URL:https://diplo.us
X-WR-CALDESC:Events for Diplo US
REFRESH-INTERVAL;VALUE=DURATION:PT1H
X-Robots-Tag:noindex
X-PUBLISHED-TTL:PT1H
BEGIN:VTIMEZONE
TZID:America/New_York
BEGIN:DAYLIGHT
TZOFFSETFROM:-0500
TZOFFSETTO:-0400
TZNAME:EDT
DTSTART:20220313T070000
END:DAYLIGHT
BEGIN:STANDARD
TZOFFSETFROM:-0400
TZOFFSETTO:-0500
TZNAME:EST
DTSTART:20221106T060000
END:STANDARD
BEGIN:DAYLIGHT
TZOFFSETFROM:-0500
TZOFFSETTO:-0400
TZNAME:EDT
DTSTART:20230312T070000
END:DAYLIGHT
BEGIN:STANDARD
TZOFFSETFROM:-0400
TZOFFSETTO:-0500
TZNAME:EST
DTSTART:20231105T060000
END:STANDARD
BEGIN:DAYLIGHT
TZOFFSETFROM:-0500
TZOFFSETTO:-0400
TZNAME:EDT
DTSTART:20240310T070000
END:DAYLIGHT
BEGIN:STANDARD
TZOFFSETFROM:-0400
TZOFFSETTO:-0500
TZNAME:EST
DTSTART:20241103T060000
END:STANDARD
END:VTIMEZONE
BEGIN:VEVENT
DTSTART;VALUE=DATE:20231204
DTEND;VALUE=DATE:20231209
DTSTAMP:20260422T174805
CREATED:20231025T104819Z
LAST-MODIFIED:20231108T085247Z
UID:1206-1701648000-1702079999@diplo.us
SUMMARY:UNCTAD eWeek
DESCRIPTION:Event description\nIn anticipation of the ever-changing digital landscape\, the renowned eCommerce Week is embracing a new identity as UNCTAD eWeek\, beginning with its 2023 edition. This transformation reflects a dynamic shift in its mission. Organized in close collaboration between UNCTAD and eTrade for all partners\, the eagerly awaited UNCTAD eWeek 2023 is set to unfold from December 4 to 8 at Geneva’s prestigious International Conference Center\, CICG. The theme for this influential event is ‘Shaping the future of the digital economy’\, promising an engaging and insightful exploration of the digital era’s unfolding opportunities and challenges. \nFor more information\, \nvisit the official website×DiploFoundation and CUTS International will host a session titled “Digital Economy Agreements and the Future of Digital Trade Rulemaking\,” exploring the critical topics of digital trade and trade facilitation\, as well as legal and regulatory frameworks at the national\, regional\, and global levels. The session will feature experts from government\, academia\, and non-governmental organizations\, discussing the unique characteristics and objectives of Digital Economy Agreements (DEAs) and their potential to drive cross-border digital trade\, innovation\, and economic development. The session will also examine DEAs’ influence on the future of digital trade rulemaking. \nKey speakers: \nMarilia Maciel\, Head Digital Commerce and Internet Policy\, DiploFoundation\nWei Guo Tang\, First Secretary\, Permanent Mission of Singapore to the WTO\nYasmin Ismail\, Programme Officer\, CUTS International\nKholofelo Kugler\, PhD Fellow\, University of Lucerne \nModerator: Dmitry Grozoubinski\, Executive Director\, Geneva Trade Platform \nThe session will take place on 6 December\, from 11:30 to 13:00 \nJust-in-time reporting\nAs in previous years\, the GIP Digital Watch observatory will provide just-in-time reporting from the UNCTAD eWeek. Bookmark the Digital Watch space or download the Dig.Watch News+ app to stay up-to-date with our session reports and newsletters. Make sure to also follow the GIP’s Twitter account.
URL:https://diplo.us/event/unctad-eweek/
ATTACH;FMTTYPE=image/jpeg:https://diplo.us/wp-content/uploads/2023/10/eWeek-2023-Banner-Header-C-1030x579-1.jpeg
END:VEVENT
BEGIN:VEVENT
DTSTART;TZID=America/New_York:20231206T100000
DTEND;TZID=America/New_York:20231206T110000
DTSTAMP:20260422T174805
CREATED:20231025T105143Z
LAST-MODIFIED:20231108T181555Z
UID:1213-1701856800-1701860400@diplo.us
SUMMARY:New Metaverse Frontiers for National Governments
DESCRIPTION:Event description\nDiplo’s Director for Digital Policy\, Dr Stephanie Borg Psaila\, has been invited to participate in the discussion New Metaverse Frontiers for National Governments. \nThe event\, which is part of The Metaverse Spectrum Business Conference & Expo\, will be held online on Wednesday 6 December 2023 at 10:00 EST (15:00 UTC). \nAbout the session New Metaverse Frontiers for National Governments: \nAlthough relatively few nations have established a presence in the metaverse\, the metaverse has significant potential uses for national governments. A handful of nations are utilizing or exploring the use of the metaverse to deliver such services as taxation services\, diplomatic services\, economic development assistance\, and other services\, including Norway and Barbados. These nations are leveraging the metaverse to better educate their citizens about their services and foster greater citizen involvement in public policy\, especially among young\, tech-savvy citizens. For a few countries\, Web3 is key to their operations. For example\, voting and other functions of the micronation Liberland areexecuted through the use of blockchain. This session will assess the impact of and prospects for metaverse use by national governments. \nFor more information and to register \nvisit the official website×
URL:https://diplo.us/event/new-metaverse-frontiers-for-national-governments/
LOCATION:Online
END:VEVENT
END:VCALENDAR