BEGIN:VCALENDAR
VERSION:2.0
PRODID:-//Diplo US - ECPv6.15.18//NONSGML v1.0//EN
CALSCALE:GREGORIAN
METHOD:PUBLISH
X-ORIGINAL-URL:https://diplo.us
X-WR-CALDESC:Events for Diplo US
REFRESH-INTERVAL;VALUE=DURATION:PT1H
X-Robots-Tag:noindex
X-PUBLISHED-TTL:PT1H
BEGIN:VTIMEZONE
TZID:America/New_York
BEGIN:DAYLIGHT
TZOFFSETFROM:-0500
TZOFFSETTO:-0400
TZNAME:EDT
DTSTART:20230312T070000
END:DAYLIGHT
BEGIN:STANDARD
TZOFFSETFROM:-0400
TZOFFSETTO:-0500
TZNAME:EST
DTSTART:20231105T060000
END:STANDARD
BEGIN:DAYLIGHT
TZOFFSETFROM:-0500
TZOFFSETTO:-0400
TZNAME:EDT
DTSTART:20240310T070000
END:DAYLIGHT
BEGIN:STANDARD
TZOFFSETFROM:-0400
TZOFFSETTO:-0500
TZNAME:EST
DTSTART:20241103T060000
END:STANDARD
BEGIN:DAYLIGHT
TZOFFSETFROM:-0500
TZOFFSETTO:-0400
TZNAME:EDT
DTSTART:20250309T070000
END:DAYLIGHT
BEGIN:STANDARD
TZOFFSETFROM:-0400
TZOFFSETTO:-0500
TZNAME:EST
DTSTART:20251102T060000
END:STANDARD
END:VTIMEZONE
BEGIN:VEVENT
DTSTART;TZID=America/New_York:20240111T080000
DTEND;TZID=America/New_York:20240111T090000
DTSTAMP:20260422T162620
CREATED:20240106T224036Z
LAST-MODIFIED:20240106T224213Z
UID:1252-1704960000-1704963600@diplo.us
SUMMARY:AI and Digital Predictions for 2024 Twiter
DESCRIPTION:Event description\nHow will AI develop in 2024? What are the top digital trends to keep an eye on? These and other questions will be addressed in traditional predictions event with Jovan Kurbalija: \nGeneva and Online | Thursday\, 11 January 2024 at 8 am – 9 am (14.00-15.00 CET). \nYou can register for the 2024 Predictions event on Zoom for an interactive experience or watch our live streams on YouTube and Facebook. For a few places in situ at our Geneva office please write to us at geneva@diplomacy.edu \nFor the reflections on 2023 developments in AI and digital governance\, you can visit reflection page. \n\n\nRegister for the 2024 Predictions event on Zoom \nRegister×Register
URL:https://diplo.us/event/ai-and-digital-predictions-for-2024-twiter/
LOCATION:Online
ATTACH;FMTTYPE=image/jpeg:https://diplo.us/wp-content/uploads/2024/01/Predictions-banner-1920x300px.jpg
END:VEVENT
END:VCALENDAR