BEGIN:VCALENDAR
VERSION:2.0
PRODID:-//Diplo US - ECPv6.15.18//NONSGML v1.0//EN
CALSCALE:GREGORIAN
METHOD:PUBLISH
X-WR-CALNAME:Diplo US
X-ORIGINAL-URL:https://diplo.us
X-WR-CALDESC:Events for Diplo US
REFRESH-INTERVAL;VALUE=DURATION:PT1H
X-Robots-Tag:noindex
X-PUBLISHED-TTL:PT1H
BEGIN:VTIMEZONE
TZID:America/New_York
BEGIN:DAYLIGHT
TZOFFSETFROM:-0500
TZOFFSETTO:-0400
TZNAME:EDT
DTSTART:20230312T070000
END:DAYLIGHT
BEGIN:STANDARD
TZOFFSETFROM:-0400
TZOFFSETTO:-0500
TZNAME:EST
DTSTART:20231105T060000
END:STANDARD
BEGIN:DAYLIGHT
TZOFFSETFROM:-0500
TZOFFSETTO:-0400
TZNAME:EDT
DTSTART:20240310T070000
END:DAYLIGHT
BEGIN:STANDARD
TZOFFSETFROM:-0400
TZOFFSETTO:-0500
TZNAME:EST
DTSTART:20241103T060000
END:STANDARD
BEGIN:DAYLIGHT
TZOFFSETFROM:-0500
TZOFFSETTO:-0400
TZNAME:EDT
DTSTART:20250309T070000
END:DAYLIGHT
BEGIN:STANDARD
TZOFFSETFROM:-0400
TZOFFSETTO:-0500
TZNAME:EST
DTSTART:20251102T060000
END:STANDARD
END:VTIMEZONE
BEGIN:VEVENT
DTSTART;TZID=America/New_York:20240117T083000
DTEND;TZID=America/New_York:20240117T100000
DTSTAMP:20260422T162350
CREATED:20231219T103628Z
LAST-MODIFIED:20240106T231306Z
UID:1245-1705480200-1705485600@diplo.us
SUMMARY:The impact of AI on data collection\, exploitation\, protection\, and privacy in Africa
DESCRIPTION:Event description\nThe rapid advancement of AI technologies has brought about transformative changes in various sectors globally. In Africa\, where the adoption of digital technologies is on the rise\, the impact of AI on data collection\, exploitation\, protection\, and privacy is becoming increasingly significant. The webinar will explore the multifaceted implications of AI use in these domains and to propose considerations for ensuring responsible and ethical use. The deployment of AI raises critical questions regarding data protection and privacy\, necessitating a thorough examination of its impact on the African continent. \nThe African Union (AU) Convention on Cyber Security and Personal Data Protection\, also known as the Malabo Convention\, is a legal framework for addressing cybercrime and data protection in Africa. The convention\, adopted by the AU in 2014\, is a critical tool for protecting personal data and preventing cybercrime on the continent. \nThe Malabo Convention is now in effect. Article 36 of the Malabo Convention says that the treaty will come into effect when there are 15 ratifications. Mauritania ratified the convention in May 2023\, becoming the 15th African country to do so. And the convention came into effect 30 days later\, in June 2023. \nRegistrations are open \nRegister here×Following this important development\, the webinar aims to: \n\nExamine the current landscape: Investigate the existing state of AI deployment in data collection\, exploitation\, protection\, and privacy in Africa\, including case studies and notable initiatives.\nAssess risks and challenges: Identify potential risks and challenges associated with AI implementation in data-centric domains\, with a specific focus on the African context.\nExplore opportunities: Investigate how AI can positively contribute to efficient data collection\, improved exploitation for socio-economic development\, and enhanced protection of privacy rights.\nHighlight ethical considerations: Analyse the ethical implications of AI in data-centric applications\, emphasising the need for responsible AI practices that align with cultural\, social\, and legal norms in African countries.\n\nPropose policy recommendations: Develop a set of policy recommendations for governments\, businesses\, and civil society to ensure the responsible use of AI in data-related domains\, emphasising the protection of privacy and human rights. \nTime of the event\n4:30pm-6:00pm Nairobi time \nAgenda: \nIntroduction (5 minutes) \n\nWelcome and Opening Remarks\nBrief Introduction to the Webinar’s Theme\n\nSession 1: Overview of AI in Africa (10 minutes) \nOpen panel \n\nCurrent State of AI Adoption in Africa\nKey Applications of AI in Various Sectors\nChallenges and Opportunities\n\nSession 2: Data Protection and Privacy Challenges (30 minutes) \nPanelists: Tyrus Muya Kamau\, Immaculate Kassait\, Mercy Mutemi\, Moctar Yedaly \n\nOverview of Data Protection Regulations in African Countries\nRatification of the Africa union convention on cybersecurity and personal data protection Malabo convention\nRisks and Concerns Related to AI and Privacy\nStrategies for Mitigating Privacy Risks\n\nSession 3: Data Collection and Exploitation in the AI Era (30 minutes) \nPanelists: John Walubengo\, Abdul-Hakeem Ajijola\, Shikoli Makatiani \n\nRole of AI in Enhancing Data Collection\nCase Studies on AI-Driven Data Collection Projects in Africa\nEthical Considerations and Potential Biases\n\n\nHow AI is Transforming Data into Actionable Insights\nExamples of AI-Driven Decision-Making in African Contexts\nSocietal and Economic Impacts\n\nQ&A Session (10 minutes) \n\nOpen Floor for Questions from Participants\nPanel Discussion with Experts\n\nClosing Remarks (5 minutes) \n\nSummary of Key Takeaways\nThanking Speakers\, Participants\, and Sponsors\nInformation on Future Webinars or Resources\n\nRegister
URL:https://diplo.us/event/the-impact-of-ai-on-data-collection-exploitation-protection-and-privacy-in-africa/
LOCATION:Online
ATTACH;FMTTYPE=image/jpeg:https://diplo.us/wp-content/uploads/2023/12/Diplo-Africa-webinar-baner-1920x300px.jpg
END:VEVENT
END:VCALENDAR