BEGIN:VCALENDAR
VERSION:2.0
PRODID:-//Diplo US - ECPv6.15.18//NONSGML v1.0//EN
CALSCALE:GREGORIAN
METHOD:PUBLISH
X-ORIGINAL-URL:https://diplo.us
X-WR-CALDESC:Events for Diplo US
REFRESH-INTERVAL;VALUE=DURATION:PT1H
X-Robots-Tag:noindex
X-PUBLISHED-TTL:PT1H
BEGIN:VTIMEZONE
TZID:America/New_York
BEGIN:DAYLIGHT
TZOFFSETFROM:-0500
TZOFFSETTO:-0400
TZNAME:EDT
DTSTART:20230312T070000
END:DAYLIGHT
BEGIN:STANDARD
TZOFFSETFROM:-0400
TZOFFSETTO:-0500
TZNAME:EST
DTSTART:20231105T060000
END:STANDARD
BEGIN:DAYLIGHT
TZOFFSETFROM:-0500
TZOFFSETTO:-0400
TZNAME:EDT
DTSTART:20240310T070000
END:DAYLIGHT
BEGIN:STANDARD
TZOFFSETFROM:-0400
TZOFFSETTO:-0500
TZNAME:EST
DTSTART:20241103T060000
END:STANDARD
BEGIN:DAYLIGHT
TZOFFSETFROM:-0500
TZOFFSETTO:-0400
TZNAME:EDT
DTSTART:20250309T070000
END:DAYLIGHT
BEGIN:STANDARD
TZOFFSETFROM:-0400
TZOFFSETTO:-0500
TZNAME:EST
DTSTART:20251102T060000
END:STANDARD
END:VTIMEZONE
BEGIN:VEVENT
DTSTART;VALUE=DATE:20240129
DTEND;VALUE=DATE:20240213
DTSTAMP:20260422T150519
CREATED:20240129T125552Z
LAST-MODIFIED:20240131T074932Z
UID:1266-1706486400-1707782399@diplo.us
SUMMARY:2024 Master/PGD in Contemporary Diplomacy workshop
DESCRIPTION:Event description\nDiplo and the University of Malta will host a two-week introductory workshop for the 2024 Master/Postgraduate Diploma in Contemporary Diplomacy\, starting on 29 January 2024. \nThe workshop includes a range of diplomacy-related sessions delivered by experienced practitioners. Topics included in this year’s workshop: \n\nGeopolitics\, international order\, and foreign policy\nThe future of multilateralism\nNegotiation skills\nPower in humanitarian action\nPresentation skills\nBuilding relations\nGoverning AI\nCybersecurity diplomacy\nTech diplomacy\nResearch methods and academic writing\n\nThe introductory workshop focuses on building skills for various policy and diplomacy processes. It sets the stage for the entire programme in which the participants will get to know other course participants and faculty members\, providing a new professional network that will be of high value for their current and future work.
URL:https://diplo.us/event/2024-master-pgd-in-contemporary-diplomacy-workshop/
LOCATION:Online
END:VEVENT
END:VCALENDAR