BEGIN:VCALENDAR
VERSION:2.0
PRODID:-//Diplo US - ECPv6.15.18//NONSGML v1.0//EN
CALSCALE:GREGORIAN
METHOD:PUBLISH
X-WR-CALNAME:Diplo US
X-ORIGINAL-URL:https://diplo.us
X-WR-CALDESC:Events for Diplo US
REFRESH-INTERVAL;VALUE=DURATION:PT1H
X-Robots-Tag:noindex
X-PUBLISHED-TTL:PT1H
BEGIN:VTIMEZONE
TZID:America/New_York
BEGIN:DAYLIGHT
TZOFFSETFROM:-0500
TZOFFSETTO:-0400
TZNAME:EDT
DTSTART:20230312T070000
END:DAYLIGHT
BEGIN:STANDARD
TZOFFSETFROM:-0400
TZOFFSETTO:-0500
TZNAME:EST
DTSTART:20231105T060000
END:STANDARD
BEGIN:DAYLIGHT
TZOFFSETFROM:-0500
TZOFFSETTO:-0400
TZNAME:EDT
DTSTART:20240310T070000
END:DAYLIGHT
BEGIN:STANDARD
TZOFFSETFROM:-0400
TZOFFSETTO:-0500
TZNAME:EST
DTSTART:20241103T060000
END:STANDARD
BEGIN:DAYLIGHT
TZOFFSETFROM:-0500
TZOFFSETTO:-0400
TZNAME:EDT
DTSTART:20250309T070000
END:DAYLIGHT
BEGIN:STANDARD
TZOFFSETFROM:-0400
TZOFFSETTO:-0500
TZNAME:EST
DTSTART:20251102T060000
END:STANDARD
END:VTIMEZONE
BEGIN:VEVENT
DTSTART;TZID=America/New_York:20240215T080000
DTEND;TZID=America/New_York:20240215T090000
DTSTAMP:20260422T150425
CREATED:20240213T093714Z
LAST-MODIFIED:20240213T093714Z
UID:1319-1707984000-1707987600@diplo.us
SUMMARY:Open Consultations Final Brief on the WSIS+20 Forum High-Level Event
DESCRIPTION:Event description\nThe WSIS+20 Forum High-Level Event\, co-organized by ITU\, UNESCO\, UNDP and UNCTAD and co-hosted by ITU and the Swiss Confederation\, will serve as a platform to review the progress\, achievements\, challenges\, and opportunities of the WSIS follow-up process since the two phases of the Summit – Geneva in 2003 and Tunis in 2005. \nThe event will take place from 27 to 31 May 2024 in Geneva\, Switzerland. The Open Consultation Process is an open and inclusive consultation with WSIS stakeholders to prepare for the event\, including developing the event programme\, identifying gaps in the implementation of the Geneva Plan of Action and the WSIS Action Lines\, and contributing to the WSIS+20 review process. \nAll stakeholders are encouraged to actively engage in the Open Consultation Process (OCP) by participating in consultative meetings and submitting input through the official submission form \nRegister
URL:https://diplo.us/event/open-consultations-final-brief-on-the-wsis20-forum-high-level-event/
LOCATION:Online
END:VEVENT
END:VCALENDAR