BEGIN:VCALENDAR
VERSION:2.0
PRODID:-//Diplo US - ECPv6.15.18//NONSGML v1.0//EN
CALSCALE:GREGORIAN
METHOD:PUBLISH
X-ORIGINAL-URL:https://diplo.us
X-WR-CALDESC:Events for Diplo US
REFRESH-INTERVAL;VALUE=DURATION:PT1H
X-Robots-Tag:noindex
X-PUBLISHED-TTL:PT1H
BEGIN:VTIMEZONE
TZID:America/New_York
BEGIN:DAYLIGHT
TZOFFSETFROM:-0500
TZOFFSETTO:-0400
TZNAME:EDT
DTSTART:20230312T070000
END:DAYLIGHT
BEGIN:STANDARD
TZOFFSETFROM:-0400
TZOFFSETTO:-0500
TZNAME:EST
DTSTART:20231105T060000
END:STANDARD
BEGIN:DAYLIGHT
TZOFFSETFROM:-0500
TZOFFSETTO:-0400
TZNAME:EDT
DTSTART:20240310T070000
END:DAYLIGHT
BEGIN:STANDARD
TZOFFSETFROM:-0400
TZOFFSETTO:-0500
TZNAME:EST
DTSTART:20241103T060000
END:STANDARD
BEGIN:DAYLIGHT
TZOFFSETFROM:-0500
TZOFFSETTO:-0400
TZNAME:EDT
DTSTART:20250309T070000
END:DAYLIGHT
BEGIN:STANDARD
TZOFFSETFROM:-0400
TZOFFSETTO:-0500
TZNAME:EST
DTSTART:20251102T060000
END:STANDARD
END:VTIMEZONE
BEGIN:VEVENT
DTSTART;VALUE=DATE:20240613
DTEND;VALUE=DATE:20240616
DTSTAMP:20260422T094648
CREATED:20240131T073835Z
LAST-MODIFIED:20240131T073835Z
UID:1291-1718236800-1718495999@diplo.us
SUMMARY:G7 Summit 2024
DESCRIPTION:Event description\nThe upcoming 50th G7 summit is scheduled to take place from 13 to 15 June 2024 in Fasano\, Italy. \nItaly’s G7 agenda for 2024 aims to blend existing priorities with new emphases. These include continued support for Ukraine\, addressing crises in the Middle East\, ensuring energy security\, and\, as highlighted by the Italian Prime Minister\, an increased focus on supporting African development and managing the challenges presented by AI. \nThe G7 Summit serves as a yearly gathering for leaders from the G7 member states: Canada\, France\, Germany\, Italy\, Japan\, the UK\, and the US. Additionally\, the EU\, represented by the President of the European Council and the President of the European Commission\, partakes in all deliberations as guests. \nMore information will be available soon.
URL:https://diplo.us/event/g7-summit-2024/
LOCATION:Fasano\, Italy\, Fasano\, Italy
ATTACH;FMTTYPE=image/jpeg:https://diplo.us/wp-content/uploads/2024/01/g7-italia.jpg
END:VEVENT
END:VCALENDAR