BEGIN:VCALENDAR
VERSION:2.0
PRODID:-//Diplo US - ECPv6.15.18//NONSGML v1.0//EN
CALSCALE:GREGORIAN
METHOD:PUBLISH
X-WR-CALNAME:Diplo US
X-ORIGINAL-URL:https://diplo.us
X-WR-CALDESC:Events for Diplo US
REFRESH-INTERVAL;VALUE=DURATION:PT1H
X-Robots-Tag:noindex
X-PUBLISHED-TTL:PT1H
BEGIN:VTIMEZONE
TZID:America/New_York
BEGIN:DAYLIGHT
TZOFFSETFROM:-0500
TZOFFSETTO:-0400
TZNAME:EDT
DTSTART:20230312T070000
END:DAYLIGHT
BEGIN:STANDARD
TZOFFSETFROM:-0400
TZOFFSETTO:-0500
TZNAME:EST
DTSTART:20231105T060000
END:STANDARD
BEGIN:DAYLIGHT
TZOFFSETFROM:-0500
TZOFFSETTO:-0400
TZNAME:EDT
DTSTART:20240310T070000
END:DAYLIGHT
BEGIN:STANDARD
TZOFFSETFROM:-0400
TZOFFSETTO:-0500
TZNAME:EST
DTSTART:20241103T060000
END:STANDARD
BEGIN:DAYLIGHT
TZOFFSETFROM:-0500
TZOFFSETTO:-0400
TZNAME:EDT
DTSTART:20250309T070000
END:DAYLIGHT
BEGIN:STANDARD
TZOFFSETFROM:-0400
TZOFFSETTO:-0500
TZNAME:EST
DTSTART:20251102T060000
END:STANDARD
END:VTIMEZONE
BEGIN:VEVENT
DTSTART;VALUE=DATE:20240722
DTEND;VALUE=DATE:20240723
DTSTAMP:20260422T082105
CREATED:20240408T194756Z
LAST-MODIFIED:20240408T194756Z
UID:1346-1721606400-1721692799@diplo.us
SUMMARY:July 2024 online courses | Diplo Academy
DESCRIPTION:Event description\nDiplo Academy is excited to announce the start of three online courses on 22 July 2024: \n\nBilateral Diplomacy\nDiplomatic Law: Privileges and Immunities\nInternet Technology and Policy\n\nFor further information or to apply\, please click on the course titles above or visit our \nCourse Catalogue×Subscribe to Diplo Academy Newsletter for updates on our courses\, programmes\, and workshops.
URL:https://diplo.us/event/july-2024-online-courses-diplo-academy/
LOCATION:Online
ATTACH;FMTTYPE=image/jpeg:https://diplo.us/wp-content/uploads/2024/04/Diplo-Academy-header-banner-1920x300-1.jpg
END:VEVENT
END:VCALENDAR