BEGIN:VCALENDAR
VERSION:2.0
PRODID:-//Diplo US - ECPv6.15.18//NONSGML v1.0//EN
CALSCALE:GREGORIAN
METHOD:PUBLISH
X-WR-CALNAME:Diplo US
X-ORIGINAL-URL:https://diplo.us
X-WR-CALDESC:Events for Diplo US
REFRESH-INTERVAL;VALUE=DURATION:PT1H
X-Robots-Tag:noindex
X-PUBLISHED-TTL:PT1H
BEGIN:VTIMEZONE
TZID:America/New_York
BEGIN:DAYLIGHT
TZOFFSETFROM:-0500
TZOFFSETTO:-0400
TZNAME:EDT
DTSTART:20230312T070000
END:DAYLIGHT
BEGIN:STANDARD
TZOFFSETFROM:-0400
TZOFFSETTO:-0500
TZNAME:EST
DTSTART:20231105T060000
END:STANDARD
BEGIN:DAYLIGHT
TZOFFSETFROM:-0500
TZOFFSETTO:-0400
TZNAME:EDT
DTSTART:20240310T070000
END:DAYLIGHT
BEGIN:STANDARD
TZOFFSETFROM:-0400
TZOFFSETTO:-0500
TZNAME:EST
DTSTART:20241103T060000
END:STANDARD
BEGIN:DAYLIGHT
TZOFFSETFROM:-0500
TZOFFSETTO:-0400
TZNAME:EDT
DTSTART:20250309T070000
END:DAYLIGHT
BEGIN:STANDARD
TZOFFSETFROM:-0400
TZOFFSETTO:-0500
TZNAME:EST
DTSTART:20251102T060000
END:STANDARD
END:VTIMEZONE
BEGIN:VEVENT
DTSTART;VALUE=DATE:20241114
DTEND;VALUE=DATE:20241115
DTSTAMP:20260420T055256
CREATED:20240917T220944Z
LAST-MODIFIED:20240917T221027Z
UID:1408-1731542400-1731628799@diplo.us
SUMMARY:Visit from participants of the Digital Policy Leadership Program\, University of St. Gallen
DESCRIPTION:Under the framework of the Digital Policy Leadership Program (DPLP)\, a joint initiative between Insper Brazil and the University of St. Gallen\, a group of students will visit Diplo and meet with some of their experts. The group will discuss opportunities and challenges related to artificial intelligence policy\, digital trade\, and internet governance. They will also know more about digital policy discussions carried out in international Geneva\, contributing to strengthen students’ hands-on experience and interdisciplinary knowledge.
URL:https://diplo.us/event/visit-from-participants-of-the-digital-policy-leadership-program-university-of-st-gallen/
END:VEVENT
END:VCALENDAR