BEGIN:VCALENDAR
VERSION:2.0
PRODID:-//Diplo US - ECPv6.15.18//NONSGML v1.0//EN
CALSCALE:GREGORIAN
METHOD:PUBLISH
X-ORIGINAL-URL:https://diplo.us
X-WR-CALDESC:Events for Diplo US
REFRESH-INTERVAL;VALUE=DURATION:PT1H
X-Robots-Tag:noindex
X-PUBLISHED-TTL:PT1H
BEGIN:VTIMEZONE
TZID:America/New_York
BEGIN:DAYLIGHT
TZOFFSETFROM:-0500
TZOFFSETTO:-0400
TZNAME:EDT
DTSTART:20240310T070000
END:DAYLIGHT
BEGIN:STANDARD
TZOFFSETFROM:-0400
TZOFFSETTO:-0500
TZNAME:EST
DTSTART:20241103T060000
END:STANDARD
BEGIN:DAYLIGHT
TZOFFSETFROM:-0500
TZOFFSETTO:-0400
TZNAME:EDT
DTSTART:20250309T070000
END:DAYLIGHT
BEGIN:STANDARD
TZOFFSETFROM:-0400
TZOFFSETTO:-0500
TZNAME:EST
DTSTART:20251102T060000
END:STANDARD
BEGIN:DAYLIGHT
TZOFFSETFROM:-0500
TZOFFSETTO:-0400
TZNAME:EDT
DTSTART:20260308T070000
END:DAYLIGHT
BEGIN:STANDARD
TZOFFSETFROM:-0400
TZOFFSETTO:-0500
TZNAME:EST
DTSTART:20261101T060000
END:STANDARD
END:VTIMEZONE
BEGIN:VEVENT
DTSTART;TZID=America/New_York:20250911T080000
DTEND;TZID=America/New_York:20250911T093000
DTSTAMP:20260422T045123
CREATED:20250908T184820Z
LAST-MODIFIED:20250908T185029Z
UID:1526-1757577600-1757583000@diplo.us
SUMMARY:UN Cyber Dialogue: Shaping the future global mechanism for cyber-stability
DESCRIPTION:⏰ 8 am – 9:30 am EDT \nAs the UN Open-Ended Working Group (OEWG) on the security of and in the use of ICTs concluded its five-year mandate\, the conversation now turns to the future. This expert discussion will focus on the potential contours of a future global mechanism for international cyber dialogue and cooperation. Building on Part 1 of this series — which reflected on the achievements and shortcomings of the OEWG process — this session will explore what comes next: What kind of structure or platform is needed to sustain momentum\, foster trust\, and enhance cyber stability? Experts will share their lessons learned from the OEWG to inform forward-looking discussions on institutional options\, inclusivity\, and practical implementation of the agreed norms. \nThe session will bring together four discussants to offer diverse perspectives on how the OEWG experience can inform future global cyber negotiations. Through the interactive format which will allow the involvement of all the participants\, the discussion will provide a space to examine pathways and obstacles for implementation of the agreed framework\, space for articulation of consensus on some of the many open issues – in particular those related to the applicability of the international law\, possibilities to strengthen inclusivity and effectiveness in the UN cyber dialogue moving forward. \nThe session is organised as the second part of the two-part webinar. While the first part focused on reflections about the past five years of negotiations\, the second one will shift toward the future\, exploring the framing and ideas for the next phase of the UN cyber dialogue. \nThe discussants are: \n\nAsoke Mukerji\, Former Indian Ambassador to the United Nations\, New York\nIsaac Morales Tenorio\, Managing Director on Cybersecurity and Security Issues\, FTI Consulting; a former member of the UN Group of Governmental Experts (GGE) representing Mexico\nFan Yang\, Assistant Professor\, Deputy Director of Cyberspace International Law Center\, Deputy Director of International Law Department\, School of Law\, Xiamen University\n\nThe expert session will be moderated by Anastasiya Kazakova\, Geneva Dialogue project coordinator and Cyber Diplomacy Knowledge Fellow at DiploFoundation. \nThe discussion will be held online and will be open to the public. A recording of the event will also be made available afterwards on Diplo’s social media channels. \nRegister
URL:https://diplo.us/event/un-cyber-dialogue-shaping-the-future-global-mechanism-for-cyber-stability/
LOCATION:Online
ATTACH;FMTTYPE=image/jpeg:https://diplo.us/wp-content/uploads/2025/09/UN-Cyber-Dialogue-2025-web-banners_2560x400px.jpg
END:VEVENT
END:VCALENDAR