BEGIN:VCALENDAR
VERSION:2.0
PRODID:-//Diplo US - ECPv6.15.18//NONSGML v1.0//EN
CALSCALE:GREGORIAN
METHOD:PUBLISH
X-ORIGINAL-URL:https://diplo.us
X-WR-CALDESC:Events for Diplo US
REFRESH-INTERVAL;VALUE=DURATION:PT1H
X-Robots-Tag:noindex
X-PUBLISHED-TTL:PT1H
BEGIN:VTIMEZONE
TZID:America/New_York
BEGIN:DAYLIGHT
TZOFFSETFROM:-0500
TZOFFSETTO:-0400
TZNAME:EDT
DTSTART:20240310T070000
END:DAYLIGHT
BEGIN:STANDARD
TZOFFSETFROM:-0400
TZOFFSETTO:-0500
TZNAME:EST
DTSTART:20241103T060000
END:STANDARD
BEGIN:DAYLIGHT
TZOFFSETFROM:-0500
TZOFFSETTO:-0400
TZNAME:EDT
DTSTART:20250309T070000
END:DAYLIGHT
BEGIN:STANDARD
TZOFFSETFROM:-0400
TZOFFSETTO:-0500
TZNAME:EST
DTSTART:20251102T060000
END:STANDARD
BEGIN:DAYLIGHT
TZOFFSETFROM:-0500
TZOFFSETTO:-0400
TZNAME:EDT
DTSTART:20260308T070000
END:DAYLIGHT
BEGIN:STANDARD
TZOFFSETFROM:-0400
TZOFFSETTO:-0500
TZNAME:EST
DTSTART:20261101T060000
END:STANDARD
END:VTIMEZONE
BEGIN:VEVENT
DTSTART;TZID=America/New_York:20251002T090000
DTEND;TZID=America/New_York:20251002T103000
DTSTAMP:20260420T051017
CREATED:20250929T193823Z
LAST-MODIFIED:20250930T194337Z
UID:1538-1759395600-1759401000@diplo.us
SUMMARY:CADE Mapping and Baseline Study Report Launch
DESCRIPTION:Diplo\, as a lead of the Civil Society Alliances for Digital Empowerment (CADE) consortium\, is pleased to invite you to the official launch of the CADE Mapping and Baseline Study Reports. \nThe Mapping and Baseline studies shed light on the current landscape\, challenges\, and opportunities surrounding CSO participation in key Internet Governance (IG) spaces—such as the IGF\, ICANN\, ITU\, and IETF—with a special focus on underrepresented voices from the Global South. The studies also offer actionable recommendations to strengthen meaningful and inclusive engagement of CSOs in these critical digital policy processes. \n📅 Register now! \n\nWhen: Thursday\, 2 October 2025 \n13:00 – 14:30 UTC (Click here to see your local time)\nCLICK HERE TO REGISTER!\n\nThe event will: \n\nPresent key findings from the global Mapping and Baseline Study reports on civil society engagement in Internet Governance;\nHighlight systemic barriers and opportunities for CSO participation in IG processes;\nFeature reflections from Internet Governance institutions (ICANN\, ITU\, IETF\, IGF);\nExplore next steps to strengthen inclusive digital governance.\n\nThe launch will feature key presentations of the study’s findings\, discussion among representatives from civil society\, Internet Governance standard setting bodies to reflect on the way forward for CSO participation in shaping the future of the Internet. \nYour insights and engagement would add tremendous value to this discussion\, and we would be honoured by your presence. \nWe look forward to your confirmation and to welcoming you at the event. \nRegister
URL:https://diplo.us/event/cade-mapping-and-baseline-study-report-launch/
LOCATION:Online
ATTACH;FMTTYPE=image/jpeg:https://diplo.us/wp-content/uploads/2025/09/CADE-Mapping-and-Baseline-Study-Report-Launch_2560x400px-generic.jpg
END:VEVENT
END:VCALENDAR