BEGIN:VCALENDAR
VERSION:2.0
PRODID:-//Diplo US - ECPv6.15.18//NONSGML v1.0//EN
CALSCALE:GREGORIAN
METHOD:PUBLISH
X-WR-CALNAME:Diplo US
X-ORIGINAL-URL:https://diplo.us
X-WR-CALDESC:Events for Diplo US
REFRESH-INTERVAL;VALUE=DURATION:PT1H
X-Robots-Tag:noindex
X-PUBLISHED-TTL:PT1H
BEGIN:VTIMEZONE
TZID:America/New_York
BEGIN:DAYLIGHT
TZOFFSETFROM:-0500
TZOFFSETTO:-0400
TZNAME:EDT
DTSTART:20180311T070000
END:DAYLIGHT
BEGIN:STANDARD
TZOFFSETFROM:-0400
TZOFFSETTO:-0500
TZNAME:EST
DTSTART:20181104T060000
END:STANDARD
BEGIN:DAYLIGHT
TZOFFSETFROM:-0500
TZOFFSETTO:-0400
TZNAME:EDT
DTSTART:20190310T070000
END:DAYLIGHT
BEGIN:STANDARD
TZOFFSETFROM:-0400
TZOFFSETTO:-0500
TZNAME:EST
DTSTART:20191103T060000
END:STANDARD
BEGIN:DAYLIGHT
TZOFFSETFROM:-0500
TZOFFSETTO:-0400
TZNAME:EDT
DTSTART:20200308T070000
END:DAYLIGHT
BEGIN:STANDARD
TZOFFSETFROM:-0400
TZOFFSETTO:-0500
TZNAME:EST
DTSTART:20201101T060000
END:STANDARD
END:VTIMEZONE
BEGIN:VEVENT
DTSTART;TZID=America/New_York:20190129T070000
DTEND;TZID=America/New_York:20190129T080000
DTSTAMP:20260419T184855
CREATED:20190111T143612Z
LAST-MODIFIED:20190122T114555Z
UID:272-1548745200-1548748800@diplo.us
SUMMARY:Briefing - Internet governance in January 2019
DESCRIPTION:You receive hundreds of pieces of information on digital politics.\nWe receive them\, too.\nWe decode\, contextualise\, and analyse them.\nThen we summarise them for you. \nEvery last Tuesday of the month\, the Internet governance briefings provide a ‘zoomed-out’ update of the major global IG and digital policy developments. \nThe Internet governance in January 2019 briefing takes place on Tuesday\, 29th January\, at 12:00 UTC (13:00 CET). Join us online; fill in the registration form to reserve your place. \nThe monthly Internet governance briefings are organised by the Geneva Internet Platform (GIP)\, a Swiss initiative run by DiploFoundation. Learn more about our monthly briefings and local hubs. To keep up-to-date with GIP events\, subscribe to our mailing list. More information at gip@diplomacy.edu.
URL:https://diplo.us/event/briefing-internet-governance-in-january-2019/
END:VEVENT
END:VCALENDAR