BEGIN:VCALENDAR
VERSION:2.0
PRODID:-//Diplo US - ECPv6.15.18//NONSGML v1.0//EN
CALSCALE:GREGORIAN
METHOD:PUBLISH
X-WR-CALNAME:Diplo US
X-ORIGINAL-URL:https://diplo.us
X-WR-CALDESC:Events for Diplo US
REFRESH-INTERVAL;VALUE=DURATION:PT1H
X-Robots-Tag:noindex
X-PUBLISHED-TTL:PT1H
BEGIN:VTIMEZONE
TZID:America/New_York
BEGIN:DAYLIGHT
TZOFFSETFROM:-0500
TZOFFSETTO:-0400
TZNAME:EDT
DTSTART:20180311T070000
END:DAYLIGHT
BEGIN:STANDARD
TZOFFSETFROM:-0400
TZOFFSETTO:-0500
TZNAME:EST
DTSTART:20181104T060000
END:STANDARD
BEGIN:DAYLIGHT
TZOFFSETFROM:-0500
TZOFFSETTO:-0400
TZNAME:EDT
DTSTART:20190310T070000
END:DAYLIGHT
BEGIN:STANDARD
TZOFFSETFROM:-0400
TZOFFSETTO:-0500
TZNAME:EST
DTSTART:20191103T060000
END:STANDARD
BEGIN:DAYLIGHT
TZOFFSETFROM:-0500
TZOFFSETTO:-0400
TZNAME:EDT
DTSTART:20200308T070000
END:DAYLIGHT
BEGIN:STANDARD
TZOFFSETFROM:-0400
TZOFFSETTO:-0500
TZNAME:EST
DTSTART:20201101T060000
END:STANDARD
END:VTIMEZONE
BEGIN:VEVENT
DTSTART;VALUE=DATE:20190217
DTEND;VALUE=DATE:20190219
DTSTAMP:20260419T205529
CREATED:20190111T144701Z
LAST-MODIFIED:20190122T114458Z
UID:275-1550430000-1550516399@diplo.us
SUMMARY:Online Diploma Course in Humanitarian Diplomacy
DESCRIPTION:Humanitarian diplomacy is persuading decision makers and opinion leaders to act at all times in the interests of vulnerable people\, and with full respect for fundamental humanitarian principles. \n \nThe rapid expansion of the number of humanitarian actors in recent years\, working for or with governments at all levels and often in complex situations\, makes humanitarian diplomacy increasingly important. \nHumanitarian diplomacy aims to mobilise public and governmental support and resources for humanitarian operations and programmes\, and to facilitate effective partnerships for responding to the needs of vulnerable people. Humanitarian diplomacy includes advocacy\, negotiation\, communication\, formal agreements\, and other measures. It is a field with many players\, including governments\, international organisations\, NGOs\, the private sector\, and individuals. \nThe online diploma course in humanitarian diplomacy is offered by the International Federation of Red Cross and Red Crescent Societies (IFRC) in partnership with DiploFoundation. Course faculty draws on leading experts from around the world\, as resource people and guest lecturers. \n  \nThis course is currently offered in English\, however participants who are more comfortable with French or Spanish will have the option to write and submit some course assignments and the final research paper in either of those languages. \n  \nThe application deadline is 14 January 2019. \n  \nFor more information on studying online and to appy\, please visit Diplo’s courses website or contact admissions@diplomacy.edu. \n 
URL:https://diplo.us/event/online-diploma-course-in-humanitarian-diplomacy/
END:VEVENT
BEGIN:VEVENT
DTSTART;VALUE=DATE:20190216
DTEND;VALUE=DATE:20190217
DTSTAMP:20260419T205529
CREATED:20190213T150129Z
LAST-MODIFIED:20190213T150129Z
UID:383-1550275200-1550361599@diplo.us
SUMMARY:Embedding science and technology in international relations education and diplomatic training
DESCRIPTION:The AAAS Center for Science Diplomacy and Diplo are co-organising the session ‘Embedding science and technology in international relations education and diplomatic training’ on Saturday February in Washington DC. \nWith the insights\, practice\, and products of science and technology becoming increasingly important to and in international relations and diplomacy\, greater capacity to understand science diplomacy is necessary for both the scientific and the international relations communities. \nThe overall goal of the roundtable is to share and discuss different approaches and models to incorporate science in diplomatic training at all levels\, from undergraduate to professional development and executive education. After hearing initial perspectives from representatives from academia\, foreign and science ministries\, international organisations and scientific societies\, we will go around the table for everyone to react and share their own experiences from their countries\, organisations\, and sectors. \nIn 2017\, the AAAS Center for Science Diplomacy launched the Science Diplomacy Education Network (SciDipEd)\, a platform to bring together educators and students in the U.S. and across the world interested in formal and informal science diplomacy education and training. The Center launched the first ever online course dedicated to science diplomacy in 2017\, now incorporated into the syllabus of several science diplomacy courses worldwide. \nThis session at the 2019 AAAS Annual Meeting\, in partnership with Diplo\, will bring together ministries of foreign affairs\, diplomatic academies\, schools of international relations and multilateral organisations to discuss approaches to incorporating science in diplomatic training. The objectives of the session are: \n\nTo highlight model approaches for science diplomacy education at undergraduate\, graduate\, and professional levels.\nTo share experiences and best practices and promote exchange and networking between key stakeholders and communities of research and training.\nTo introduce curricula\, resources\, case studies and other materials and present upcoming education and training opportunities in science diplomacy.\n\nFor more information\, contact Ms Pavlina Ittelson.
URL:https://diplo.us/event/embedding-science-and-technology-in-international-relations-education-and-diplomatic-training/
END:VEVENT
BEGIN:VEVENT
DTSTART;TZID=America/New_York:20190129T070000
DTEND;TZID=America/New_York:20190129T080000
DTSTAMP:20260419T205529
CREATED:20190111T143612Z
LAST-MODIFIED:20190122T114555Z
UID:272-1548745200-1548748800@diplo.us
SUMMARY:Briefing - Internet governance in January 2019
DESCRIPTION:You receive hundreds of pieces of information on digital politics.\nWe receive them\, too.\nWe decode\, contextualise\, and analyse them.\nThen we summarise them for you. \nEvery last Tuesday of the month\, the Internet governance briefings provide a ‘zoomed-out’ update of the major global IG and digital policy developments. \nThe Internet governance in January 2019 briefing takes place on Tuesday\, 29th January\, at 12:00 UTC (13:00 CET). Join us online; fill in the registration form to reserve your place. \nThe monthly Internet governance briefings are organised by the Geneva Internet Platform (GIP)\, a Swiss initiative run by DiploFoundation. Learn more about our monthly briefings and local hubs. To keep up-to-date with GIP events\, subscribe to our mailing list. More information at gip@diplomacy.edu.
URL:https://diplo.us/event/briefing-internet-governance-in-january-2019/
END:VEVENT
END:VCALENDAR