BEGIN:VCALENDAR
VERSION:2.0
PRODID:-//Diplo US - ECPv6.15.20//NONSGML v1.0//EN
CALSCALE:GREGORIAN
METHOD:PUBLISH
X-ORIGINAL-URL:https://diplo.us
X-WR-CALDESC:Events for Diplo US
REFRESH-INTERVAL;VALUE=DURATION:PT1H
X-Robots-Tag:noindex
X-PUBLISHED-TTL:PT1H
BEGIN:VTIMEZONE
TZID:America/New_York
BEGIN:DAYLIGHT
TZOFFSETFROM:-0500
TZOFFSETTO:-0400
TZNAME:EDT
DTSTART:20190310T070000
END:DAYLIGHT
BEGIN:STANDARD
TZOFFSETFROM:-0400
TZOFFSETTO:-0500
TZNAME:EST
DTSTART:20191103T060000
END:STANDARD
BEGIN:DAYLIGHT
TZOFFSETFROM:-0500
TZOFFSETTO:-0400
TZNAME:EDT
DTSTART:20200308T070000
END:DAYLIGHT
BEGIN:STANDARD
TZOFFSETFROM:-0400
TZOFFSETTO:-0500
TZNAME:EST
DTSTART:20201101T060000
END:STANDARD
BEGIN:DAYLIGHT
TZOFFSETFROM:-0500
TZOFFSETTO:-0400
TZNAME:EDT
DTSTART:20210314T070000
END:DAYLIGHT
BEGIN:STANDARD
TZOFFSETFROM:-0400
TZOFFSETTO:-0500
TZNAME:EST
DTSTART:20211107T060000
END:STANDARD
END:VTIMEZONE
BEGIN:VEVENT
DTSTART;TZID=America/New_York:20200901T080000
DTEND;TZID=America/New_York:20200901T120000
DTSTAMP:20260424T234022
CREATED:20200830T211149Z
LAST-MODIFIED:20200830T212325Z
UID:687-1598947200-1598961600@diplo.us
SUMMARY:[WebDebate] The UN at 75: Evolution or revolution?
DESCRIPTION:This year is the 75th anniversary of the United Nations\, and we are marking the occasion with a Webdebate on the past and the future of the organisation. \nBy looking back at the past 75 years of the world organisation\, we will try to answer an important question: Are we seeing an evolution or a revolution in some of the key UN topics and how they are addressed? \nThe past 75 years vs the last 7.5 months: The need to respond to COVID-19 and the tremendous impact the crisis had on almost all aspects of life around the world\, highlighted the crucial importance of the UN. To what extent are the past 75 years reflected in the past 7.5 months? \nOur discussion will focus on three core pillars of the UN: peace and security\, human rights\, and sustainable development. We will also explore how these three pillars are increasingly connected via the emerging theme of digital co-operation. \nQuestions around peace and security\, and human rights\, have been with the organisation from its inception\, while sustainable development and digital co-operation are more recent topics on the UN’s agenda. In each case\, we look back at past developments in order to reflect on future ones. Are we witnessing an evolution or a revolution\, and how have the past 7.5 months further shaped these topics? \nJoin us on Tuesday\, 1st September\, at 12:00 UTC (08:00 EDT | 14:00 CEST | 20:00 CST). To attend\, please register below. \nRegistrations are open \nRegister×Speakers\nDr Jovan Kurbalija – Executive Director\, DiploFoundation | Head\, Geneva Internet Platform (GIP) | former Executive Director of the Secretariat of the UN High-level Panel on Digital Cooperation (2018-19) \nMr Marc Limon – Executive Director\, Universal Rights Group (URG) | diplomat at the UN Human Rights Council between (2006 – 2012) \nAmbassador Asoke Mukerji – India’s ambassador and permanent representative to the UN in New York from 2013 to 2015 \nMs Irena Zubčević – Chief\, Intergovernmental Policy and Review Branch\, Office of Intergovernmental Support and Coordination for Sustainable Development\, UN Department of Economic and Social Affairs \nModerator\nDr Katharina Höne – Senior Researcher and Lecturer\, DiploFoundation \nAbout our WebDebates\nOur WebDebates on the future of diplomacy are live streamed on the first Tuesday of every month. They are organised by DiploFoundation within the framework of the International Forum on Diplomatic Training (IFDT). Learn more about our series of WebDebates. \nIf you form part of a dynamic circle of practitioners in your community\, we encourage you to establish a diplomatic hub to follow the WebDebates and to facilitate discussions. For more information\, contact Diplo’s Ms Mina Mudrić. \nRegister
URL:https://diplo.us/event/webdebate-the-un-at-75-evolution-or-revolution/
LOCATION:Online
ATTACH;FMTTYPE=image/jpeg:https://diplo.us/wp-content/uploads/2020/08/WebDebate_Sept2020.jpg
END:VEVENT
BEGIN:VEVENT
DTSTART;TZID=America/New_York:20200929T070000
DTEND;TZID=America/New_York:20200929T080000
DTSTAMP:20260424T234022
CREATED:20200222T193702Z
LAST-MODIFIED:20200222T193702Z
UID:588-1601362800-1601366400@diplo.us
SUMMARY:[Briefing] Internet governance in September 2020
DESCRIPTION:What were the main Internet governance updates in September? How will recent updates influence the developments in upcoming months? Join us for our next monthly briefing on Tuesday\, 29th September\, at 7 am EDT\, for a round-up of the major global IG and digital policy developments. \nRegistrations are open \nRegister×\nYou receive hundreds of pieces of information on digital politics.We receive them\, too.We decode\, contextualise\, and analyse them.Then we summarise them for you. \nEvery last Tuesday of the month\, the Internet governance briefings provide a ‘zoomed-out’ update of the major global IG and digital policy developments. \nThe Internet governance in September 2020 briefing takes place on Tuesday\, 29th September\, at 7 am EDT. Join us online; fill in the registration form to reserve your place. \nThe monthly Internet governance briefings are organised by the Geneva Internet Platform (GIP)\, a Swiss initiative run by DiploFoundation. Learn more about our monthly briefings and local hubs. To keep up-to-date with GIP events\, subscribe to our mailing list. More information at gip@diplomacy.edu. \nRegistrations are open: \n\nRegister
URL:https://diplo.us/event/briefing-internet-governance-in-september-2020/
LOCATION:Online
END:VEVENT
END:VCALENDAR