BEGIN:VCALENDAR
VERSION:2.0
PRODID:-//Diplo US - ECPv6.15.20//NONSGML v1.0//EN
CALSCALE:GREGORIAN
METHOD:PUBLISH
X-ORIGINAL-URL:https://diplo.us
X-WR-CALDESC:Events for Diplo US
REFRESH-INTERVAL;VALUE=DURATION:PT1H
X-Robots-Tag:noindex
X-PUBLISHED-TTL:PT1H
BEGIN:VTIMEZONE
TZID:America/New_York
BEGIN:DAYLIGHT
TZOFFSETFROM:-0500
TZOFFSETTO:-0400
TZNAME:EDT
DTSTART:20200308T070000
END:DAYLIGHT
BEGIN:STANDARD
TZOFFSETFROM:-0400
TZOFFSETTO:-0500
TZNAME:EST
DTSTART:20201101T060000
END:STANDARD
BEGIN:DAYLIGHT
TZOFFSETFROM:-0500
TZOFFSETTO:-0400
TZNAME:EDT
DTSTART:20210314T070000
END:DAYLIGHT
BEGIN:STANDARD
TZOFFSETFROM:-0400
TZOFFSETTO:-0500
TZNAME:EST
DTSTART:20211107T060000
END:STANDARD
BEGIN:DAYLIGHT
TZOFFSETFROM:-0500
TZOFFSETTO:-0400
TZNAME:EDT
DTSTART:20220313T070000
END:DAYLIGHT
BEGIN:STANDARD
TZOFFSETFROM:-0400
TZOFFSETTO:-0500
TZNAME:EST
DTSTART:20221106T060000
END:STANDARD
END:VTIMEZONE
BEGIN:VEVENT
DTSTART;TZID=America/New_York:20210607T080000
DTEND;TZID=America/New_York:20210607T090000
DTSTAMP:20260424T095502
CREATED:20210607T134942Z
LAST-MODIFIED:20210607T135033Z
UID:805-1623052800-1623056400@diplo.us
SUMMARY:[Briefing #76] Internet governance in June 2021
DESCRIPTION:Join us for this month’s Digital Watch Internet Governance Briefing on Tuesday\, 29th June\, at 8am EDT (14.00 CEST). \nCatch up on the major internet governance and digital policy updates from all around the globe and join our experts as they analyse the existing and emerging policy trends. \nRegistrations are open \nRegister×Register below and join the Digital Watch Internet Governance Briefing on Zoom for an interactive experience or watch our live streams on YouTube and Facebook on the last Tuesday of each month. \nThe monthly Digital Watch Internet Governance Briefing is organised by the Geneva Internet Platform (GIP)’s Digital Watch Observatory\, a Diplo initiative. Keep up with the most recent digital policy and internet governance updates\, in-time reports from major global digital policy events\, existing and emerging policy trends and much more! Subscribe to the Digital Watch Observatory newsletter here to receive in-time and in-depth analysis on digital policy. \nRegister
URL:https://diplo.us/event/briefing-76-internet-governance-in-june-2021/
LOCATION:Online
ATTACH;FMTTYPE=image/jpeg:https://diplo.us/wp-content/uploads/2021/06/diplo-event-1.jpg
END:VEVENT
BEGIN:VEVENT
DTSTART;TZID=America/New_York:20210608T080000
DTEND;TZID=America/New_York:20210608T090000
DTSTAMP:20260424T095502
CREATED:20210607T104739Z
LAST-MODIFIED:20210607T111218Z
UID:789-1623139200-1623142800@diplo.us
SUMMARY:[WebDebate #48] Virtual and hybrid diplomacy: What have we learned?
DESCRIPTION:In light of social distancing and lockdowns due to the COVID-19 pandemic\, diplomatic practice had to adapt. Overall\, diplomacy has proven remarkably resilient. Videoconferencing and other means of digital communication have ensured continuity of diplomatic practice and negotiations. Hybrid (blended) forms of diplomacy that combine in-situ and virtual attendance at meetings have emerged as another adaptation. Given the advantages\, this form of hybrid diplomacy is here to stay. Diplomatic practice has always existed at the interplay of continuity and change\, and the present moment is a crucial turning point which might determine the future of diplomatic practice. \nJoin us on Tuesday\, 8th June\, at 8am EST (12:00 UTC | 08:00 EDT | 14:00 CEST | 20:00 CST). \nRegistrations are open \nRegister×In October 2020\, Diplo provided initial research on this topic at its conference and in its research report. Now\, more than a year after the start of the pandemic\, we need to ask: Where are we now? What have we learned? And how will the future of diplomatic practice be influenced? In order to shed light on these topics\, we are joined by two scholars from the Oxford Digital Diplomacy Research Group. \nSpeakers\nProf. Corneliu Bjola is associate professor of Diplomatic Studies at the University of Oxford\, and head of the Oxford Digital Diplomacy Research Group. He also serves as a faculty fellow at the Center on Public Diplomacy at the University of Southern California\, and as a professorial lecturer at the Diplomatic Academy of Vienna. He has published extensively on issues related to the impact of digital technology on the conduct of diplomacy with a recent focus on public diplomacy\, international negotiations\, and methods for countering digital propaganda. His recent co-edited volume Digital Diplomacy and International Organizations: Autonomy\, Legitimacy and Contestation (Routledge\, 2020) examines the broader ramifications of digital technologies on the internal dynamics\, multilateral policies\, and strategic engagements of international organisations. \nBjola is currently working on the new co-edited volume Digital International Relations\, examining how digital disruption changes the technological parameters of ordering processes in world politics. \nDr Ilan Manor is a digital diplomacy scholar at Tel Aviv University and a member of the Oxford Digital Diplomacy Research Group. His book\, The Digitalization of Public Diplomacy\, was published in 2019. His co-edited volume\, Public Diplomacy and the Politics of Uncertainty\, was published in 2020. \nAbout our WebDebates\nOur WebDebates on the future of diplomacy are live-streamed on the first Tuesday of every month. They are organised by Diplo within the framework of the International Forum on Diplomatic Training (IFDT). Learn more about our series of WebDebates here. \nRegister
URL:https://diplo.us/event/webdebate-48-virtual-and-hybrid-diplomacy-what-have-we-learned/
LOCATION:Online
ATTACH;FMTTYPE=image/jpeg:https://diplo.us/wp-content/uploads/2021/06/Debates-Live-discussions-1200x628px-June-2021.jpeg
END:VEVENT
BEGIN:VEVENT
DTSTART;TZID=America/New_York:20210615T090000
DTEND;TZID=America/New_York:20210615T100000
DTSTAMP:20260424T095502
CREATED:20210607T111139Z
LAST-MODIFIED:20210607T132300Z
UID:794-1623747600-1623751200@diplo.us
SUMMARY:The role of the Human Rights Council in promoting a human rights-based approach to new and emerging technologies
DESCRIPTION:High-level Panel Discussion \nThe role of the Human Rights Council in promoting\na human rights-based approach to new and emerging technologies \nTuesday\, 15th June 2021 \n 9am EDT (13:00 UTC | 15:00 CEST | 21:00 CST) \nCo-organizer: Core Group on new technologies (South Korea\, Austria\, Brazil\, Denmark\, Morocco\, Singapore); OHCHR \nRegistrations are open \nRegister×In his “Call for Action on Human Rights”\, UN Secretary-General Guterres identified new and emerging technologies as a new frontier for human rights. He called for the development of a human rights-based for the digital space\, following-up on the recommendations of the High-Level Panel on Digital Cooperation. Within the framework of the Human Rights Council and its special mechanisms\, numerous resolutions\, publications\, and recommendations have emerged in recent years addressing the impact of new technologies on specific rights (right to privacy\, freedom of association\, freedom of expression\, children’s rights\, economic/social/cultural rights). In 2019\, the HRC adopted a resolution tasking its Advisory Committee to develop a global perspective on the issue and to identify options for action for the HRC. The report will be presented to the HRC at its 47th session in June 2021. \nRegister
URL:https://diplo.us/event/the-role-of-the-human-rights-council-in-promoting-a-human-rights-based-approach-to-new-and-emerging-technologies/
LOCATION:Online
ATTACH;FMTTYPE=image/jpeg:https://diplo.us/wp-content/uploads/2021/06/diplo-event-1.jpg
END:VEVENT
BEGIN:VEVENT
DTSTART;TZID=America/New_York:20210624T080000
DTEND;TZID=America/New_York:20210624T090000
DTSTAMP:20260424T095502
CREATED:20210607T134412Z
LAST-MODIFIED:20210607T134556Z
UID:800-1624521600-1624525200@diplo.us
SUMMARY:Renaissance diplomacy: Compromise as a solution to conflict [A historical journey #6]
DESCRIPTION:A masterclass with Jovan Kurbalija\nDiplomacy and technology: A historical journey #6\nRenaissance diplomacy: Compromise as a solution to conflict \n08:00 EDT (12:00 UTC | 14:00 CEST | 20:00 CST) \nRegistrations are open \nRegister×Join us in our next journey through the history of diplomacy and technology. In June\, we will look at Renaissance diplomacy\, and the impact the invention of the printing press had on diplomacy during the Reformation. \nFind out more about how technology influenced the history of diplomacyOur experts involved\nExecutive Director \nJovan KurbalijaRenaissance diplomacy developed between Italian city-states. Relations between these states were influenced by three key elements: no hegemonic power\, a strong interest in cooperating\, and solving problems through peaceful means. Like the Byzantine Empire\, the Italian city-states preferred to use diplomacy as a way of solving disputes. Italian city-states – in particular Venice – also borrowed certain diplomatic techniques from the Byzantines\, such as deception\, bribery\, and espionage. These later became the trademark of Renaissance diplomacy. \nDuring the Renaissance\, the first full diplomatic system was established. It consisted of permanent diplomatic missions\, diplomatic reporting\, and diplomatic privileges. In diplomatic history\, it has been widely accepted that the first permanent diplomatic mission was established in 1455\, representing the Duke of Milan in Genoa. \nAnother important development\, linked mainly to the Reformation\, was the invention of the printing press. This invention had a considerable impact on all functions of society\, including diplomacy. The Church’s dominance through parchment-based writing was challenged\, and its participation in diplomacy gradually weakened. Clergymen no longer held a monopoly in literacy and were no longer an indispensable part of each diplomatic mission. \nDuring this period of slow and undeveloped transportation and communications\, diplomats were among the few who had the privilege of travelling to remote places in search of news. They played an important role in transferring and spreading knowledge and information. \nTo find out more\, join us for the next Masterclass episode ‘Renaissance diplomacy: Compromise as a solution to conflict’\, on Thursday\, June 24th\, at 8am EDT \nRegister
URL:https://diplo.us/event/renaissance-diplomacy-compromise-as-a-solution-to-conflict-a-historical-journey-6/
LOCATION:Online
ATTACH;FMTTYPE=image/png:https://diplo.us/wp-content/uploads/2021/01/Diplomacy-and-Technology_Journey.png
END:VEVENT
BEGIN:VEVENT
DTSTART;TZID=America/New_York:20210629T080000
DTEND;TZID=America/New_York:20210629T090000
DTSTAMP:20260424T095502
CREATED:20210608T091200Z
LAST-MODIFIED:20210608T113932Z
UID:811-1624953600-1624957200@diplo.us
SUMMARY:[Briefing #76] Internet governance in June 2021
DESCRIPTION:Join us for this month’s Digital Watch Internet Governance Briefing on Tuesday\, 29th June\, at 8.00 EDT (14.00 CEST). \nCatch up on the major internet governance and digital policy updates from all around the globe and join our experts as they analyse the existing and emerging policy trends. \nRegistrations are open \nRegister×Register below and join the Digital Watch Internet Governance Briefing on Zoom for an interactive experience or watch our live streams on YouTube and Facebook on the last Tuesday of each month. \nThe monthly Digital Watch Internet Governance Briefing is organised by the Geneva Internet Platform (GIP)’s Digital Watch Observatory\, a Diplo initiative. Keep up with the most recent digital policy and internet governance updates\, in-time reports from major global digital policy events\, existing and emerging policy trends and much more! Subscribe to the Digital Watch Observatory newsletter here to receive in-time and in-depth analysis on digital policy. \nRegister
URL:https://diplo.us/event/briefing-76-internet-governance-in-june-2021-2/
LOCATION:Online
ATTACH;FMTTYPE=image/jpeg:https://diplo.us/wp-content/uploads/2021/06/diplo-event-1.jpg
END:VEVENT
END:VCALENDAR