BEGIN:VCALENDAR
VERSION:2.0
PRODID:-//Diplo US - ECPv6.15.20//NONSGML v1.0//EN
CALSCALE:GREGORIAN
METHOD:PUBLISH
X-WR-CALNAME:Diplo US
X-ORIGINAL-URL:https://diplo.us
X-WR-CALDESC:Events for Diplo US
REFRESH-INTERVAL;VALUE=DURATION:PT1H
X-Robots-Tag:noindex
X-PUBLISHED-TTL:PT1H
BEGIN:VTIMEZONE
TZID:America/New_York
BEGIN:DAYLIGHT
TZOFFSETFROM:-0500
TZOFFSETTO:-0400
TZNAME:EDT
DTSTART:20210314T070000
END:DAYLIGHT
BEGIN:STANDARD
TZOFFSETFROM:-0400
TZOFFSETTO:-0500
TZNAME:EST
DTSTART:20211107T060000
END:STANDARD
BEGIN:DAYLIGHT
TZOFFSETFROM:-0500
TZOFFSETTO:-0400
TZNAME:EDT
DTSTART:20220313T070000
END:DAYLIGHT
BEGIN:STANDARD
TZOFFSETFROM:-0400
TZOFFSETTO:-0500
TZNAME:EST
DTSTART:20221106T060000
END:STANDARD
BEGIN:DAYLIGHT
TZOFFSETFROM:-0500
TZOFFSETTO:-0400
TZNAME:EDT
DTSTART:20230312T070000
END:DAYLIGHT
BEGIN:STANDARD
TZOFFSETFROM:-0400
TZOFFSETTO:-0500
TZNAME:EST
DTSTART:20231105T060000
END:STANDARD
END:VTIMEZONE
BEGIN:VEVENT
DTSTART;TZID=America/New_York:20220609T090000
DTEND;TZID=America/New_York:20220610T164000
DTSTAMP:20260423T174517
CREATED:20220607T053639Z
LAST-MODIFIED:20220607T055707Z
UID:971-1654765200-1654879200@diplo.us
SUMMARY:Our Immersive Digital Future: How Extended Reality May Affect International Relations
DESCRIPTION:Event description\nImmersive spatial computing technologies\, such as augmented reality and virtual reality\, can change how we see\, interact with\, and experience the world. But we don’t know how these technologies may affect global governance and international relations. The @DataGovHub XR Conference aims to foster a discussion around these issues. \nDiplo is supporting this event as an event partner. \nMoreover\, Diplo’s Head of Digital Commerce and Internet Policy Marília Maciel will participate in the session XR and Economic Issues on Friday\, 10th June\, 15:00–16:15 (Washington DC time). \nFor more information and to register\, please visit \nthe official page×Register
URL:https://diplo.us/event/our-immersive-digital-future-how-extended-reality-may-affect-international-relations/
LOCATION:Elliott School of International Affairs\, 1957 E Street Northwest\, Washington\, DC\, 20052\, United States
ORGANIZER;CN="DataGovHub XR":MAILTO:info@datagovhub.gwu.edu
END:VEVENT
BEGIN:VEVENT
DTSTART;TZID=America/New_York:20220615T070000
DTEND;TZID=America/New_York:20220615T080000
DTSTAMP:20260423T174517
CREATED:20220607T055149Z
LAST-MODIFIED:20220607T055748Z
UID:979-1655276400-1655280000@diplo.us
SUMMARY:Digitalization and E-Commerce: New prospects for tackling inequality? (IISD Trade and Sustainability Hub)
DESCRIPTION:Event description\nAs a result of the digital revolution\, e-commerce is increasingly becoming the central channel through which global economic activity takes place. However\, not everyone has equal access to digital infrastructure and digital knowledge. There is therefore a risk that certain segments of the population\, as well as poorer countries\, lose out on opportunities to participate in and benefit from the digital economy. This may result in growing inequalities not only within a country but also between countries. \nThis round table at the International Institute for Sustainable Development (IISD) Trade and Sustainability Hub will explore how the digital divide leads to digital inequalities\, and impacts e-commerce development and governance. It will also examine how the digital divide is addressed in recent trade agreements and the World Trade Organization (WTO) negotiations: Do they go far enough to promote inclusive e-commerce? And what more can be done? \nDiplo’s Head of Digital Commerce and Internet Policy Marília Maciel will participate in this session\, which will be held on Wednesday\, 15th June\, 7am –8am EDT. \nFor more information and to register\, please visit \nthe official page×Register
URL:https://diplo.us/event/digitalization-and-e-commerce-new-prospects-for-tackling-inequality-iisd-trade-and-sustainability-hub/
END:VEVENT
BEGIN:VEVENT
DTSTART;TZID=America/New_York:20220628T080000
DTEND;TZID=America/New_York:20220628T170000
DTSTAMP:20260423T174517
CREATED:20220607T055547Z
LAST-MODIFIED:20220607T055607Z
UID:981-1656403200-1656435600@diplo.us
SUMMARY:[Briefing #86] Internet governance in June 2022
DESCRIPTION:Event description\nJoin us for June’s Digital Watch Internet Governance Briefing on Tuesday\, 28th June\, at 8am EDT (14.00 CEST). \nCatch up on the major internet governance and digital policy updates from all around the globe and join our experts as they analyse the existing and emerging policy trends. \nRegister and join the Digital Watch Internet Governance Briefing on Zoom for an interactive experience or watch our live streams on YouTube and Facebook on the last Tuesday of each month. \n\n\n\n\n\n\n\n\nRegister
URL:https://diplo.us/event/briefing-86-internet-governance-in-june-2022/
LOCATION:Online
END:VEVENT
END:VCALENDAR