BEGIN:VCALENDAR
VERSION:2.0
PRODID:-//Diplo US - ECPv6.15.18//NONSGML v1.0//EN
CALSCALE:GREGORIAN
METHOD:PUBLISH
X-ORIGINAL-URL:https://diplo.us
X-WR-CALDESC:Events for Diplo US
REFRESH-INTERVAL;VALUE=DURATION:PT1H
X-Robots-Tag:noindex
X-PUBLISHED-TTL:PT1H
BEGIN:VTIMEZONE
TZID:America/New_York
BEGIN:DAYLIGHT
TZOFFSETFROM:-0500
TZOFFSETTO:-0400
TZNAME:EDT
DTSTART:20210314T070000
END:DAYLIGHT
BEGIN:STANDARD
TZOFFSETFROM:-0400
TZOFFSETTO:-0500
TZNAME:EST
DTSTART:20211107T060000
END:STANDARD
BEGIN:DAYLIGHT
TZOFFSETFROM:-0500
TZOFFSETTO:-0400
TZNAME:EDT
DTSTART:20220313T070000
END:DAYLIGHT
BEGIN:STANDARD
TZOFFSETFROM:-0400
TZOFFSETTO:-0500
TZNAME:EST
DTSTART:20221106T060000
END:STANDARD
BEGIN:DAYLIGHT
TZOFFSETFROM:-0500
TZOFFSETTO:-0400
TZNAME:EDT
DTSTART:20230312T070000
END:DAYLIGHT
BEGIN:STANDARD
TZOFFSETFROM:-0400
TZOFFSETTO:-0500
TZNAME:EST
DTSTART:20231105T060000
END:STANDARD
END:VTIMEZONE
BEGIN:VEVENT
DTSTART;TZID=America/New_York:20220902T090000
DTEND;TZID=America/New_York:20220902T100000
DTSTAMP:20260423T121411
CREATED:20220826T123403Z
LAST-MODIFIED:20220826T140706Z
UID:990-1662109200-1662112800@diplo.us
SUMMARY:Data Governance in the Context of Emerging Technologies: Promoting Human-Centred and Development-Oriented Societies
DESCRIPTION:Event description\nDate: Friday\, 2nd September\, 9 am – 10 am EDT \nThe importance of data is paramount\, not only for promoting innovation\, but also for better policy making and long-term development. Data has become a cornerstone for the digital economy and a strategic asset for promoting the vision of a people-centred and development-oriented ecosystem\, set forth by the World Summit on the Information Society (WSIS). \nIn particular\, data availability and data flows underpin emerging technologies\, such as the internet of things (IoT)\, artificial intelligence (AI)\, 3D printing\, and the connected infrastructure that increasingly allows modern cities to function. \nIn the context of this data-driven economy\, the governance of this key asset should be tackled in a multilayered way. On the one hand\, there is a growing need to harmonise measures put in place at the national level (or ‘behind the border’) that have an impact on data flows and on the development of new technologies. On the other hand\, it is important to tackle the geopolitical consequences of the concentration of key assets (data sets\, cloud services\, analytics capacity) and of wealth in the context of the data economy\, and the potential impact that this concentration could have on development\, stability\, and on attaining the SDGs. \nSome of the topics to be covered by speakers include: \n\nThe geopolitics of data: How are data and data-related assets distributed worldwide? What is the importance of holistic data governance\, especially in the context of emerging technologies?\nEmerging technologies and trade: Can trade agreements facilitate access to the inputs required for the development of emerging technologies\, in particular data? How can they specifically benefit developing countries?\nNon-personal data: Could mechanisms for promoting access to non-personal data and data sharing benefit the ability of developing countries to pursue their digital industrialisation strategies?\nPrivacy in the context of emerging technologies: What are the limitations of data protection frameworks in dealing with emerging technologies (e.g. AI)\, and which mechanisms could be implemented to safeguard the rights of individuals and the social benefits of data?\nInstitutional arrangements: Next year\, the UN Digital Future Summit will take place\, continuing the important efforts condensed in the Roadmap for Digital Cooperation. How to better coordinate data governance within the UN system and with other international organisations close to the UN family? Could the UN provide a space to address data governance in a more holistic and inclusive manner?\n\nJoin us for this opening lecture of Diplo’s Data Governance in the Digital Economy online course. \nRegistrations are open \nRegister×Participants\nOpening remarks: Dr Jovan Kurbalija (Director\, Diplo; Head\, Geneva Internet Platform (GIP)) \nModeration: Ms Marília Maciel (Head\, Digital Commerce and Internet Policy\, Diplo) \nSpeakers: \nMs Pilar Fajarnes Garces (Economic Affairs Officer\, Technology and Logistics Division\, UN Conference on Trade and Development (UNCTAD)) \nMr Luca Belli (Professor\, FGV Law School; Head\, Center for Technology and Society\, FGV; Director\, CyberBRICS) \nMr Hao Liu (Acting Chair\,  School of Global Governance\, Beijing Institute of Technology) \nRegister
URL:https://diplo.us/event/data-governance-in-the-context-of-emerging-technologies-promoting-human-centred-and-development-oriented-societies/
LOCATION:Online
ATTACH;FMTTYPE=image/jpeg:https://diplo.us/wp-content/uploads/2022/01/5d16798f-adbe-423b-a123-317afba70e1e.jpg
END:VEVENT
END:VCALENDAR