BEGIN:VCALENDAR
VERSION:2.0
PRODID:-//Diplo US - ECPv6.15.18//NONSGML v1.0//EN
CALSCALE:GREGORIAN
METHOD:PUBLISH
X-ORIGINAL-URL:https://diplo.us
X-WR-CALDESC:Events for Diplo US
REFRESH-INTERVAL;VALUE=DURATION:PT1H
X-Robots-Tag:noindex
X-PUBLISHED-TTL:PT1H
BEGIN:VTIMEZONE
TZID:America/New_York
BEGIN:DAYLIGHT
TZOFFSETFROM:-0500
TZOFFSETTO:-0400
TZNAME:EDT
DTSTART:20210314T070000
END:DAYLIGHT
BEGIN:STANDARD
TZOFFSETFROM:-0400
TZOFFSETTO:-0500
TZNAME:EST
DTSTART:20211107T060000
END:STANDARD
BEGIN:DAYLIGHT
TZOFFSETFROM:-0500
TZOFFSETTO:-0400
TZNAME:EDT
DTSTART:20220313T070000
END:DAYLIGHT
BEGIN:STANDARD
TZOFFSETFROM:-0400
TZOFFSETTO:-0500
TZNAME:EST
DTSTART:20221106T060000
END:STANDARD
BEGIN:DAYLIGHT
TZOFFSETFROM:-0500
TZOFFSETTO:-0400
TZNAME:EDT
DTSTART:20230312T070000
END:DAYLIGHT
BEGIN:STANDARD
TZOFFSETFROM:-0400
TZOFFSETTO:-0500
TZNAME:EST
DTSTART:20231105T060000
END:STANDARD
END:VTIMEZONE
BEGIN:VEVENT
DTSTART;TZID=America/New_York:20221207T050000
DTEND;TZID=America/New_York:20221207T060000
DTSTAMP:20260423T081811
CREATED:20221212T065817Z
LAST-MODIFIED:20221212T065921Z
UID:1014-1670389200-1670392800@diplo.us
SUMMARY:Book launch: ‘Churchill and India: Manipulation or Betrayal?’ (Kishan S. Rana)
DESCRIPTION:Wednesday\, 7th December\, 5am EST (11:00 CET)\, via Zoom \nAmb. Kishan S. Rana (Honorary Member\, Institute of Chinese Studies\, New Deli; Emeritus Professor\, Diplo) will discuss his new book Churchill and India: Manipulation or Betrayal?\, published by Routledge\, which focuses on the complex relationship between Winston Churchill and India in the context of the later phase of the British Empire. \nFind out more about the book on Routledge’s website. \nThe event will take place via Zoom\, in English. Join the Zoom meeting via: \nhttps://diplomacy.zoom.us/j/99911738297?pwd=d1puaXNqTHZFWXdTZGkvTlFPakdDQT09 \nMeeting ID: 999 1173 8297 \nPassword: 041278 \nJoin the Zoom meeting \nJoin the meeting×
URL:https://diplo.us/event/book-launch-churchill-and-india-manipulation-or-betrayal-kishan-s-rana/
LOCATION:Online
END:VEVENT
END:VCALENDAR