BEGIN:VCALENDAR
VERSION:2.0
PRODID:-//Diplo US - ECPv6.15.18//NONSGML v1.0//EN
CALSCALE:GREGORIAN
METHOD:PUBLISH
X-ORIGINAL-URL:https://diplo.us
X-WR-CALDESC:Events for Diplo US
REFRESH-INTERVAL;VALUE=DURATION:PT1H
X-Robots-Tag:noindex
X-PUBLISHED-TTL:PT1H
BEGIN:VTIMEZONE
TZID:America/New_York
BEGIN:DAYLIGHT
TZOFFSETFROM:-0500
TZOFFSETTO:-0400
TZNAME:EDT
DTSTART:20220313T070000
END:DAYLIGHT
BEGIN:STANDARD
TZOFFSETFROM:-0400
TZOFFSETTO:-0500
TZNAME:EST
DTSTART:20221106T060000
END:STANDARD
BEGIN:DAYLIGHT
TZOFFSETFROM:-0500
TZOFFSETTO:-0400
TZNAME:EDT
DTSTART:20230312T070000
END:DAYLIGHT
BEGIN:STANDARD
TZOFFSETFROM:-0400
TZOFFSETTO:-0500
TZNAME:EST
DTSTART:20231105T060000
END:STANDARD
BEGIN:DAYLIGHT
TZOFFSETFROM:-0500
TZOFFSETTO:-0400
TZNAME:EDT
DTSTART:20240310T070000
END:DAYLIGHT
BEGIN:STANDARD
TZOFFSETFROM:-0400
TZOFFSETTO:-0500
TZNAME:EST
DTSTART:20241103T060000
END:STANDARD
END:VTIMEZONE
BEGIN:VEVENT
DTSTART;TZID=America/New_York:20230112T080000
DTEND;TZID=America/New_York:20230112T090000
DTSTAMP:20260423T070121
CREATED:20230105T175036Z
LAST-MODIFIED:20230105T175118Z
UID:1025-1673510400-1673514000@diplo.us
SUMMARY:Trends and Predictions for 2023
DESCRIPTION:What will 2023 bring for digital geopolitics\, AI\, data\, and cryptocurrencies?\nWill the ‘1998 deal’ on digital government still hold?\nWhat issues will dominate the UN and multilateral agenda in Geneva and beyond? \nAll these\, and numerous other questions that will shape the digital landscape in 2023 will be discussed online on 12th January 2023 (8 am EST/14.00 CET) \nJoin Jovan Kurbalija and his guests during the annual prediction session.\nRegister below and contribute to the discussion. \nRegister
URL:https://diplo.us/event/trends-and-predictions-for-2023/
LOCATION:Online
ATTACH;FMTTYPE=image/webp:https://diplo.us/wp-content/uploads/2023/01/Predictions-2023_2560px_header-banner.webp
END:VEVENT
END:VCALENDAR