BEGIN:VCALENDAR
VERSION:2.0
PRODID:-//Diplo US - ECPv6.15.18//NONSGML v1.0//EN
CALSCALE:GREGORIAN
METHOD:PUBLISH
X-ORIGINAL-URL:https://diplo.us
X-WR-CALDESC:Events for Diplo US
REFRESH-INTERVAL;VALUE=DURATION:PT1H
X-Robots-Tag:noindex
X-PUBLISHED-TTL:PT1H
BEGIN:VTIMEZONE
TZID:America/New_York
BEGIN:DAYLIGHT
TZOFFSETFROM:-0500
TZOFFSETTO:-0400
TZNAME:EDT
DTSTART:20220313T070000
END:DAYLIGHT
BEGIN:STANDARD
TZOFFSETFROM:-0400
TZOFFSETTO:-0500
TZNAME:EST
DTSTART:20221106T060000
END:STANDARD
BEGIN:DAYLIGHT
TZOFFSETFROM:-0500
TZOFFSETTO:-0400
TZNAME:EDT
DTSTART:20230312T070000
END:DAYLIGHT
BEGIN:STANDARD
TZOFFSETFROM:-0400
TZOFFSETTO:-0500
TZNAME:EST
DTSTART:20231105T060000
END:STANDARD
BEGIN:DAYLIGHT
TZOFFSETFROM:-0500
TZOFFSETTO:-0400
TZNAME:EDT
DTSTART:20240310T070000
END:DAYLIGHT
BEGIN:STANDARD
TZOFFSETFROM:-0400
TZOFFSETTO:-0500
TZNAME:EST
DTSTART:20241103T060000
END:STANDARD
END:VTIMEZONE
BEGIN:VEVENT
DTSTART;TZID=America/New_York:20230606T090000
DTEND;TZID=America/New_York:20230606T100000
DTSTAMP:20260423T003922
CREATED:20230606T053921Z
LAST-MODIFIED:20230606T054010Z
UID:1137-1686042000-1686045600@diplo.us
SUMMARY:Why and How Should Countries Engage in Tech Diplomacy? (WebDebate #60)
DESCRIPTION:Event description\nThe practice of tech diplomacy has been on the rise since the appointment of the first tech ambassador in 2017. Tech diplomacy includes new forms of diplomatic representation and new topics on the diplomatic agenda. It also reflects a changing geopolitical environment. \nTech diplomacy has brought about new venues for engagement and the involvement of new actors\, and makes clear that countries and tech companies need to adopt new approaches to current digital policy issues. \nDiploFoundation has published its report on Tech Diplomacy Practice in the San Francisco Bay Area\, which is the most up-to-date mapping of tech diplomacy in the Bay Area. The report looks at specific exchanges between diplomatic representations and tech companies\, and maps the existing benefits and challenges of tech diplomacy. \nIn WebDebate #60\, we will: \n\nHave a close look at the main findings of the report\nHear from various tech diplomacy practitioners from the Bay Area and Global South\nAsk what benefits and challenges countries from the Global South face when aiming to engage in tech diplomacy\nInvestigate the role of tech diplomacy hubs beyond the Bay Area\n\nJoin us for an informed discussion on the emerging practice of tech diplomacy. \nTuesday\, 6 June\, 09:00 EDT (13:00 UTC | 15:00 CEST | 18:30 IST) \nRegistrations are open \nRegister now!×Participants\n\nMs Thato Morokong\, Assistant Director\, Africa Multilateral Cooperation\, Department of Science and Innovation (DSI)\, South Africa\nMs Beatrice Ferrari\, Director\, International Affairs\, Canton of Geneva\nMr Martin Rauchbauer\, Former Austrian Tech Ambassador in Silicon Valley; Founder & Co-Director\, Tech Diplomacy Network\nMs Pavlina Ittelson\, Executive Director\, Diplo US\nMr Yannick Heiniger\, Consulate General of Switzerland in San Francisco\nDr Katharina Höne\, Director of Research\, DiploFoundation (moderator)\n\nThis event is organised in partnership with Swissnex in San Francisco and République et Canton de Genève. \n \n\nAbout our WebDebates\nOur WebDebates on the future of diplomacy are live-streamed on the first Tuesday of every month. They are organised by Diplo within the framework of the International Forum on Diplomatic Training (IFDT). Learn more about our WebDebates series. \nRegister
URL:https://diplo.us/event/why-and-how-should-countries-engage-in-tech-diplomacy-webdebate-60/
LOCATION:Online
ATTACH;FMTTYPE=image/jpeg:https://diplo.us/wp-content/uploads/2022/01/5d16798f-adbe-423b-a123-317afba70e1e.jpg
END:VEVENT
BEGIN:VEVENT
DTSTART;TZID=America/New_York:20230622T180000
DTEND;TZID=America/New_York:20230622T190000
DTSTAMP:20260423T003922
CREATED:20230614T115030Z
LAST-MODIFIED:20230614T115435Z
UID:1143-1687456800-1687460400@diplo.us
SUMMARY:Tech Diplomacy Event – How Governments Engage with the Tech Sector
DESCRIPTION:Event description\nThe practice of digital and tech diplomacy is on the rise. Tech diplomacy requires countries and tech companies to adopt new approaches to current digital policy issues. As a new form of diplomatic representation and an emerging issue on the diplomatic agenda\, new venues and actors need to be engaged. To this end\, Diplo has published the report Tech Diplomacy Practice in the San Francisco Bay Area which examines specific exchanges between diplomatic representations and tech companies\, and maps the existing benefits and challenges. \nThis event aims to broaden the discussion on the practice of tech diplomacy and its place in global digital policy processes\, such as the UN Global Digital Compact. We will compare national approaches\, and discuss the practice from a development and human rights perspective. \nThe presentation of the report starts at 18:00 (local time in Washington\, D.C.) and will be followed by a panel discussion with a Q&A session. We will welcome a variety of stakeholders to represent a wide range of perspectives and allow for a lively exchange throughout the event. \nThis event is organised by the Embassy of Switzerland in the USA in partnership with Diplo. The event will be held in situ only\, and attendance is by invitation. \n\nMore About the Event \nRegister×
URL:https://diplo.us/event/tech-diplomacy-event-how-governments-engage-with-the-tech-sector/
LOCATION:Washington DC\, Washington\, DC\, United States
ATTACH;FMTTYPE=image/webp:https://diplo.us/wp-content/uploads/2023/06/Tech-Diplomacy-Bay-Area_1920x300px.webp
END:VEVENT
BEGIN:VEVENT
DTSTART;TZID=America/New_York:20230626T080000
DTEND;TZID=America/New_York:20230626T093000
DTSTAMP:20260423T003922
CREATED:20230615T081908Z
LAST-MODIFIED:20230615T081908Z
UID:1148-1687766400-1687771800@diplo.us
SUMMARY:Women in Diplomacy – Equal representation: Are we there yet?
DESCRIPTION:Event description\nMonday\, 26 June\, 8am EDT (14:00 CEST) Online \nThe second-ever Women in Diplomacy Day is coming up on 24 June and we’re having an online event the following Monday\, 26 June to use this opportunity to ask some important questions and exchange experiences and ideas. Women (and men) active in various areas of diplomacy and foreign policy will speak about their experiences\, try to answer some difficult questions\, and discuss participants’ questions and comments. \n\nWhat are the key challenges faced by women in diplomatic careers\, and how can we overcome these challenges?\nHow can diplomacy benefit from greater gender diversity and inclusion?\nWhat strategies have successful women in diplomacy and foreign policy employed to navigate the male-dominated landscape?\nWhat initiatives or policies can be implemented to promote equal opportunities for women in diplomatic appointments and leadership positions?\nWhat mentorship and networking opportunities exist for women in diplomacy\, and how can they be expanded or improved?\n\nWomen remain underrepresented in ambassadorship positions across the world. Out of 4\,060 ambassadors currently appointed in 2021 only 842 were women\, according to the AGDA Women in Diplomacy Index. This indicates that the total share of women ambassadors stands at 20.7% for 2021. The data shows that Sweden takes the lead in having appointed the highest share of women ambassadors and permanent representatives in 2021\, with 48.1% of the country’s ambassadorial posts being held by women in 2021\, or 50 women ambassadors out of 104. Canada’s share of women ambassadors stands at a close 46.3% having appointed 44 women ambassadors out of 95 posts. \nRegister×Last year\, the UN adopted the ‘Women in Diplomacy Day’ to be observed on 24 June every year. H.E. Mr. Abdulla Shahid\, President of the 76th session of the UN General Assembly remarked: \n\nWomen working in diplomacy have made critical contributions to shaping the multilateral system we have inherited today. For example\, women diplomats played an essential role in drafting the Universal Declaration of Human Rights\, the first treaty to articulate the fundamental human rights that should be universally protected. \nYet\, despite the evident contributions of women to diplomacy and multilateral decision-making\, they continue to be underrepresented in senior diplomatic positions. And they still suffer the deep-rooted legacies of sexism\, which hinder their professional advancement and obscure their contributions and achievements. \nThese facts underscore the importance of this resolution being adopted. Now we have a day specifically devoted to celebrating women in diplomacy: who have blazed trails; negotiated peace; strengthened international relations; survived hardships and danger; and have facilitated intercultural linkages. With this resolution\, we open the door to discuss the challenges women in diplomacy face. With this celebration of women in diplomacy\, we inspire the next generation. \n\nJoin us on 26 June for an open-ended discussion about women in diplomacy and foreign policy. \n\n\nWe’re offering a 15% discount for the female participants of our event who apply for the upcoming Bilateral Diplomacy\, Diplomatic Law\, and Internet Technology and Policy courses that start in July! \nLearn more about Diplo Academy here. \n\n\nRegistrations are open: \nRegister
URL:https://diplo.us/event/women-in-diplomacy-equal-representation-are-we-there-yet/
LOCATION:Online
ATTACH;FMTTYPE=image/webp:https://diplo.us/wp-content/uploads/2023/03/eventheader.webp
END:VEVENT
END:VCALENDAR