BEGIN:VCALENDAR
VERSION:2.0
PRODID:-//Diplo US - ECPv6.15.18//NONSGML v1.0//EN
CALSCALE:GREGORIAN
METHOD:PUBLISH
X-WR-CALNAME:Diplo US
X-ORIGINAL-URL:https://diplo.us
X-WR-CALDESC:Events for Diplo US
REFRESH-INTERVAL;VALUE=DURATION:PT1H
X-Robots-Tag:noindex
X-PUBLISHED-TTL:PT1H
BEGIN:VTIMEZONE
TZID:America/New_York
BEGIN:DAYLIGHT
TZOFFSETFROM:-0500
TZOFFSETTO:-0400
TZNAME:EDT
DTSTART:20220313T070000
END:DAYLIGHT
BEGIN:STANDARD
TZOFFSETFROM:-0400
TZOFFSETTO:-0500
TZNAME:EST
DTSTART:20221106T060000
END:STANDARD
BEGIN:DAYLIGHT
TZOFFSETFROM:-0500
TZOFFSETTO:-0400
TZNAME:EDT
DTSTART:20230312T070000
END:DAYLIGHT
BEGIN:STANDARD
TZOFFSETFROM:-0400
TZOFFSETTO:-0500
TZNAME:EST
DTSTART:20231105T060000
END:STANDARD
BEGIN:DAYLIGHT
TZOFFSETFROM:-0500
TZOFFSETTO:-0400
TZNAME:EDT
DTSTART:20240310T070000
END:DAYLIGHT
BEGIN:STANDARD
TZOFFSETFROM:-0400
TZOFFSETTO:-0500
TZNAME:EST
DTSTART:20241103T060000
END:STANDARD
END:VTIMEZONE
BEGIN:VEVENT
DTSTART;VALUE=DATE:20231101
DTEND;VALUE=DATE:20231102
DTSTAMP:20260422T174803
CREATED:20231025T102031Z
LAST-MODIFIED:20231025T102525Z
UID:1185-1698796800-1698883199@diplo.us
SUMMARY:Post-IGF briefing
DESCRIPTION:Event description\n \n\n\nPost-IGF briefing for the Permanent Missions in Geneva will be co-organised with the PM of Japan (host of IGF) and IGF Secretariat.
URL:https://diplo.us/event/post-igf-briefing/
END:VEVENT
BEGIN:VEVENT
DTSTART;VALUE=DATE:20231101
DTEND;VALUE=DATE:20231103
DTSTAMP:20260422T174803
CREATED:20231025T102319Z
LAST-MODIFIED:20231025T102345Z
UID:1187-1698796800-1698969599@diplo.us
SUMMARY:2023 Global Cybersecurity Forum
DESCRIPTION:Event description\n\n\n\n\n\nDr Jovan Kurbalija\, Director of DiploFoundation and Head of Geneva Internet Platform will address the 2023 Global Cybersecurity Forum in Riyadh. \nThis year’s forum will be held under the theme ‘Charting Shared Priorities in Cyberspace’ theme\, aiming to advance the global cyber community towards aligning on strategic priorities\, expanding future opportunities\, and deepening multi-stakeholder engagement. \nAmidst increasingly significant global challenges\, ranging from extensive economic instability to geopolitical rivalries\, cyberspace continues to hold substantial significance for businesses and nations. It extends beyond traditional boundaries\, encompassing both physical and abstract dimensions. Considering the ubiquity of this domain\, cybersecurity emerges as a crucial necessity and a substantial prospect for various stakeholders. \nLearn more about 2023 Global Cybersecurity Forum.
URL:https://diplo.us/event/2023-global-cybersecurity-forum/
END:VEVENT
BEGIN:VEVENT
DTSTART;VALUE=DATE:20231103
DTEND;VALUE=DATE:20231105
DTSTAMP:20260422T174803
CREATED:20230926T122219Z
LAST-MODIFIED:20230926T122219Z
UID:1179-1698969600-1699142399@diplo.us
SUMMARY:4th AI Policy summit
DESCRIPTION:Event description\nIn a world shaped every day by technological developments\, it is of utmost importance to discuss what roles these technologies should play in society. \nThe 4th AI Policy Summit continues the multi-stakeholder dialogue with leading experts in exploring the use of public policy and societal engagement to capture the benefits of artificial intelligence\, minimize its risks\, and enhance its adoption. \nThis conference is a unique opportunity for policymakers\, business leaders\, civil society\, and academia to exchange ideas and co-create the future of AI policies. Join us to build AI policy together for a better world! Take advantage of this chance to be at the forefront of shaping the future of AI policies. \nProgramme:  \n03 Nov 2023 – 08:00 – 18:00 (CET) In-Person & Online\n04 Nov 2023 – 09:00 – 14:00 (CET) This day features exclusive\, invitation-only round table discussions \nRegister
URL:https://diplo.us/event/4th-ai-policy-summit/
ATTACH;FMTTYPE=image/png:https://diplo.us/wp-content/uploads/2023/09/AI-Policy-Summit-2023.png
END:VEVENT
BEGIN:VEVENT
DTSTART;VALUE=DATE:20231106
DTEND;VALUE=DATE:20231108
DTSTAMP:20260422T174803
CREATED:20231101T071716Z
LAST-MODIFIED:20231108T081739Z
UID:1217-1699228800-1699401599@diplo.us
SUMMARY:SEEDIG 8
DESCRIPTION:Event description\nThe 8th Annual Meeting of the South Eastern European Dialogue on Internet Governance (SEEDIG) is scheduled to take place on 6-7 November 2023 in Zagreb\, Croatia​. \nUnder the theme ‘Digital Beyond Borders: Regional Synergy for Community Advancement\,’ SEEDIG 8 has chosen this theme to underscore its dedication to fostering community growth and strengthening partnerships across the region. It emphasizes the idea that in our increasingly interconnected digital world\, the boundaries that traditionally defined countries are transcended by opportunities for collaboration and growth. \nThe event will showcase keynote speeches\, panel discussions\, and sessions hosted by various organizations. \nFor more details about the event program and registration\, please visit the official SEEDIG 8 \nwebsite×
URL:https://diplo.us/event/seedig-8/
END:VEVENT
BEGIN:VEVENT
DTSTART;VALUE=DATE:20231109
DTEND;VALUE=DATE:20231110
DTSTAMP:20260422T174803
CREATED:20231025T103130Z
LAST-MODIFIED:20231108T084150Z
UID:1198-1699488000-1699574399@diplo.us
SUMMARY:Principles for our digital future: Simulating the negotiation of a Global Digital Compact
DESCRIPTION:Event description\nOverview \nToday\, digital technologies are all around us\, embedded in our mobile phones\, enhancing industrial processes\, or powering the growth of economies. We talk about digital economies and societies\, digital rights\, digital inequalities\, and so on. Now\, imagine the world 10 or 20 years from now. What would it look like? Will digital technologies help create a better world\, or will they exacerbate inequalities? Digital will surely be part of our future\, but how do we make sure that this will be an ‘open\, free and secure digital future for all’? \nThis last question is now high on the diplomatic agenda: In 2024\, countries are expected to agree on a Global Digital Compact (GDC) outlining principles to guide the development of our digital future. Called for by the UN Secretary-General\, the GDC will cover issues such as connecting the unconnected\, avoiding fragmentation of the internet\, protecting human rights in the digital space\, and promoting a trustworthy internet. \nAgainst this backdrop\, the workshop will focus on one question: What principles for our digital future do we want the GDC to embed? To set the scene\, students will be introduced to the world of digital policy through (a) a brief exploration of the policy implications of digital technologies in areas such as human rights\, economy\, sustainable development\, and safety and security\, and (b) an overview of where and how such issues have been addressed (e.g. international organisations and initiatives\, existing rules and principles\, ongoing processes). Equipped with this information\, students will then put themselves in the shoes of diplomats and simulate the development of the GDC. The end goal? To come up with a brief document outlining a shared vision for the digital future. \nCo-organisers \nFondation Jean Monnet pour l’Europe | DiploFoundation | Geneva Internet Platform \nParticipants \nThe workshop will include 20-25 students selected following a call for expressions of interest. Attention will be given to ensuring that the selected participants come from different backgrounds\, including (but not limited to) digital humanities\, law\, political and social sciences\, and public administration. \nRegistrations are open until 29 October 2023. \nRegister×
URL:https://diplo.us/event/principles-for-our-digital-future-simulating-the-negotiation-of-a-global-digital-compact/
END:VEVENT
BEGIN:VEVENT
DTSTART;VALUE=DATE:20231109
DTEND;VALUE=DATE:20231111
DTSTAMP:20260422T174803
CREATED:20231025T102902Z
LAST-MODIFIED:20231108T182705Z
UID:1195-1699488000-1699660799@diplo.us
SUMMARY:Visit to Nairobi by DiploTeam
DESCRIPTION:Event description\nDiplo’s visit to Kenya encompasses three core objectives: exploring avenues for delivering diplomatic courses\, forging strategic partnerships\, and reinforcing connections with alumni to strengthen the global network. This multifaceted endeavour underscores Diplo’s commitment to shaping the future of international diplomacy and global engagement. \n\nIn Jovan Kurbalija’s tradition of linking AI and digital developments to local dynamics\, he wrote a text on connecting AI developments to Kenya’s bottom-up economy\, calling it Jua Kali AI\, named after Kenya’s informal economy.
URL:https://diplo.us/event/visit-to-nairobi-by-diploteam/
END:VEVENT
BEGIN:VEVENT
DTSTART;VALUE=DATE:20231113
DTEND;VALUE=DATE:20231117
DTSTAMP:20260422T174803
CREATED:20231025T102728Z
LAST-MODIFIED:20231108T183505Z
UID:1193-1699833600-1700179199@diplo.us
SUMMARY:Visit to Addis Ababa by DiploTeam
DESCRIPTION:Event description\nDiploTeam’s visit to Addis Ababa will centre on providing training in digital diplomacy for Ethiopian government officials and engaging in collaborative brainstorming with the African Union Commission.
URL:https://diplo.us/event/visit-to-addis-ababa-by-diploteam/
END:VEVENT
BEGIN:VEVENT
DTSTART;VALUE=DATE:20231121
DTEND;VALUE=DATE:20231122
DTSTAMP:20260422T174803
CREATED:20231025T103227Z
LAST-MODIFIED:20231108T084648Z
UID:1200-1700524800-1700611199@diplo.us
SUMMARY:Policy Meets Tech: Artificial intelligence
DESCRIPTION:Event description\nThe second event in the ‘Policy meets tech’ series will be dedicated to artificial intelligence. It will focus on unpacking AI technology and discussing its policy implications. \nThe series is organised by Diplo\, with the support of the US Permanent Mission to the UN in Geneva\, and is dedicated to permanent missions in Geneva. This programme features a series of informative sessions for diplomats in Geneva\, with the primary goals of demystifying the intricate realm of digital technologies\, comprehending their capabilities and limitations\, and delving into their policy implications in a manner that is both practical and pertinent for diplomats. From the intricacies of internet protocols to the intricacies of quantum computing\, from cryptography to algorithms\, these discussions will provide in-depth insights into the technical underpinnings of these technologies\, their real-world applications\, and the policy opportunities and challenges they present. \nThe event is only open to permanent missions in Geneva. For details\, please contact Ms Sorina Teleanu\, Director of Knoweldge\, at geneva[at]diplomacy[dot].edu.
URL:https://diplo.us/event/policy-meets-tech-artificial-intelligence/
END:VEVENT
END:VCALENDAR