BEGIN:VCALENDAR
VERSION:2.0
PRODID:-//Diplo US - ECPv6.15.18//NONSGML v1.0//EN
CALSCALE:GREGORIAN
METHOD:PUBLISH
X-WR-CALNAME:Diplo US
X-ORIGINAL-URL:https://diplo.us
X-WR-CALDESC:Events for Diplo US
REFRESH-INTERVAL;VALUE=DURATION:PT1H
X-Robots-Tag:noindex
X-PUBLISHED-TTL:PT1H
BEGIN:VTIMEZONE
TZID:America/New_York
BEGIN:DAYLIGHT
TZOFFSETFROM:-0500
TZOFFSETTO:-0400
TZNAME:EDT
DTSTART:20230312T070000
END:DAYLIGHT
BEGIN:STANDARD
TZOFFSETFROM:-0400
TZOFFSETTO:-0500
TZNAME:EST
DTSTART:20231105T060000
END:STANDARD
BEGIN:DAYLIGHT
TZOFFSETFROM:-0500
TZOFFSETTO:-0400
TZNAME:EDT
DTSTART:20240310T070000
END:DAYLIGHT
BEGIN:STANDARD
TZOFFSETFROM:-0400
TZOFFSETTO:-0500
TZNAME:EST
DTSTART:20241103T060000
END:STANDARD
BEGIN:DAYLIGHT
TZOFFSETFROM:-0500
TZOFFSETTO:-0400
TZNAME:EDT
DTSTART:20250309T070000
END:DAYLIGHT
BEGIN:STANDARD
TZOFFSETFROM:-0400
TZOFFSETTO:-0500
TZNAME:EST
DTSTART:20251102T060000
END:STANDARD
END:VTIMEZONE
BEGIN:VEVENT
DTSTART;VALUE=DATE:20240129
DTEND;VALUE=DATE:20240210
DTSTAMP:20260422T134849
CREATED:20240129T125205Z
LAST-MODIFIED:20240131T074804Z
UID:1264-1706486400-1707523199@diplo.us
SUMMARY:Concluding session of the UN Cybercrime Ad Hoc Committee on Cybercrime
DESCRIPTION:Event description\nThe UN Cybercrime Ad Hoc Committee on Cybercrime will hold its concluding session from 29 January to 9 February 2024 in New York\, the United States of America. \nThe Ad Hoc Committee has been tasked to elaborate a comprehensive international convention on countering the misuse of information and communications technologies for criminal purposes. In order to fulfil its mandate\, the committee will hold six sessions from August 2021 to the end of June 2024 and the concluding session in 2024; the committee’s work will be concluded once it presents a draft convention to the General Assembly at its seventy-eighth session in September 2024. \nFor more information about the event\, and what to expect please visit the Digital Watch Observatory
URL:https://diplo.us/event/concluding-session-of-the-un-cybercrime-ad-hoc-committee-on-cybercrime/
LOCATION:United Nations\, 760 United Nations Plaza\, New York\, NY\, 10017-6818\, United States
END:VEVENT
BEGIN:VEVENT
DTSTART;VALUE=DATE:20240129
DTEND;VALUE=DATE:20240213
DTSTAMP:20260422T134849
CREATED:20240129T125552Z
LAST-MODIFIED:20240131T074932Z
UID:1266-1706486400-1707782399@diplo.us
SUMMARY:2024 Master/PGD in Contemporary Diplomacy workshop
DESCRIPTION:Event description\nDiplo and the University of Malta will host a two-week introductory workshop for the 2024 Master/Postgraduate Diploma in Contemporary Diplomacy\, starting on 29 January 2024. \nThe workshop includes a range of diplomacy-related sessions delivered by experienced practitioners. Topics included in this year’s workshop: \n\nGeopolitics\, international order\, and foreign policy\nThe future of multilateralism\nNegotiation skills\nPower in humanitarian action\nPresentation skills\nBuilding relations\nGoverning AI\nCybersecurity diplomacy\nTech diplomacy\nResearch methods and academic writing\n\nThe introductory workshop focuses on building skills for various policy and diplomacy processes. It sets the stage for the entire programme in which the participants will get to know other course participants and faculty members\, providing a new professional network that will be of high value for their current and future work.
URL:https://diplo.us/event/2024-master-pgd-in-contemporary-diplomacy-workshop/
LOCATION:Online
END:VEVENT
BEGIN:VEVENT
DTSTART;TZID=America/New_York:20240201T090000
DTEND;TZID=America/New_York:20240201T130000
DTSTAMP:20260422T134849
CREATED:20240129T131230Z
LAST-MODIFIED:20240131T083204Z
UID:1269-1706778000-1706792400@diplo.us
SUMMARY:9th Geneva Engage Awards
DESCRIPTION:Event description\nThe Geneva Engage initiative\, launched by the Geneva Internet Platform (GIP) with the support of the Republic and Canton of Geneva in 2016\, assesses the interplay between International Geneva and stakeholders worldwide. The initiative includes research on how International Geneva actors communicate and create linkages with communities worldwide that are affected by the policy discussions in Geneva that span across various domains\, such as development\, human rights\, digital topics\, etc. \nIn this context\, the annual Geneva Engage Awards acknowledge the efforts of actors in International Geneva in digital outreach. The awards evaluate Geneva-based organisations’ social media engagement\, web relevance and accessibility\, and online meetings. We then give out awards in three main categories according to stakeholder groups: international organisations\, non-governmental organisations\, and permanent representations. \nA moment of change\nIn addition to the main categories\, we have special awards that recognise innovative ways actors can create meaningful engagement while adapting to the ever-changing digital ecosystem. \nIn 2020\, ahead of the COVID-induced remote working\, we foresaw the value of online conferencing and introduced the new Online Participation Award (now called Effective and Innovative Online Meeting Award). In 2022\, we recognised the importance of curating a more inclusive experience for all and introduced the Accessibility Award. \nThis year\, we aim to take a step back and reflect on what it means to create meaningful engagement. In this light\, this year’s event involves new activities to encourage brainstorming discussions and innovations. \nRegistrations are open \nRegister×Event programme\nBefore the award ceremony\, we invite participants to join us in situ and talk to our experts during interactive workshops. We aim to encourage discussions on practices that induce meaningful engagement. \n\nWorkshops (only in-situ)\n\n\n\n\n9:00 – 9:30\nWeb: accessibility\, visibility\, tools and practices\n\n\n9:30 – 10:00\nSocial media: trends\, strategies\, and practices\n\n\n10:00 – 10:30\nEvents and conferences: meeting platforms and AI reporting\n\n\n10:30 – 11:00\nCoffee and networking\n\n\n\n\n\nGeneva Awards Ceremony (in-situ and live streaming available)\n\n\n\n\n11:00 – 11:30\nPresentation of 9th Geneva Engage Awards\n\n\n11.30 – 13.00\nGeneva Engage Reception and Ideas Bazaar\n\n\n\n\nRegisterRegistration for in-situ participation is available here and will be closed on Tuesday 30 January 2024\, at 23:59 CET. \nTo learn more and register to join us in-situ\, visit the dedicated page.
URL:https://diplo.us/event/9th-geneva-engage-awards/
LOCATION:Geneva and online\, Geneva\, Switzerland
ATTACH;FMTTYPE=image/jpeg:https://diplo.us/wp-content/uploads/2024/01/Geneva-Engage-banner_2560x400px.jpg
END:VEVENT
BEGIN:VEVENT
DTSTART;VALUE=DATE:20240209
DTEND;VALUE=DATE:20240210
DTSTAMP:20260422T134849
CREATED:20240207T084832Z
LAST-MODIFIED:20240207T084832Z
UID:1312-1707436800-1707523199@diplo.us
SUMMARY:Learning sessions on digital standards
DESCRIPTION:Event description\nDiplo was invited to deliver two learning sessions\, one of digital standards and one on AI tools for policymaking\, for the India-based IT for Change organisations and its community of researchers. \nThe sessions will be delivered by Sorina Teleanu (Director of Knowledge)\, on 9 and 26 February.
URL:https://diplo.us/event/learning-sessions-on-digital-standards/
END:VEVENT
BEGIN:VEVENT
DTSTART;VALUE=DATE:20240213
DTEND;VALUE=DATE:20240214
DTSTAMP:20260422T134849
CREATED:20240129T132456Z
LAST-MODIFIED:20240131T084359Z
UID:1275-1707782400-1707868799@diplo.us
SUMMARY:Policy meets tech: Augmented and Virtual reality
DESCRIPTION:Event description\nThe fourts event in the ‘Policy meets tech’ series will be dedicated to augmented and virtual reality. It will focus on unpacking the technology and discussing its policy implications. \nThe series is organised by Diplo\, with the support of the US Permanent Mission to the UN in Geneva\, and is dedicated to missions of small and developing countries in Geneva. This programme features a series of informative sessions for diplomats in Geneva\, with the primary goals of demystifying the intricate realm of digital technologies\, comprehending their capabilities and limitations\, and delving into their policy implications in a manner that is both practical and pertinent for diplomats. From the intricacies of internet protocols to the intricacies of quantum computing\, from cryptography to algorithms\, these discussions will provide in-depth insights into the technical underpinnings of these technologies\, their real-world applications\, and the policy opportunities and challenges they present. \nFor details\, please contact Ms Sorina Teleanu\, Director of Knoweldge\, at geneva@diplomacy.edu.
URL:https://diplo.us/event/policy-meets-tech-augmented-and-virtual-reality/
LOCATION:Geneva\, Geneva\, Switzerland
ATTACH;FMTTYPE=image/jpeg:https://diplo.us/wp-content/uploads/2023/10/Policy-meets-tech_promo-banner-2560x400-1.jpg
END:VEVENT
BEGIN:VEVENT
DTSTART;TZID=America/New_York:20240215T080000
DTEND;TZID=America/New_York:20240215T090000
DTSTAMP:20260422T134849
CREATED:20240213T093714Z
LAST-MODIFIED:20240213T093714Z
UID:1319-1707984000-1707987600@diplo.us
SUMMARY:Open Consultations Final Brief on the WSIS+20 Forum High-Level Event
DESCRIPTION:Event description\nThe WSIS+20 Forum High-Level Event\, co-organized by ITU\, UNESCO\, UNDP and UNCTAD and co-hosted by ITU and the Swiss Confederation\, will serve as a platform to review the progress\, achievements\, challenges\, and opportunities of the WSIS follow-up process since the two phases of the Summit – Geneva in 2003 and Tunis in 2005. \nThe event will take place from 27 to 31 May 2024 in Geneva\, Switzerland. The Open Consultation Process is an open and inclusive consultation with WSIS stakeholders to prepare for the event\, including developing the event programme\, identifying gaps in the implementation of the Geneva Plan of Action and the WSIS Action Lines\, and contributing to the WSIS+20 review process. \nAll stakeholders are encouraged to actively engage in the Open Consultation Process (OCP) by participating in consultative meetings and submitting input through the official submission form \nRegister
URL:https://diplo.us/event/open-consultations-final-brief-on-the-wsis20-forum-high-level-event/
LOCATION:Online
END:VEVENT
END:VCALENDAR