BEGIN:VCALENDAR
VERSION:2.0
PRODID:-//Diplo US - ECPv6.15.18//NONSGML v1.0//EN
CALSCALE:GREGORIAN
METHOD:PUBLISH
X-ORIGINAL-URL:https://diplo.us
X-WR-CALDESC:Events for Diplo US
REFRESH-INTERVAL;VALUE=DURATION:PT1H
X-Robots-Tag:noindex
X-PUBLISHED-TTL:PT1H
BEGIN:VTIMEZONE
TZID:America/New_York
BEGIN:DAYLIGHT
TZOFFSETFROM:-0500
TZOFFSETTO:-0400
TZNAME:EDT
DTSTART:20230312T070000
END:DAYLIGHT
BEGIN:STANDARD
TZOFFSETFROM:-0400
TZOFFSETTO:-0500
TZNAME:EST
DTSTART:20231105T060000
END:STANDARD
BEGIN:DAYLIGHT
TZOFFSETFROM:-0500
TZOFFSETTO:-0400
TZNAME:EDT
DTSTART:20240310T070000
END:DAYLIGHT
BEGIN:STANDARD
TZOFFSETFROM:-0400
TZOFFSETTO:-0500
TZNAME:EST
DTSTART:20241103T060000
END:STANDARD
BEGIN:DAYLIGHT
TZOFFSETFROM:-0500
TZOFFSETTO:-0400
TZNAME:EDT
DTSTART:20250309T070000
END:DAYLIGHT
BEGIN:STANDARD
TZOFFSETFROM:-0400
TZOFFSETTO:-0500
TZNAME:EST
DTSTART:20251102T060000
END:STANDARD
END:VTIMEZONE
BEGIN:VEVENT
DTSTART;VALUE=DATE:20240506
DTEND;VALUE=DATE:20240507
DTSTAMP:20260422T094645
CREATED:20240408T192739Z
LAST-MODIFIED:20240408T192739Z
UID:1342-1714953600-1715039999@diplo.us
SUMMARY:May 2024 online courses | Diplo Academy
DESCRIPTION:Event description\nDiplo Academy is excited to announce the start of four online courses on 6 May 2024: \n\n21st Century Diplomacy\nDiplomatic Theory and Practice\nE-Diplomacy\nTech Diplomacy\n\nFor further information or to apply\, please click on the course titles above or visit our \nCourse Catalogue×Subscribe to Diplo Academy Newsletter for updates on our courses\, programmes\, and workshops.
URL:https://diplo.us/event/may-2024-online-courses-diplo-academy/
LOCATION:Online
ATTACH;FMTTYPE=image/jpeg:https://diplo.us/wp-content/uploads/2024/04/Diplo-Academy-header-banner-1920x300-1.jpg
END:VEVENT
BEGIN:VEVENT
DTSTART;VALUE=DATE:20240521
DTEND;VALUE=DATE:20240522
DTSTAMP:20260422T094645
CREATED:20240520T204550Z
LAST-MODIFIED:20240520T204617Z
UID:1358-1716249600-1716335999@diplo.us
SUMMARY:Ministry of Foreign Affairs of Kuwait and Diplo forge strategic partnership
DESCRIPTION:Event description\nKuwait City\, Kuwait — 21 May 2024 \nHis Excellency Ambassador Nasser S. Al-Sabeeh\, Assistant Foreign Minister for the Saud N. Al-Sabah Kuwait Diplomatic Institute\, and Dr Jovan Kurbalija\, Director of DiploFoundation\, will sign a Memorandum of Understanding. This agreement signifies a key partnership between the two institutions aimed at advancing capacity development frameworks and activities. \nThis formalised strategic partnership between the Ministry of Foreign Affairs of the State of Kuwait and Diplo follows the first executive training on diplomatic negotiations and AI in diplomacy conducted for Kuwaiti diplomats in April this year. \nThe MoU sets forth specific objectives to enhance the competencies of diplomats within the Ministry of Foreign Affairs\, focusing on capacity development and knowledge sharing. It highlights a joint commitment to education and the enhancement of diplomatic skills\, with a focus on the responsible use of AI technology in policy development and diplomatic practices. The partnership leverages existing resources and facilities for mutual benefit\, emphasising global digital policy discussions and the smart application of AI in diplomacy.
URL:https://diplo.us/event/ministry-of-foreign-affairs-of-kuwait-and-diplo-forge-strategic-partnership/
LOCATION:Kuwait City\, Kuwait\, Kuwait
END:VEVENT
BEGIN:VEVENT
DTSTART;VALUE=DATE:20240527
DTEND;VALUE=DATE:20240601
DTSTAMP:20260422T094645
CREATED:20240130T132020Z
LAST-MODIFIED:20240131T083813Z
UID:1283-1716768000-1717199999@diplo.us
SUMMARY:World Summit on the Information Society (WSIS+20) Forum High-Level Event
DESCRIPTION:Event description\nThe WSIS+20 Forum High-Level Event is scheduled to be held from 27 to 31 May 2024\, co-organised by ITU\, UNESCO\, UNDP and UNCTAD and co-hosted by ITU and the Swiss Confederation\, with the support of remote participation. The event will serve as a platform for the WSIS+20 review to provide an opportunity for information exchange\, knowledge creation\, and sharing of best practices while identifying emerging trends and fostering partnerships\, taking into account the evolving information and knowledge societies. \nAll stakeholders are invited to participate and contribute actively to the WSIS+20 Forum High-Level Event and its upcoming open consultation process. The Open Consultation Process is an open and inclusive consultation with WSIS stakeholders to prepare for the event\, including developing the event programme\, identifying gaps in the implementation of the Geneva Plan of Action and the WSIS Action Lines\, and contributing to the WSIS+20 review process. \nFor more information about the event\, please visit the dedicated web page.
URL:https://diplo.us/event/world-summit-on-the-information-society-wsis20-forum-high-level-event/
LOCATION:Geneva and online\, Geneva\, Switzerland
ATTACH;FMTTYPE=image/png:https://diplo.us/wp-content/uploads/2024/01/wsis-20-forum.png
END:VEVENT
BEGIN:VEVENT
DTSTART;VALUE=DATE:20240530
DTEND;VALUE=DATE:20240601
DTSTAMP:20260422T094645
CREATED:20240131T065601Z
LAST-MODIFIED:20240131T070040Z
UID:1288-1717027200-1717199999@diplo.us
SUMMARY:AI for Good Global Summit
DESCRIPTION:Event description\nThe AI for Good Global Summit will take place on May 30-31\, 2024\, in Geneva\, Switzerland. The AI for Good Global Summit is the main event of the AI for Good platform organised by ITU in partnership with 40 UN Sister Agencies and co-convened with Switzerland. The summit aims to Identify practical applications of AI to advance the SDGs and scale those solutions for global impact. \nThe AI for Good Global Summit is designed to feature several interactive stages where the visitor can learn\, build and connect. Stages will feature keynote speakers\, cutting-edge AI solutions\, pitching sessions\, and performances by AI-inspired artists. \nAI for Good is a year-round digital platform with weekly sessions where relevant stakeholders learn\, build and connect to help identify practical AI solutions to advance the UN SDGs and other global development priorities. The platform aims to encourage cooperative efforts to assure reliable\, secure\, and inclusive AI technology development and equal access to its advantages. \nPlease visit the dedicated page for more information about the AI for Good platform and the upcoming sessions.
URL:https://diplo.us/event/ai-for-good-global-summit/
LOCATION:Online
END:VEVENT
END:VCALENDAR