BEGIN:VCALENDAR
VERSION:2.0
PRODID:-//Diplo US - ECPv6.15.20//NONSGML v1.0//EN
CALSCALE:GREGORIAN
METHOD:PUBLISH
X-ORIGINAL-URL:https://diplo.us
X-WR-CALDESC:Events for Diplo US
REFRESH-INTERVAL;VALUE=DURATION:PT1H
X-Robots-Tag:noindex
X-PUBLISHED-TTL:PT1H
BEGIN:VTIMEZONE
TZID:America/New_York
BEGIN:DAYLIGHT
TZOFFSETFROM:-0500
TZOFFSETTO:-0400
TZNAME:EDT
DTSTART:20200308T070000
END:DAYLIGHT
BEGIN:STANDARD
TZOFFSETFROM:-0400
TZOFFSETTO:-0500
TZNAME:EST
DTSTART:20201101T060000
END:STANDARD
BEGIN:DAYLIGHT
TZOFFSETFROM:-0500
TZOFFSETTO:-0400
TZNAME:EDT
DTSTART:20210314T070000
END:DAYLIGHT
BEGIN:STANDARD
TZOFFSETFROM:-0400
TZOFFSETTO:-0500
TZNAME:EST
DTSTART:20211107T060000
END:STANDARD
BEGIN:DAYLIGHT
TZOFFSETFROM:-0500
TZOFFSETTO:-0400
TZNAME:EDT
DTSTART:20220313T070000
END:DAYLIGHT
BEGIN:STANDARD
TZOFFSETFROM:-0400
TZOFFSETTO:-0500
TZNAME:EST
DTSTART:20221106T060000
END:STANDARD
END:VTIMEZONE
BEGIN:VEVENT
DTSTART;TZID=America/New_York:20210302T080000
DTEND;TZID=America/New_York:20210302T103000
DTSTAMP:20260424T205913
CREATED:20210205T190838Z
LAST-MODIFIED:20210218T105345Z
UID:761-1614672000-1614681000@diplo.us
SUMMARY:2021: The emergence of digital foreign policy
DESCRIPTION:All countries\, albeit with differences in emphasis depending on their circumstances and capabilities\, recognise that digitisation plays a role in foreign policy. In the age of digitisation\, diplomacy is shifting and adapting. Some countries have launched comprehensive digital foreign policy strategies\, others have instantiated dedicated positions such as cyber ambassadors or tech envoys. With existing developments coming to fruition and new developments taking shape\, we believe that 2021 is the year where we will see digital foreign policy emerge fully. \nJoin us on Tuesday\, 2nd March\, at 8am – 10:30am EST (14:00–16:30 CET) \nRegistrations are open \nRegister×During this event\, we want to assess the current situation\, share lessons learned\, and enter into a discussion with practitioners. We will bring together high-level practitioners and expert researchers to unpack the emergence of digital foreign policy. \nWe have three aims in particular: \n\nMapping: What is the current situation regarding countries’ digital foreign policy strategies? What other documents are particularly relevant and what are the different approaches taken by countries?\nAnalysing: What shape do digital foreign policy strategies take? What is the institutional setting supporting them?\nIndicating best practices: What can we learn from these strategies and the approaches of various countries regarding their digital foreign policy? What advice can we give to countries seeking to develop such strategies and implementing their digital foreign policies?\n\nIn preparation for the event\, please consult our resources: \n\nAn in-depth analysis of the topic by Dr Jovan Kurbalija: ‘2021: The emergence of digital foreign policy’\nOur dedicated Digital Foreign Policy page which contains the mapping of existing foreign policy strategies\n\nThe event will be opened by: \n\nFederal Councillor Mr Ignazio Cassis\, Head of the Federal Department of Foreign Affairs\, Switzerland\nMr Houlin Zhao\, Secretary General\, International Telecommunication Union (ITU)\n\nConfirmed speakers include: \n\nAmb. Mohamed Edrees\, Ambassador Extraordinary and Plenipotentiary\, Permanent Representative of Egypt to the UN in New York\nDr Jon Fanzun\, Special Envoy for Cyber Foreign and Security Policy\, Switzerland\nAmb. Tobias Feakin\, Ambassador for Cyber Affairs and Critical Technology\, Australia\nAmb. Nathalie Jaarsma\, Ambassador-at-Large for Security Policy and Cyber\, Netherlands\nMr Chris Painter\, President of the GFCE Foundation and former Coordinator for Cyber Issues\, US Department of State\nAmb. Tadej Rupel\, National Coordinator for External Aspects of Digitalization\, AI & Cyber Security\, Ministry of Foreign Affairs\, Slovenia\nAmb. Thomas Schneider\, Ambassador and Director of International Affairs at the Swiss Federal Office of Communications (OFCOM)\n\nMore information on speakers and the conference programme to follow shortly. \nRegister
URL:https://diplo.us/event/2021-the-emergence-of-digital-foreign-policy/
LOCATION:Online
END:VEVENT
END:VCALENDAR